BEGIN:VCALENDAR
VERSION:2.0
PRODID:-//Christian Science in Washington State - ECPv6.15.20//NONSGML v1.0//EN
CALSCALE:GREGORIAN
METHOD:PUBLISH
X-WR-CALNAME:Christian Science in Washington State
X-ORIGINAL-URL:https://christiansciencewa.org
X-WR-CALDESC:Events for Christian Science in Washington State
REFRESH-INTERVAL;VALUE=DURATION:PT1H
X-Robots-Tag:noindex
X-PUBLISHED-TTL:PT1H
BEGIN:VTIMEZONE
TZID:America/Los_Angeles
BEGIN:DAYLIGHT
TZOFFSETFROM:-0800
TZOFFSETTO:-0700
TZNAME:PDT
DTSTART:20260308T100000
END:DAYLIGHT
BEGIN:STANDARD
TZOFFSETFROM:-0700
TZOFFSETTO:-0800
TZNAME:PST
DTSTART:20261101T090000
END:STANDARD
BEGIN:DAYLIGHT
TZOFFSETFROM:-0800
TZOFFSETTO:-0700
TZNAME:PDT
DTSTART:20270314T100000
END:DAYLIGHT
BEGIN:STANDARD
TZOFFSETFROM:-0700
TZOFFSETTO:-0800
TZNAME:PST
DTSTART:20271107T090000
END:STANDARD
BEGIN:DAYLIGHT
TZOFFSETFROM:-0800
TZOFFSETTO:-0700
TZNAME:PDT
DTSTART:20280312T100000
END:DAYLIGHT
BEGIN:STANDARD
TZOFFSETFROM:-0700
TZOFFSETTO:-0800
TZNAME:PST
DTSTART:20281105T090000
END:STANDARD
END:VTIMEZONE
BEGIN:VEVENT
DTSTART;TZID=America/Los_Angeles:20270627T093000
DTEND;TZID=America/Los_Angeles:20270627T113000
DTSTAMP:20260421T165615
CREATED:20230331T184806Z
LAST-MODIFIED:20230331T184845Z
UID:10000767-1814088600-1814095800@christiansciencewa.org
SUMMARY:Church Services
DESCRIPTION:The Christian Science branch churches in Washington all provide regular Sunday Services and Sunday School. Service times may vary across the state\, so check our church directory to find the start time of the service you’d like to attend.
URL:https://christiansciencewa.org/event/church-services/2027-06-27/
CATEGORIES:Community Events
ATTACH;FMTTYPE=image/jpeg:https://christiansciencewa.org/wp-content/uploads/2022/11/bellvue-church-interior.jpg
END:VEVENT
BEGIN:VEVENT
DTSTART;TZID=America/Los_Angeles:20270630T193000
DTEND;TZID=America/Los_Angeles:20270630T203000
DTSTAMP:20260421T165615
CREATED:20230331T184201Z
LAST-MODIFIED:20230331T185039Z
UID:10000503-1814383800-1814387400@christiansciencewa.org
SUMMARY:Wednesday Testimony Meetings
DESCRIPTION:At the Wednesday meeting\, the service begins with inspiring readings from the Bible and Science and Health. Then\, members and visitors voluntarily share gratitude and testimonies of healing they’ve had as a result of using Christian Science. \nWednesday Testimony Meetings are open to everyone! Generally\, they are held on Wednesday evenings at 7:00 or 7:30 pm\, but each church in Washington state may have a different time. Check our church directory for the specific church you’re looking to attend.
URL:https://christiansciencewa.org/event/wednesday-testimony-meetings/2027-06-30/
CATEGORIES:Community Events
ATTACH;FMTTYPE=image/jpeg:https://christiansciencewa.org/wp-content/uploads/2022/11/third-church-seattle-e1669752752436.jpg
END:VEVENT
BEGIN:VEVENT
DTSTART;TZID=America/Los_Angeles:20270704T093000
DTEND;TZID=America/Los_Angeles:20270704T113000
DTSTAMP:20260421T165615
CREATED:20230331T184806Z
LAST-MODIFIED:20230331T184845Z
UID:10000768-1814693400-1814700600@christiansciencewa.org
SUMMARY:Church Services
DESCRIPTION:The Christian Science branch churches in Washington all provide regular Sunday Services and Sunday School. Service times may vary across the state\, so check our church directory to find the start time of the service you’d like to attend.
URL:https://christiansciencewa.org/event/church-services/2027-07-04/
CATEGORIES:Community Events
ATTACH;FMTTYPE=image/jpeg:https://christiansciencewa.org/wp-content/uploads/2022/11/bellvue-church-interior.jpg
END:VEVENT
BEGIN:VEVENT
DTSTART;TZID=America/Los_Angeles:20270707T193000
DTEND;TZID=America/Los_Angeles:20270707T203000
DTSTAMP:20260421T165615
CREATED:20230331T184201Z
LAST-MODIFIED:20230331T185039Z
UID:10000504-1814988600-1814992200@christiansciencewa.org
SUMMARY:Wednesday Testimony Meetings
DESCRIPTION:At the Wednesday meeting\, the service begins with inspiring readings from the Bible and Science and Health. Then\, members and visitors voluntarily share gratitude and testimonies of healing they’ve had as a result of using Christian Science. \nWednesday Testimony Meetings are open to everyone! Generally\, they are held on Wednesday evenings at 7:00 or 7:30 pm\, but each church in Washington state may have a different time. Check our church directory for the specific church you’re looking to attend.
URL:https://christiansciencewa.org/event/wednesday-testimony-meetings/2027-07-07/
CATEGORIES:Community Events
ATTACH;FMTTYPE=image/jpeg:https://christiansciencewa.org/wp-content/uploads/2022/11/third-church-seattle-e1669752752436.jpg
END:VEVENT
BEGIN:VEVENT
DTSTART;TZID=America/Los_Angeles:20270711T093000
DTEND;TZID=America/Los_Angeles:20270711T113000
DTSTAMP:20260421T165615
CREATED:20230331T184806Z
LAST-MODIFIED:20230331T184845Z
UID:10000769-1815298200-1815305400@christiansciencewa.org
SUMMARY:Church Services
DESCRIPTION:The Christian Science branch churches in Washington all provide regular Sunday Services and Sunday School. Service times may vary across the state\, so check our church directory to find the start time of the service you’d like to attend.
URL:https://christiansciencewa.org/event/church-services/2027-07-11/
CATEGORIES:Community Events
ATTACH;FMTTYPE=image/jpeg:https://christiansciencewa.org/wp-content/uploads/2022/11/bellvue-church-interior.jpg
END:VEVENT
BEGIN:VEVENT
DTSTART;TZID=America/Los_Angeles:20270714T193000
DTEND;TZID=America/Los_Angeles:20270714T203000
DTSTAMP:20260421T165615
CREATED:20230331T184201Z
LAST-MODIFIED:20230331T185039Z
UID:10000505-1815593400-1815597000@christiansciencewa.org
SUMMARY:Wednesday Testimony Meetings
DESCRIPTION:At the Wednesday meeting\, the service begins with inspiring readings from the Bible and Science and Health. Then\, members and visitors voluntarily share gratitude and testimonies of healing they’ve had as a result of using Christian Science. \nWednesday Testimony Meetings are open to everyone! Generally\, they are held on Wednesday evenings at 7:00 or 7:30 pm\, but each church in Washington state may have a different time. Check our church directory for the specific church you’re looking to attend.
URL:https://christiansciencewa.org/event/wednesday-testimony-meetings/2027-07-14/
CATEGORIES:Community Events
ATTACH;FMTTYPE=image/jpeg:https://christiansciencewa.org/wp-content/uploads/2022/11/third-church-seattle-e1669752752436.jpg
END:VEVENT
BEGIN:VEVENT
DTSTART;TZID=America/Los_Angeles:20270718T093000
DTEND;TZID=America/Los_Angeles:20270718T113000
DTSTAMP:20260421T165615
CREATED:20230331T184806Z
LAST-MODIFIED:20230331T184845Z
UID:10000770-1815903000-1815910200@christiansciencewa.org
SUMMARY:Church Services
DESCRIPTION:The Christian Science branch churches in Washington all provide regular Sunday Services and Sunday School. Service times may vary across the state\, so check our church directory to find the start time of the service you’d like to attend.
URL:https://christiansciencewa.org/event/church-services/2027-07-18/
CATEGORIES:Community Events
ATTACH;FMTTYPE=image/jpeg:https://christiansciencewa.org/wp-content/uploads/2022/11/bellvue-church-interior.jpg
END:VEVENT
BEGIN:VEVENT
DTSTART;TZID=America/Los_Angeles:20270721T193000
DTEND;TZID=America/Los_Angeles:20270721T203000
DTSTAMP:20260421T165615
CREATED:20230331T184201Z
LAST-MODIFIED:20230331T185039Z
UID:10000506-1816198200-1816201800@christiansciencewa.org
SUMMARY:Wednesday Testimony Meetings
DESCRIPTION:At the Wednesday meeting\, the service begins with inspiring readings from the Bible and Science and Health. Then\, members and visitors voluntarily share gratitude and testimonies of healing they’ve had as a result of using Christian Science. \nWednesday Testimony Meetings are open to everyone! Generally\, they are held on Wednesday evenings at 7:00 or 7:30 pm\, but each church in Washington state may have a different time. Check our church directory for the specific church you’re looking to attend.
URL:https://christiansciencewa.org/event/wednesday-testimony-meetings/2027-07-21/
CATEGORIES:Community Events
ATTACH;FMTTYPE=image/jpeg:https://christiansciencewa.org/wp-content/uploads/2022/11/third-church-seattle-e1669752752436.jpg
END:VEVENT
BEGIN:VEVENT
DTSTART;TZID=America/Los_Angeles:20270725T093000
DTEND;TZID=America/Los_Angeles:20270725T113000
DTSTAMP:20260421T165615
CREATED:20230331T184806Z
LAST-MODIFIED:20230331T184845Z
UID:10000771-1816507800-1816515000@christiansciencewa.org
SUMMARY:Church Services
DESCRIPTION:The Christian Science branch churches in Washington all provide regular Sunday Services and Sunday School. Service times may vary across the state\, so check our church directory to find the start time of the service you’d like to attend.
URL:https://christiansciencewa.org/event/church-services/2027-07-25/
CATEGORIES:Community Events
ATTACH;FMTTYPE=image/jpeg:https://christiansciencewa.org/wp-content/uploads/2022/11/bellvue-church-interior.jpg
END:VEVENT
BEGIN:VEVENT
DTSTART;TZID=America/Los_Angeles:20270728T193000
DTEND;TZID=America/Los_Angeles:20270728T203000
DTSTAMP:20260421T165615
CREATED:20230331T184201Z
LAST-MODIFIED:20230331T185039Z
UID:10000507-1816803000-1816806600@christiansciencewa.org
SUMMARY:Wednesday Testimony Meetings
DESCRIPTION:At the Wednesday meeting\, the service begins with inspiring readings from the Bible and Science and Health. Then\, members and visitors voluntarily share gratitude and testimonies of healing they’ve had as a result of using Christian Science. \nWednesday Testimony Meetings are open to everyone! Generally\, they are held on Wednesday evenings at 7:00 or 7:30 pm\, but each church in Washington state may have a different time. Check our church directory for the specific church you’re looking to attend.
URL:https://christiansciencewa.org/event/wednesday-testimony-meetings/2027-07-28/
CATEGORIES:Community Events
ATTACH;FMTTYPE=image/jpeg:https://christiansciencewa.org/wp-content/uploads/2022/11/third-church-seattle-e1669752752436.jpg
END:VEVENT
BEGIN:VEVENT
DTSTART;TZID=America/Los_Angeles:20270801T093000
DTEND;TZID=America/Los_Angeles:20270801T113000
DTSTAMP:20260421T165615
CREATED:20230331T184806Z
LAST-MODIFIED:20230331T184845Z
UID:10000772-1817112600-1817119800@christiansciencewa.org
SUMMARY:Church Services
DESCRIPTION:The Christian Science branch churches in Washington all provide regular Sunday Services and Sunday School. Service times may vary across the state\, so check our church directory to find the start time of the service you’d like to attend.
URL:https://christiansciencewa.org/event/church-services/2027-08-01/
CATEGORIES:Community Events
ATTACH;FMTTYPE=image/jpeg:https://christiansciencewa.org/wp-content/uploads/2022/11/bellvue-church-interior.jpg
END:VEVENT
BEGIN:VEVENT
DTSTART;TZID=America/Los_Angeles:20270804T193000
DTEND;TZID=America/Los_Angeles:20270804T203000
DTSTAMP:20260421T165615
CREATED:20230331T184201Z
LAST-MODIFIED:20230331T185039Z
UID:10000508-1817407800-1817411400@christiansciencewa.org
SUMMARY:Wednesday Testimony Meetings
DESCRIPTION:At the Wednesday meeting\, the service begins with inspiring readings from the Bible and Science and Health. Then\, members and visitors voluntarily share gratitude and testimonies of healing they’ve had as a result of using Christian Science. \nWednesday Testimony Meetings are open to everyone! Generally\, they are held on Wednesday evenings at 7:00 or 7:30 pm\, but each church in Washington state may have a different time. Check our church directory for the specific church you’re looking to attend.
URL:https://christiansciencewa.org/event/wednesday-testimony-meetings/2027-08-04/
CATEGORIES:Community Events
ATTACH;FMTTYPE=image/jpeg:https://christiansciencewa.org/wp-content/uploads/2022/11/third-church-seattle-e1669752752436.jpg
END:VEVENT
BEGIN:VEVENT
DTSTART;TZID=America/Los_Angeles:20270808T093000
DTEND;TZID=America/Los_Angeles:20270808T113000
DTSTAMP:20260421T165615
CREATED:20230331T184806Z
LAST-MODIFIED:20230331T184845Z
UID:10000773-1817717400-1817724600@christiansciencewa.org
SUMMARY:Church Services
DESCRIPTION:The Christian Science branch churches in Washington all provide regular Sunday Services and Sunday School. Service times may vary across the state\, so check our church directory to find the start time of the service you’d like to attend.
URL:https://christiansciencewa.org/event/church-services/2027-08-08/
CATEGORIES:Community Events
ATTACH;FMTTYPE=image/jpeg:https://christiansciencewa.org/wp-content/uploads/2022/11/bellvue-church-interior.jpg
END:VEVENT
BEGIN:VEVENT
DTSTART;TZID=America/Los_Angeles:20270811T193000
DTEND;TZID=America/Los_Angeles:20270811T203000
DTSTAMP:20260421T165615
CREATED:20230331T184201Z
LAST-MODIFIED:20230331T185039Z
UID:10000509-1818012600-1818016200@christiansciencewa.org
SUMMARY:Wednesday Testimony Meetings
DESCRIPTION:At the Wednesday meeting\, the service begins with inspiring readings from the Bible and Science and Health. Then\, members and visitors voluntarily share gratitude and testimonies of healing they’ve had as a result of using Christian Science. \nWednesday Testimony Meetings are open to everyone! Generally\, they are held on Wednesday evenings at 7:00 or 7:30 pm\, but each church in Washington state may have a different time. Check our church directory for the specific church you’re looking to attend.
URL:https://christiansciencewa.org/event/wednesday-testimony-meetings/2027-08-11/
CATEGORIES:Community Events
ATTACH;FMTTYPE=image/jpeg:https://christiansciencewa.org/wp-content/uploads/2022/11/third-church-seattle-e1669752752436.jpg
END:VEVENT
BEGIN:VEVENT
DTSTART;TZID=America/Los_Angeles:20270815T093000
DTEND;TZID=America/Los_Angeles:20270815T113000
DTSTAMP:20260421T165615
CREATED:20230331T184806Z
LAST-MODIFIED:20230331T184845Z
UID:10000774-1818322200-1818329400@christiansciencewa.org
SUMMARY:Church Services
DESCRIPTION:The Christian Science branch churches in Washington all provide regular Sunday Services and Sunday School. Service times may vary across the state\, so check our church directory to find the start time of the service you’d like to attend.
URL:https://christiansciencewa.org/event/church-services/2027-08-15/
CATEGORIES:Community Events
ATTACH;FMTTYPE=image/jpeg:https://christiansciencewa.org/wp-content/uploads/2022/11/bellvue-church-interior.jpg
END:VEVENT
BEGIN:VEVENT
DTSTART;TZID=America/Los_Angeles:20270818T193000
DTEND;TZID=America/Los_Angeles:20270818T203000
DTSTAMP:20260421T165615
CREATED:20230331T184201Z
LAST-MODIFIED:20230331T185039Z
UID:10000510-1818617400-1818621000@christiansciencewa.org
SUMMARY:Wednesday Testimony Meetings
DESCRIPTION:At the Wednesday meeting\, the service begins with inspiring readings from the Bible and Science and Health. Then\, members and visitors voluntarily share gratitude and testimonies of healing they’ve had as a result of using Christian Science. \nWednesday Testimony Meetings are open to everyone! Generally\, they are held on Wednesday evenings at 7:00 or 7:30 pm\, but each church in Washington state may have a different time. Check our church directory for the specific church you’re looking to attend.
URL:https://christiansciencewa.org/event/wednesday-testimony-meetings/2027-08-18/
CATEGORIES:Community Events
ATTACH;FMTTYPE=image/jpeg:https://christiansciencewa.org/wp-content/uploads/2022/11/third-church-seattle-e1669752752436.jpg
END:VEVENT
BEGIN:VEVENT
DTSTART;TZID=America/Los_Angeles:20270822T093000
DTEND;TZID=America/Los_Angeles:20270822T113000
DTSTAMP:20260421T165615
CREATED:20230331T184806Z
LAST-MODIFIED:20230331T184845Z
UID:10000775-1818927000-1818934200@christiansciencewa.org
SUMMARY:Church Services
DESCRIPTION:The Christian Science branch churches in Washington all provide regular Sunday Services and Sunday School. Service times may vary across the state\, so check our church directory to find the start time of the service you’d like to attend.
URL:https://christiansciencewa.org/event/church-services/2027-08-22/
CATEGORIES:Community Events
ATTACH;FMTTYPE=image/jpeg:https://christiansciencewa.org/wp-content/uploads/2022/11/bellvue-church-interior.jpg
END:VEVENT
BEGIN:VEVENT
DTSTART;TZID=America/Los_Angeles:20270825T193000
DTEND;TZID=America/Los_Angeles:20270825T203000
DTSTAMP:20260421T165615
CREATED:20230331T184201Z
LAST-MODIFIED:20230331T185039Z
UID:10000511-1819222200-1819225800@christiansciencewa.org
SUMMARY:Wednesday Testimony Meetings
DESCRIPTION:At the Wednesday meeting\, the service begins with inspiring readings from the Bible and Science and Health. Then\, members and visitors voluntarily share gratitude and testimonies of healing they’ve had as a result of using Christian Science. \nWednesday Testimony Meetings are open to everyone! Generally\, they are held on Wednesday evenings at 7:00 or 7:30 pm\, but each church in Washington state may have a different time. Check our church directory for the specific church you’re looking to attend.
URL:https://christiansciencewa.org/event/wednesday-testimony-meetings/2027-08-25/
CATEGORIES:Community Events
ATTACH;FMTTYPE=image/jpeg:https://christiansciencewa.org/wp-content/uploads/2022/11/third-church-seattle-e1669752752436.jpg
END:VEVENT
BEGIN:VEVENT
DTSTART;TZID=America/Los_Angeles:20270829T093000
DTEND;TZID=America/Los_Angeles:20270829T113000
DTSTAMP:20260421T165615
CREATED:20230331T184806Z
LAST-MODIFIED:20230331T184845Z
UID:10000776-1819531800-1819539000@christiansciencewa.org
SUMMARY:Church Services
DESCRIPTION:The Christian Science branch churches in Washington all provide regular Sunday Services and Sunday School. Service times may vary across the state\, so check our church directory to find the start time of the service you’d like to attend.
URL:https://christiansciencewa.org/event/church-services/2027-08-29/
CATEGORIES:Community Events
ATTACH;FMTTYPE=image/jpeg:https://christiansciencewa.org/wp-content/uploads/2022/11/bellvue-church-interior.jpg
END:VEVENT
BEGIN:VEVENT
DTSTART;TZID=America/Los_Angeles:20270901T193000
DTEND;TZID=America/Los_Angeles:20270901T203000
DTSTAMP:20260421T165615
CREATED:20230331T184201Z
LAST-MODIFIED:20230331T185039Z
UID:10000512-1819827000-1819830600@christiansciencewa.org
SUMMARY:Wednesday Testimony Meetings
DESCRIPTION:At the Wednesday meeting\, the service begins with inspiring readings from the Bible and Science and Health. Then\, members and visitors voluntarily share gratitude and testimonies of healing they’ve had as a result of using Christian Science. \nWednesday Testimony Meetings are open to everyone! Generally\, they are held on Wednesday evenings at 7:00 or 7:30 pm\, but each church in Washington state may have a different time. Check our church directory for the specific church you’re looking to attend.
URL:https://christiansciencewa.org/event/wednesday-testimony-meetings/2027-09-01/
CATEGORIES:Community Events
ATTACH;FMTTYPE=image/jpeg:https://christiansciencewa.org/wp-content/uploads/2022/11/third-church-seattle-e1669752752436.jpg
END:VEVENT
BEGIN:VEVENT
DTSTART;TZID=America/Los_Angeles:20270905T093000
DTEND;TZID=America/Los_Angeles:20270905T113000
DTSTAMP:20260421T165615
CREATED:20230331T184806Z
LAST-MODIFIED:20230331T184845Z
UID:10000777-1820136600-1820143800@christiansciencewa.org
SUMMARY:Church Services
DESCRIPTION:The Christian Science branch churches in Washington all provide regular Sunday Services and Sunday School. Service times may vary across the state\, so check our church directory to find the start time of the service you’d like to attend.
URL:https://christiansciencewa.org/event/church-services/2027-09-05/
CATEGORIES:Community Events
ATTACH;FMTTYPE=image/jpeg:https://christiansciencewa.org/wp-content/uploads/2022/11/bellvue-church-interior.jpg
END:VEVENT
BEGIN:VEVENT
DTSTART;TZID=America/Los_Angeles:20270908T193000
DTEND;TZID=America/Los_Angeles:20270908T203000
DTSTAMP:20260421T165615
CREATED:20230331T184201Z
LAST-MODIFIED:20230331T185039Z
UID:10000513-1820431800-1820435400@christiansciencewa.org
SUMMARY:Wednesday Testimony Meetings
DESCRIPTION:At the Wednesday meeting\, the service begins with inspiring readings from the Bible and Science and Health. Then\, members and visitors voluntarily share gratitude and testimonies of healing they’ve had as a result of using Christian Science. \nWednesday Testimony Meetings are open to everyone! Generally\, they are held on Wednesday evenings at 7:00 or 7:30 pm\, but each church in Washington state may have a different time. Check our church directory for the specific church you’re looking to attend.
URL:https://christiansciencewa.org/event/wednesday-testimony-meetings/2027-09-08/
CATEGORIES:Community Events
ATTACH;FMTTYPE=image/jpeg:https://christiansciencewa.org/wp-content/uploads/2022/11/third-church-seattle-e1669752752436.jpg
END:VEVENT
BEGIN:VEVENT
DTSTART;TZID=America/Los_Angeles:20270912T093000
DTEND;TZID=America/Los_Angeles:20270912T113000
DTSTAMP:20260421T165615
CREATED:20230331T184806Z
LAST-MODIFIED:20230331T184845Z
UID:10000778-1820741400-1820748600@christiansciencewa.org
SUMMARY:Church Services
DESCRIPTION:The Christian Science branch churches in Washington all provide regular Sunday Services and Sunday School. Service times may vary across the state\, so check our church directory to find the start time of the service you’d like to attend.
URL:https://christiansciencewa.org/event/church-services/2027-09-12/
CATEGORIES:Community Events
ATTACH;FMTTYPE=image/jpeg:https://christiansciencewa.org/wp-content/uploads/2022/11/bellvue-church-interior.jpg
END:VEVENT
BEGIN:VEVENT
DTSTART;TZID=America/Los_Angeles:20270915T193000
DTEND;TZID=America/Los_Angeles:20270915T203000
DTSTAMP:20260421T165615
CREATED:20230331T184201Z
LAST-MODIFIED:20230331T185039Z
UID:10000514-1821036600-1821040200@christiansciencewa.org
SUMMARY:Wednesday Testimony Meetings
DESCRIPTION:At the Wednesday meeting\, the service begins with inspiring readings from the Bible and Science and Health. Then\, members and visitors voluntarily share gratitude and testimonies of healing they’ve had as a result of using Christian Science. \nWednesday Testimony Meetings are open to everyone! Generally\, they are held on Wednesday evenings at 7:00 or 7:30 pm\, but each church in Washington state may have a different time. Check our church directory for the specific church you’re looking to attend.
URL:https://christiansciencewa.org/event/wednesday-testimony-meetings/2027-09-15/
CATEGORIES:Community Events
ATTACH;FMTTYPE=image/jpeg:https://christiansciencewa.org/wp-content/uploads/2022/11/third-church-seattle-e1669752752436.jpg
END:VEVENT
BEGIN:VEVENT
DTSTART;TZID=America/Los_Angeles:20270919T093000
DTEND;TZID=America/Los_Angeles:20270919T113000
DTSTAMP:20260421T165615
CREATED:20230331T184806Z
LAST-MODIFIED:20230331T184845Z
UID:10000779-1821346200-1821353400@christiansciencewa.org
SUMMARY:Church Services
DESCRIPTION:The Christian Science branch churches in Washington all provide regular Sunday Services and Sunday School. Service times may vary across the state\, so check our church directory to find the start time of the service you’d like to attend.
URL:https://christiansciencewa.org/event/church-services/2027-09-19/
CATEGORIES:Community Events
ATTACH;FMTTYPE=image/jpeg:https://christiansciencewa.org/wp-content/uploads/2022/11/bellvue-church-interior.jpg
END:VEVENT
BEGIN:VEVENT
DTSTART;TZID=America/Los_Angeles:20270922T193000
DTEND;TZID=America/Los_Angeles:20270922T203000
DTSTAMP:20260421T165615
CREATED:20230331T184201Z
LAST-MODIFIED:20230331T185039Z
UID:10000515-1821641400-1821645000@christiansciencewa.org
SUMMARY:Wednesday Testimony Meetings
DESCRIPTION:At the Wednesday meeting\, the service begins with inspiring readings from the Bible and Science and Health. Then\, members and visitors voluntarily share gratitude and testimonies of healing they’ve had as a result of using Christian Science. \nWednesday Testimony Meetings are open to everyone! Generally\, they are held on Wednesday evenings at 7:00 or 7:30 pm\, but each church in Washington state may have a different time. Check our church directory for the specific church you’re looking to attend.
URL:https://christiansciencewa.org/event/wednesday-testimony-meetings/2027-09-22/
CATEGORIES:Community Events
ATTACH;FMTTYPE=image/jpeg:https://christiansciencewa.org/wp-content/uploads/2022/11/third-church-seattle-e1669752752436.jpg
END:VEVENT
BEGIN:VEVENT
DTSTART;TZID=America/Los_Angeles:20270926T093000
DTEND;TZID=America/Los_Angeles:20270926T113000
DTSTAMP:20260421T165615
CREATED:20230331T184806Z
LAST-MODIFIED:20230331T184845Z
UID:10000780-1821951000-1821958200@christiansciencewa.org
SUMMARY:Church Services
DESCRIPTION:The Christian Science branch churches in Washington all provide regular Sunday Services and Sunday School. Service times may vary across the state\, so check our church directory to find the start time of the service you’d like to attend.
URL:https://christiansciencewa.org/event/church-services/2027-09-26/
CATEGORIES:Community Events
ATTACH;FMTTYPE=image/jpeg:https://christiansciencewa.org/wp-content/uploads/2022/11/bellvue-church-interior.jpg
END:VEVENT
BEGIN:VEVENT
DTSTART;TZID=America/Los_Angeles:20270929T193000
DTEND;TZID=America/Los_Angeles:20270929T203000
DTSTAMP:20260421T165615
CREATED:20230331T184201Z
LAST-MODIFIED:20230331T185039Z
UID:10000516-1822246200-1822249800@christiansciencewa.org
SUMMARY:Wednesday Testimony Meetings
DESCRIPTION:At the Wednesday meeting\, the service begins with inspiring readings from the Bible and Science and Health. Then\, members and visitors voluntarily share gratitude and testimonies of healing they’ve had as a result of using Christian Science. \nWednesday Testimony Meetings are open to everyone! Generally\, they are held on Wednesday evenings at 7:00 or 7:30 pm\, but each church in Washington state may have a different time. Check our church directory for the specific church you’re looking to attend.
URL:https://christiansciencewa.org/event/wednesday-testimony-meetings/2027-09-29/
CATEGORIES:Community Events
ATTACH;FMTTYPE=image/jpeg:https://christiansciencewa.org/wp-content/uploads/2022/11/third-church-seattle-e1669752752436.jpg
END:VEVENT
BEGIN:VEVENT
DTSTART;TZID=America/Los_Angeles:20271003T093000
DTEND;TZID=America/Los_Angeles:20271003T113000
DTSTAMP:20260421T165615
CREATED:20230331T184806Z
LAST-MODIFIED:20230331T184845Z
UID:10000781-1822555800-1822563000@christiansciencewa.org
SUMMARY:Church Services
DESCRIPTION:The Christian Science branch churches in Washington all provide regular Sunday Services and Sunday School. Service times may vary across the state\, so check our church directory to find the start time of the service you’d like to attend.
URL:https://christiansciencewa.org/event/church-services/2027-10-03/
CATEGORIES:Community Events
ATTACH;FMTTYPE=image/jpeg:https://christiansciencewa.org/wp-content/uploads/2022/11/bellvue-church-interior.jpg
END:VEVENT
BEGIN:VEVENT
DTSTART;TZID=America/Los_Angeles:20271006T193000
DTEND;TZID=America/Los_Angeles:20271006T203000
DTSTAMP:20260421T165615
CREATED:20230331T184201Z
LAST-MODIFIED:20230331T185039Z
UID:10000517-1822851000-1822854600@christiansciencewa.org
SUMMARY:Wednesday Testimony Meetings
DESCRIPTION:At the Wednesday meeting\, the service begins with inspiring readings from the Bible and Science and Health. Then\, members and visitors voluntarily share gratitude and testimonies of healing they’ve had as a result of using Christian Science. \nWednesday Testimony Meetings are open to everyone! Generally\, they are held on Wednesday evenings at 7:00 or 7:30 pm\, but each church in Washington state may have a different time. Check our church directory for the specific church you’re looking to attend.
URL:https://christiansciencewa.org/event/wednesday-testimony-meetings/2027-10-06/
CATEGORIES:Community Events
ATTACH;FMTTYPE=image/jpeg:https://christiansciencewa.org/wp-content/uploads/2022/11/third-church-seattle-e1669752752436.jpg
END:VEVENT
END:VCALENDAR