BEGIN:VCALENDAR
VERSION:2.0
PRODID:-//Christian Science in Washington State - ECPv6.15.20//NONSGML v1.0//EN
CALSCALE:GREGORIAN
METHOD:PUBLISH
X-ORIGINAL-URL:https://christiansciencewa.org
X-WR-CALDESC:Events for Christian Science in Washington State
REFRESH-INTERVAL;VALUE=DURATION:PT1H
X-Robots-Tag:noindex
X-PUBLISHED-TTL:PT1H
BEGIN:VTIMEZONE
TZID:America/Los_Angeles
BEGIN:DAYLIGHT
TZOFFSETFROM:-0800
TZOFFSETTO:-0700
TZNAME:PDT
DTSTART:20240310T100000
END:DAYLIGHT
BEGIN:STANDARD
TZOFFSETFROM:-0700
TZOFFSETTO:-0800
TZNAME:PST
DTSTART:20241103T090000
END:STANDARD
BEGIN:DAYLIGHT
TZOFFSETFROM:-0800
TZOFFSETTO:-0700
TZNAME:PDT
DTSTART:20250309T100000
END:DAYLIGHT
BEGIN:STANDARD
TZOFFSETFROM:-0700
TZOFFSETTO:-0800
TZNAME:PST
DTSTART:20251102T090000
END:STANDARD
BEGIN:DAYLIGHT
TZOFFSETFROM:-0800
TZOFFSETTO:-0700
TZNAME:PDT
DTSTART:20260308T100000
END:DAYLIGHT
BEGIN:STANDARD
TZOFFSETFROM:-0700
TZOFFSETTO:-0800
TZNAME:PST
DTSTART:20261101T090000
END:STANDARD
END:VTIMEZONE
BEGIN:VEVENT
DTSTART;TZID=America/Los_Angeles:20251214T093000
DTEND;TZID=America/Los_Angeles:20251214T113000
DTSTAMP:20260421T014219
CREATED:20230331T184806Z
LAST-MODIFIED:20230331T184845Z
UID:10000687-1765704600-1765711800@christiansciencewa.org
SUMMARY:Church Services
DESCRIPTION:The Christian Science branch churches in Washington all provide regular Sunday Services and Sunday School. Service times may vary across the state\, so check our church directory to find the start time of the service you’d like to attend.
URL:https://christiansciencewa.org/event/church-services/2025-12-14/
CATEGORIES:Community Events
ATTACH;FMTTYPE=image/jpeg:https://christiansciencewa.org/wp-content/uploads/2022/11/bellvue-church-interior.jpg
END:VEVENT
BEGIN:VEVENT
DTSTART;TZID=America/Los_Angeles:20251210T193000
DTEND;TZID=America/Los_Angeles:20251210T203000
DTSTAMP:20260421T014219
CREATED:20230331T184201Z
LAST-MODIFIED:20230331T185039Z
UID:10000422-1765395000-1765398600@christiansciencewa.org
SUMMARY:Wednesday Testimony Meetings
DESCRIPTION:At the Wednesday meeting\, the service begins with inspiring readings from the Bible and Science and Health. Then\, members and visitors voluntarily share gratitude and testimonies of healing they’ve had as a result of using Christian Science. \nWednesday Testimony Meetings are open to everyone! Generally\, they are held on Wednesday evenings at 7:00 or 7:30 pm\, but each church in Washington state may have a different time. Check our church directory for the specific church you’re looking to attend.
URL:https://christiansciencewa.org/event/wednesday-testimony-meetings/2025-12-10/
CATEGORIES:Community Events
ATTACH;FMTTYPE=image/jpeg:https://christiansciencewa.org/wp-content/uploads/2022/11/third-church-seattle-e1669752752436.jpg
END:VEVENT
BEGIN:VEVENT
DTSTART;TZID=America/Los_Angeles:20251207T093000
DTEND;TZID=America/Los_Angeles:20251207T113000
DTSTAMP:20260421T014219
CREATED:20230331T184806Z
LAST-MODIFIED:20230331T184845Z
UID:10000686-1765099800-1765107000@christiansciencewa.org
SUMMARY:Church Services
DESCRIPTION:The Christian Science branch churches in Washington all provide regular Sunday Services and Sunday School. Service times may vary across the state\, so check our church directory to find the start time of the service you’d like to attend.
URL:https://christiansciencewa.org/event/church-services/2025-12-07/
CATEGORIES:Community Events
ATTACH;FMTTYPE=image/jpeg:https://christiansciencewa.org/wp-content/uploads/2022/11/bellvue-church-interior.jpg
END:VEVENT
BEGIN:VEVENT
DTSTART;TZID=America/Los_Angeles:20251203T193000
DTEND;TZID=America/Los_Angeles:20251203T203000
DTSTAMP:20260421T014219
CREATED:20230331T184201Z
LAST-MODIFIED:20230331T185039Z
UID:10000421-1764790200-1764793800@christiansciencewa.org
SUMMARY:Wednesday Testimony Meetings
DESCRIPTION:At the Wednesday meeting\, the service begins with inspiring readings from the Bible and Science and Health. Then\, members and visitors voluntarily share gratitude and testimonies of healing they’ve had as a result of using Christian Science. \nWednesday Testimony Meetings are open to everyone! Generally\, they are held on Wednesday evenings at 7:00 or 7:30 pm\, but each church in Washington state may have a different time. Check our church directory for the specific church you’re looking to attend.
URL:https://christiansciencewa.org/event/wednesday-testimony-meetings/2025-12-03/
CATEGORIES:Community Events
ATTACH;FMTTYPE=image/jpeg:https://christiansciencewa.org/wp-content/uploads/2022/11/third-church-seattle-e1669752752436.jpg
END:VEVENT
BEGIN:VEVENT
DTSTART;TZID=America/Los_Angeles:20251130T093000
DTEND;TZID=America/Los_Angeles:20251130T113000
DTSTAMP:20260421T014219
CREATED:20230331T184806Z
LAST-MODIFIED:20230331T184845Z
UID:10000685-1764495000-1764502200@christiansciencewa.org
SUMMARY:Church Services
DESCRIPTION:The Christian Science branch churches in Washington all provide regular Sunday Services and Sunday School. Service times may vary across the state\, so check our church directory to find the start time of the service you’d like to attend.
URL:https://christiansciencewa.org/event/church-services/2025-11-30/
CATEGORIES:Community Events
ATTACH;FMTTYPE=image/jpeg:https://christiansciencewa.org/wp-content/uploads/2022/11/bellvue-church-interior.jpg
END:VEVENT
BEGIN:VEVENT
DTSTART;TZID=America/Los_Angeles:20251126T193000
DTEND;TZID=America/Los_Angeles:20251126T203000
DTSTAMP:20260421T014219
CREATED:20230331T184201Z
LAST-MODIFIED:20230331T185039Z
UID:10000420-1764185400-1764189000@christiansciencewa.org
SUMMARY:Wednesday Testimony Meetings
DESCRIPTION:At the Wednesday meeting\, the service begins with inspiring readings from the Bible and Science and Health. Then\, members and visitors voluntarily share gratitude and testimonies of healing they’ve had as a result of using Christian Science. \nWednesday Testimony Meetings are open to everyone! Generally\, they are held on Wednesday evenings at 7:00 or 7:30 pm\, but each church in Washington state may have a different time. Check our church directory for the specific church you’re looking to attend.
URL:https://christiansciencewa.org/event/wednesday-testimony-meetings/2025-11-26/
CATEGORIES:Community Events
ATTACH;FMTTYPE=image/jpeg:https://christiansciencewa.org/wp-content/uploads/2022/11/third-church-seattle-e1669752752436.jpg
END:VEVENT
BEGIN:VEVENT
DTSTART;TZID=America/Los_Angeles:20251123T093000
DTEND;TZID=America/Los_Angeles:20251123T113000
DTSTAMP:20260421T014219
CREATED:20230331T184806Z
LAST-MODIFIED:20230331T184845Z
UID:10000684-1763890200-1763897400@christiansciencewa.org
SUMMARY:Church Services
DESCRIPTION:The Christian Science branch churches in Washington all provide regular Sunday Services and Sunday School. Service times may vary across the state\, so check our church directory to find the start time of the service you’d like to attend.
URL:https://christiansciencewa.org/event/church-services/2025-11-23/
CATEGORIES:Community Events
ATTACH;FMTTYPE=image/jpeg:https://christiansciencewa.org/wp-content/uploads/2022/11/bellvue-church-interior.jpg
END:VEVENT
BEGIN:VEVENT
DTSTART;TZID=America/Los_Angeles:20251119T193000
DTEND;TZID=America/Los_Angeles:20251119T203000
DTSTAMP:20260421T014219
CREATED:20230331T184201Z
LAST-MODIFIED:20230331T185039Z
UID:10000419-1763580600-1763584200@christiansciencewa.org
SUMMARY:Wednesday Testimony Meetings
DESCRIPTION:At the Wednesday meeting\, the service begins with inspiring readings from the Bible and Science and Health. Then\, members and visitors voluntarily share gratitude and testimonies of healing they’ve had as a result of using Christian Science. \nWednesday Testimony Meetings are open to everyone! Generally\, they are held on Wednesday evenings at 7:00 or 7:30 pm\, but each church in Washington state may have a different time. Check our church directory for the specific church you’re looking to attend.
URL:https://christiansciencewa.org/event/wednesday-testimony-meetings/2025-11-19/
CATEGORIES:Community Events
ATTACH;FMTTYPE=image/jpeg:https://christiansciencewa.org/wp-content/uploads/2022/11/third-church-seattle-e1669752752436.jpg
END:VEVENT
BEGIN:VEVENT
DTSTART;TZID=America/Los_Angeles:20251116T093000
DTEND;TZID=America/Los_Angeles:20251116T113000
DTSTAMP:20260421T014219
CREATED:20230331T184806Z
LAST-MODIFIED:20230331T184845Z
UID:10000683-1763285400-1763292600@christiansciencewa.org
SUMMARY:Church Services
DESCRIPTION:The Christian Science branch churches in Washington all provide regular Sunday Services and Sunday School. Service times may vary across the state\, so check our church directory to find the start time of the service you’d like to attend.
URL:https://christiansciencewa.org/event/church-services/2025-11-16/
CATEGORIES:Community Events
ATTACH;FMTTYPE=image/jpeg:https://christiansciencewa.org/wp-content/uploads/2022/11/bellvue-church-interior.jpg
END:VEVENT
BEGIN:VEVENT
DTSTART;TZID=America/Los_Angeles:20251112T193000
DTEND;TZID=America/Los_Angeles:20251112T203000
DTSTAMP:20260421T014219
CREATED:20230331T184201Z
LAST-MODIFIED:20230331T185039Z
UID:10000418-1762975800-1762979400@christiansciencewa.org
SUMMARY:Wednesday Testimony Meetings
DESCRIPTION:At the Wednesday meeting\, the service begins with inspiring readings from the Bible and Science and Health. Then\, members and visitors voluntarily share gratitude and testimonies of healing they’ve had as a result of using Christian Science. \nWednesday Testimony Meetings are open to everyone! Generally\, they are held on Wednesday evenings at 7:00 or 7:30 pm\, but each church in Washington state may have a different time. Check our church directory for the specific church you’re looking to attend.
URL:https://christiansciencewa.org/event/wednesday-testimony-meetings/2025-11-12/
CATEGORIES:Community Events
ATTACH;FMTTYPE=image/jpeg:https://christiansciencewa.org/wp-content/uploads/2022/11/third-church-seattle-e1669752752436.jpg
END:VEVENT
BEGIN:VEVENT
DTSTART;TZID=America/Los_Angeles:20251109T093000
DTEND;TZID=America/Los_Angeles:20251109T113000
DTSTAMP:20260421T014219
CREATED:20230331T184806Z
LAST-MODIFIED:20230331T184845Z
UID:10000682-1762680600-1762687800@christiansciencewa.org
SUMMARY:Church Services
DESCRIPTION:The Christian Science branch churches in Washington all provide regular Sunday Services and Sunday School. Service times may vary across the state\, so check our church directory to find the start time of the service you’d like to attend.
URL:https://christiansciencewa.org/event/church-services/2025-11-09/
CATEGORIES:Community Events
ATTACH;FMTTYPE=image/jpeg:https://christiansciencewa.org/wp-content/uploads/2022/11/bellvue-church-interior.jpg
END:VEVENT
BEGIN:VEVENT
DTSTART;TZID=America/Los_Angeles:20251105T193000
DTEND;TZID=America/Los_Angeles:20251105T203000
DTSTAMP:20260421T014219
CREATED:20230331T184201Z
LAST-MODIFIED:20230331T185039Z
UID:10000417-1762371000-1762374600@christiansciencewa.org
SUMMARY:Wednesday Testimony Meetings
DESCRIPTION:At the Wednesday meeting\, the service begins with inspiring readings from the Bible and Science and Health. Then\, members and visitors voluntarily share gratitude and testimonies of healing they’ve had as a result of using Christian Science. \nWednesday Testimony Meetings are open to everyone! Generally\, they are held on Wednesday evenings at 7:00 or 7:30 pm\, but each church in Washington state may have a different time. Check our church directory for the specific church you’re looking to attend.
URL:https://christiansciencewa.org/event/wednesday-testimony-meetings/2025-11-05/
CATEGORIES:Community Events
ATTACH;FMTTYPE=image/jpeg:https://christiansciencewa.org/wp-content/uploads/2022/11/third-church-seattle-e1669752752436.jpg
END:VEVENT
BEGIN:VEVENT
DTSTART;TZID=America/Los_Angeles:20251102T093000
DTEND;TZID=America/Los_Angeles:20251102T113000
DTSTAMP:20260421T014219
CREATED:20230331T184806Z
LAST-MODIFIED:20230331T184845Z
UID:10000681-1762075800-1762083000@christiansciencewa.org
SUMMARY:Church Services
DESCRIPTION:The Christian Science branch churches in Washington all provide regular Sunday Services and Sunday School. Service times may vary across the state\, so check our church directory to find the start time of the service you’d like to attend.
URL:https://christiansciencewa.org/event/church-services/2025-11-02/
CATEGORIES:Community Events
ATTACH;FMTTYPE=image/jpeg:https://christiansciencewa.org/wp-content/uploads/2022/11/bellvue-church-interior.jpg
END:VEVENT
BEGIN:VEVENT
DTSTART;TZID=America/Los_Angeles:20251029T193000
DTEND;TZID=America/Los_Angeles:20251029T203000
DTSTAMP:20260421T014219
CREATED:20230331T184201Z
LAST-MODIFIED:20230331T185039Z
UID:10000416-1761766200-1761769800@christiansciencewa.org
SUMMARY:Wednesday Testimony Meetings
DESCRIPTION:At the Wednesday meeting\, the service begins with inspiring readings from the Bible and Science and Health. Then\, members and visitors voluntarily share gratitude and testimonies of healing they’ve had as a result of using Christian Science. \nWednesday Testimony Meetings are open to everyone! Generally\, they are held on Wednesday evenings at 7:00 or 7:30 pm\, but each church in Washington state may have a different time. Check our church directory for the specific church you’re looking to attend.
URL:https://christiansciencewa.org/event/wednesday-testimony-meetings/2025-10-29/
CATEGORIES:Community Events
ATTACH;FMTTYPE=image/jpeg:https://christiansciencewa.org/wp-content/uploads/2022/11/third-church-seattle-e1669752752436.jpg
END:VEVENT
BEGIN:VEVENT
DTSTART;TZID=America/Los_Angeles:20251026T093000
DTEND;TZID=America/Los_Angeles:20251026T113000
DTSTAMP:20260421T014219
CREATED:20230331T184806Z
LAST-MODIFIED:20230331T184845Z
UID:10000680-1761471000-1761478200@christiansciencewa.org
SUMMARY:Church Services
DESCRIPTION:The Christian Science branch churches in Washington all provide regular Sunday Services and Sunday School. Service times may vary across the state\, so check our church directory to find the start time of the service you’d like to attend.
URL:https://christiansciencewa.org/event/church-services/2025-10-26/
CATEGORIES:Community Events
ATTACH;FMTTYPE=image/jpeg:https://christiansciencewa.org/wp-content/uploads/2022/11/bellvue-church-interior.jpg
END:VEVENT
BEGIN:VEVENT
DTSTART;TZID=America/Los_Angeles:20251022T193000
DTEND;TZID=America/Los_Angeles:20251022T203000
DTSTAMP:20260421T014219
CREATED:20230331T184201Z
LAST-MODIFIED:20230331T185039Z
UID:10000415-1761161400-1761165000@christiansciencewa.org
SUMMARY:Wednesday Testimony Meetings
DESCRIPTION:At the Wednesday meeting\, the service begins with inspiring readings from the Bible and Science and Health. Then\, members and visitors voluntarily share gratitude and testimonies of healing they’ve had as a result of using Christian Science. \nWednesday Testimony Meetings are open to everyone! Generally\, they are held on Wednesday evenings at 7:00 or 7:30 pm\, but each church in Washington state may have a different time. Check our church directory for the specific church you’re looking to attend.
URL:https://christiansciencewa.org/event/wednesday-testimony-meetings/2025-10-22/
CATEGORIES:Community Events
ATTACH;FMTTYPE=image/jpeg:https://christiansciencewa.org/wp-content/uploads/2022/11/third-church-seattle-e1669752752436.jpg
END:VEVENT
BEGIN:VEVENT
DTSTART;TZID=America/Los_Angeles:20251019T093000
DTEND;TZID=America/Los_Angeles:20251019T113000
DTSTAMP:20260421T014219
CREATED:20230331T184806Z
LAST-MODIFIED:20230331T184845Z
UID:10000679-1760866200-1760873400@christiansciencewa.org
SUMMARY:Church Services
DESCRIPTION:The Christian Science branch churches in Washington all provide regular Sunday Services and Sunday School. Service times may vary across the state\, so check our church directory to find the start time of the service you’d like to attend.
URL:https://christiansciencewa.org/event/church-services/2025-10-19/
CATEGORIES:Community Events
ATTACH;FMTTYPE=image/jpeg:https://christiansciencewa.org/wp-content/uploads/2022/11/bellvue-church-interior.jpg
END:VEVENT
BEGIN:VEVENT
DTSTART;TZID=America/Los_Angeles:20251015T193000
DTEND;TZID=America/Los_Angeles:20251015T203000
DTSTAMP:20260421T014219
CREATED:20230331T184201Z
LAST-MODIFIED:20230331T185039Z
UID:10000414-1760556600-1760560200@christiansciencewa.org
SUMMARY:Wednesday Testimony Meetings
DESCRIPTION:At the Wednesday meeting\, the service begins with inspiring readings from the Bible and Science and Health. Then\, members and visitors voluntarily share gratitude and testimonies of healing they’ve had as a result of using Christian Science. \nWednesday Testimony Meetings are open to everyone! Generally\, they are held on Wednesday evenings at 7:00 or 7:30 pm\, but each church in Washington state may have a different time. Check our church directory for the specific church you’re looking to attend.
URL:https://christiansciencewa.org/event/wednesday-testimony-meetings/2025-10-15/
CATEGORIES:Community Events
ATTACH;FMTTYPE=image/jpeg:https://christiansciencewa.org/wp-content/uploads/2022/11/third-church-seattle-e1669752752436.jpg
END:VEVENT
BEGIN:VEVENT
DTSTART;TZID=America/Los_Angeles:20251012T093000
DTEND;TZID=America/Los_Angeles:20251012T113000
DTSTAMP:20260421T014219
CREATED:20230331T184806Z
LAST-MODIFIED:20230331T184845Z
UID:10000678-1760261400-1760268600@christiansciencewa.org
SUMMARY:Church Services
DESCRIPTION:The Christian Science branch churches in Washington all provide regular Sunday Services and Sunday School. Service times may vary across the state\, so check our church directory to find the start time of the service you’d like to attend.
URL:https://christiansciencewa.org/event/church-services/2025-10-12/
CATEGORIES:Community Events
ATTACH;FMTTYPE=image/jpeg:https://christiansciencewa.org/wp-content/uploads/2022/11/bellvue-church-interior.jpg
END:VEVENT
BEGIN:VEVENT
DTSTART;TZID=America/Los_Angeles:20251008T193000
DTEND;TZID=America/Los_Angeles:20251008T203000
DTSTAMP:20260421T014219
CREATED:20230331T184201Z
LAST-MODIFIED:20230331T185039Z
UID:10000413-1759951800-1759955400@christiansciencewa.org
SUMMARY:Wednesday Testimony Meetings
DESCRIPTION:At the Wednesday meeting\, the service begins with inspiring readings from the Bible and Science and Health. Then\, members and visitors voluntarily share gratitude and testimonies of healing they’ve had as a result of using Christian Science. \nWednesday Testimony Meetings are open to everyone! Generally\, they are held on Wednesday evenings at 7:00 or 7:30 pm\, but each church in Washington state may have a different time. Check our church directory for the specific church you’re looking to attend.
URL:https://christiansciencewa.org/event/wednesday-testimony-meetings/2025-10-08/
CATEGORIES:Community Events
ATTACH;FMTTYPE=image/jpeg:https://christiansciencewa.org/wp-content/uploads/2022/11/third-church-seattle-e1669752752436.jpg
END:VEVENT
BEGIN:VEVENT
DTSTART;TZID=America/Los_Angeles:20251005T093000
DTEND;TZID=America/Los_Angeles:20251005T113000
DTSTAMP:20260421T014219
CREATED:20230331T184806Z
LAST-MODIFIED:20230331T184845Z
UID:10000677-1759656600-1759663800@christiansciencewa.org
SUMMARY:Church Services
DESCRIPTION:The Christian Science branch churches in Washington all provide regular Sunday Services and Sunday School. Service times may vary across the state\, so check our church directory to find the start time of the service you’d like to attend.
URL:https://christiansciencewa.org/event/church-services/2025-10-05/
CATEGORIES:Community Events
ATTACH;FMTTYPE=image/jpeg:https://christiansciencewa.org/wp-content/uploads/2022/11/bellvue-church-interior.jpg
END:VEVENT
BEGIN:VEVENT
DTSTART;TZID=America/Los_Angeles:20251001T193000
DTEND;TZID=America/Los_Angeles:20251001T203000
DTSTAMP:20260421T014219
CREATED:20230331T184201Z
LAST-MODIFIED:20230331T185039Z
UID:10000412-1759347000-1759350600@christiansciencewa.org
SUMMARY:Wednesday Testimony Meetings
DESCRIPTION:At the Wednesday meeting\, the service begins with inspiring readings from the Bible and Science and Health. Then\, members and visitors voluntarily share gratitude and testimonies of healing they’ve had as a result of using Christian Science. \nWednesday Testimony Meetings are open to everyone! Generally\, they are held on Wednesday evenings at 7:00 or 7:30 pm\, but each church in Washington state may have a different time. Check our church directory for the specific church you’re looking to attend.
URL:https://christiansciencewa.org/event/wednesday-testimony-meetings/2025-10-01/
CATEGORIES:Community Events
ATTACH;FMTTYPE=image/jpeg:https://christiansciencewa.org/wp-content/uploads/2022/11/third-church-seattle-e1669752752436.jpg
END:VEVENT
BEGIN:VEVENT
DTSTART;TZID=America/Los_Angeles:20250928T093000
DTEND;TZID=America/Los_Angeles:20250928T113000
DTSTAMP:20260421T014219
CREATED:20230331T184806Z
LAST-MODIFIED:20230331T184845Z
UID:10000676-1759051800-1759059000@christiansciencewa.org
SUMMARY:Church Services
DESCRIPTION:The Christian Science branch churches in Washington all provide regular Sunday Services and Sunday School. Service times may vary across the state\, so check our church directory to find the start time of the service you’d like to attend.
URL:https://christiansciencewa.org/event/church-services/2025-09-28/
CATEGORIES:Community Events
ATTACH;FMTTYPE=image/jpeg:https://christiansciencewa.org/wp-content/uploads/2022/11/bellvue-church-interior.jpg
END:VEVENT
BEGIN:VEVENT
DTSTART;TZID=America/Los_Angeles:20250924T193000
DTEND;TZID=America/Los_Angeles:20250924T203000
DTSTAMP:20260421T014219
CREATED:20230331T184201Z
LAST-MODIFIED:20230331T185039Z
UID:10000411-1758742200-1758745800@christiansciencewa.org
SUMMARY:Wednesday Testimony Meetings
DESCRIPTION:At the Wednesday meeting\, the service begins with inspiring readings from the Bible and Science and Health. Then\, members and visitors voluntarily share gratitude and testimonies of healing they’ve had as a result of using Christian Science. \nWednesday Testimony Meetings are open to everyone! Generally\, they are held on Wednesday evenings at 7:00 or 7:30 pm\, but each church in Washington state may have a different time. Check our church directory for the specific church you’re looking to attend.
URL:https://christiansciencewa.org/event/wednesday-testimony-meetings/2025-09-24/
CATEGORIES:Community Events
ATTACH;FMTTYPE=image/jpeg:https://christiansciencewa.org/wp-content/uploads/2022/11/third-church-seattle-e1669752752436.jpg
END:VEVENT
BEGIN:VEVENT
DTSTART;TZID=America/Los_Angeles:20250921T093000
DTEND;TZID=America/Los_Angeles:20250921T113000
DTSTAMP:20260421T014219
CREATED:20230331T184806Z
LAST-MODIFIED:20230331T184845Z
UID:10000675-1758447000-1758454200@christiansciencewa.org
SUMMARY:Church Services
DESCRIPTION:The Christian Science branch churches in Washington all provide regular Sunday Services and Sunday School. Service times may vary across the state\, so check our church directory to find the start time of the service you’d like to attend.
URL:https://christiansciencewa.org/event/church-services/2025-09-21/
CATEGORIES:Community Events
ATTACH;FMTTYPE=image/jpeg:https://christiansciencewa.org/wp-content/uploads/2022/11/bellvue-church-interior.jpg
END:VEVENT
BEGIN:VEVENT
DTSTART;TZID=America/Los_Angeles:20250917T193000
DTEND;TZID=America/Los_Angeles:20250917T203000
DTSTAMP:20260421T014219
CREATED:20230331T184201Z
LAST-MODIFIED:20230331T185039Z
UID:10000410-1758137400-1758141000@christiansciencewa.org
SUMMARY:Wednesday Testimony Meetings
DESCRIPTION:At the Wednesday meeting\, the service begins with inspiring readings from the Bible and Science and Health. Then\, members and visitors voluntarily share gratitude and testimonies of healing they’ve had as a result of using Christian Science. \nWednesday Testimony Meetings are open to everyone! Generally\, they are held on Wednesday evenings at 7:00 or 7:30 pm\, but each church in Washington state may have a different time. Check our church directory for the specific church you’re looking to attend.
URL:https://christiansciencewa.org/event/wednesday-testimony-meetings/2025-09-17/
CATEGORIES:Community Events
ATTACH;FMTTYPE=image/jpeg:https://christiansciencewa.org/wp-content/uploads/2022/11/third-church-seattle-e1669752752436.jpg
END:VEVENT
BEGIN:VEVENT
DTSTART;TZID=America/Los_Angeles:20250914T093000
DTEND;TZID=America/Los_Angeles:20250914T113000
DTSTAMP:20260421T014219
CREATED:20230331T184806Z
LAST-MODIFIED:20230331T184845Z
UID:10000674-1757842200-1757849400@christiansciencewa.org
SUMMARY:Church Services
DESCRIPTION:The Christian Science branch churches in Washington all provide regular Sunday Services and Sunday School. Service times may vary across the state\, so check our church directory to find the start time of the service you’d like to attend.
URL:https://christiansciencewa.org/event/church-services/2025-09-14/
CATEGORIES:Community Events
ATTACH;FMTTYPE=image/jpeg:https://christiansciencewa.org/wp-content/uploads/2022/11/bellvue-church-interior.jpg
END:VEVENT
BEGIN:VEVENT
DTSTART;TZID=America/Los_Angeles:20250910T193000
DTEND;TZID=America/Los_Angeles:20250910T203000
DTSTAMP:20260421T014219
CREATED:20230331T184201Z
LAST-MODIFIED:20230331T185039Z
UID:10000409-1757532600-1757536200@christiansciencewa.org
SUMMARY:Wednesday Testimony Meetings
DESCRIPTION:At the Wednesday meeting\, the service begins with inspiring readings from the Bible and Science and Health. Then\, members and visitors voluntarily share gratitude and testimonies of healing they’ve had as a result of using Christian Science. \nWednesday Testimony Meetings are open to everyone! Generally\, they are held on Wednesday evenings at 7:00 or 7:30 pm\, but each church in Washington state may have a different time. Check our church directory for the specific church you’re looking to attend.
URL:https://christiansciencewa.org/event/wednesday-testimony-meetings/2025-09-10/
CATEGORIES:Community Events
ATTACH;FMTTYPE=image/jpeg:https://christiansciencewa.org/wp-content/uploads/2022/11/third-church-seattle-e1669752752436.jpg
END:VEVENT
BEGIN:VEVENT
DTSTART;TZID=America/Los_Angeles:20250907T093000
DTEND;TZID=America/Los_Angeles:20250907T113000
DTSTAMP:20260421T014219
CREATED:20230331T184806Z
LAST-MODIFIED:20230331T184845Z
UID:10000673-1757237400-1757244600@christiansciencewa.org
SUMMARY:Church Services
DESCRIPTION:The Christian Science branch churches in Washington all provide regular Sunday Services and Sunday School. Service times may vary across the state\, so check our church directory to find the start time of the service you’d like to attend.
URL:https://christiansciencewa.org/event/church-services/2025-09-07/
CATEGORIES:Community Events
ATTACH;FMTTYPE=image/jpeg:https://christiansciencewa.org/wp-content/uploads/2022/11/bellvue-church-interior.jpg
END:VEVENT
BEGIN:VEVENT
DTSTART;TZID=America/Los_Angeles:20250903T193000
DTEND;TZID=America/Los_Angeles:20250903T203000
DTSTAMP:20260421T014219
CREATED:20230331T184201Z
LAST-MODIFIED:20230331T185039Z
UID:10000408-1756927800-1756931400@christiansciencewa.org
SUMMARY:Wednesday Testimony Meetings
DESCRIPTION:At the Wednesday meeting\, the service begins with inspiring readings from the Bible and Science and Health. Then\, members and visitors voluntarily share gratitude and testimonies of healing they’ve had as a result of using Christian Science. \nWednesday Testimony Meetings are open to everyone! Generally\, they are held on Wednesday evenings at 7:00 or 7:30 pm\, but each church in Washington state may have a different time. Check our church directory for the specific church you’re looking to attend.
URL:https://christiansciencewa.org/event/wednesday-testimony-meetings/2025-09-03/
CATEGORIES:Community Events
ATTACH;FMTTYPE=image/jpeg:https://christiansciencewa.org/wp-content/uploads/2022/11/third-church-seattle-e1669752752436.jpg
END:VEVENT
END:VCALENDAR