BEGIN:VCALENDAR
VERSION:2.0
PRODID:-//Christian Science in Washington State - ECPv6.15.20//NONSGML v1.0//EN
CALSCALE:GREGORIAN
METHOD:PUBLISH
X-WR-CALNAME:Christian Science in Washington State
X-ORIGINAL-URL:https://christiansciencewa.org
X-WR-CALDESC:Events for Christian Science in Washington State
REFRESH-INTERVAL;VALUE=DURATION:PT1H
X-Robots-Tag:noindex
X-PUBLISHED-TTL:PT1H
BEGIN:VTIMEZONE
TZID:America/Los_Angeles
BEGIN:DAYLIGHT
TZOFFSETFROM:-0800
TZOFFSETTO:-0700
TZNAME:PDT
DTSTART:20260308T100000
END:DAYLIGHT
BEGIN:STANDARD
TZOFFSETFROM:-0700
TZOFFSETTO:-0800
TZNAME:PST
DTSTART:20261101T090000
END:STANDARD
BEGIN:DAYLIGHT
TZOFFSETFROM:-0800
TZOFFSETTO:-0700
TZNAME:PDT
DTSTART:20270314T100000
END:DAYLIGHT
BEGIN:STANDARD
TZOFFSETFROM:-0700
TZOFFSETTO:-0800
TZNAME:PST
DTSTART:20271107T090000
END:STANDARD
BEGIN:DAYLIGHT
TZOFFSETFROM:-0800
TZOFFSETTO:-0700
TZNAME:PDT
DTSTART:20280312T100000
END:DAYLIGHT
BEGIN:STANDARD
TZOFFSETFROM:-0700
TZOFFSETTO:-0800
TZNAME:PST
DTSTART:20281105T090000
END:STANDARD
BEGIN:DAYLIGHT
TZOFFSETFROM:-0800
TZOFFSETTO:-0700
TZNAME:PDT
DTSTART:20290311T100000
END:DAYLIGHT
BEGIN:STANDARD
TZOFFSETFROM:-0700
TZOFFSETTO:-0800
TZNAME:PST
DTSTART:20291104T090000
END:STANDARD
END:VTIMEZONE
BEGIN:VEVENT
DTSTART;TZID=America/Los_Angeles:20271219T093000
DTEND;TZID=America/Los_Angeles:20271219T113000
DTSTAMP:20260422T002548
CREATED:20230331T184806Z
LAST-MODIFIED:20230331T184845Z
UID:10000792-1829208600-1829215800@christiansciencewa.org
SUMMARY:Church Services
DESCRIPTION:The Christian Science branch churches in Washington all provide regular Sunday Services and Sunday School. Service times may vary across the state\, so check our church directory to find the start time of the service you’d like to attend.
URL:https://christiansciencewa.org/event/church-services/2027-12-19/
CATEGORIES:Community Events
ATTACH;FMTTYPE=image/jpeg:https://christiansciencewa.org/wp-content/uploads/2022/11/bellvue-church-interior.jpg
END:VEVENT
BEGIN:VEVENT
DTSTART;TZID=America/Los_Angeles:20271222T193000
DTEND;TZID=America/Los_Angeles:20271222T203000
DTSTAMP:20260422T002548
CREATED:20230331T184201Z
LAST-MODIFIED:20230331T185039Z
UID:10000528-1829503800-1829507400@christiansciencewa.org
SUMMARY:Wednesday Testimony Meetings
DESCRIPTION:At the Wednesday meeting\, the service begins with inspiring readings from the Bible and Science and Health. Then\, members and visitors voluntarily share gratitude and testimonies of healing they’ve had as a result of using Christian Science. \nWednesday Testimony Meetings are open to everyone! Generally\, they are held on Wednesday evenings at 7:00 or 7:30 pm\, but each church in Washington state may have a different time. Check our church directory for the specific church you’re looking to attend.
URL:https://christiansciencewa.org/event/wednesday-testimony-meetings/2027-12-22/
CATEGORIES:Community Events
ATTACH;FMTTYPE=image/jpeg:https://christiansciencewa.org/wp-content/uploads/2022/11/third-church-seattle-e1669752752436.jpg
END:VEVENT
BEGIN:VEVENT
DTSTART;TZID=America/Los_Angeles:20271226T093000
DTEND;TZID=America/Los_Angeles:20271226T113000
DTSTAMP:20260422T002548
CREATED:20230331T184806Z
LAST-MODIFIED:20230331T184845Z
UID:10000793-1829813400-1829820600@christiansciencewa.org
SUMMARY:Church Services
DESCRIPTION:The Christian Science branch churches in Washington all provide regular Sunday Services and Sunday School. Service times may vary across the state\, so check our church directory to find the start time of the service you’d like to attend.
URL:https://christiansciencewa.org/event/church-services/2027-12-26/
CATEGORIES:Community Events
ATTACH;FMTTYPE=image/jpeg:https://christiansciencewa.org/wp-content/uploads/2022/11/bellvue-church-interior.jpg
END:VEVENT
BEGIN:VEVENT
DTSTART;TZID=America/Los_Angeles:20271229T193000
DTEND;TZID=America/Los_Angeles:20271229T203000
DTSTAMP:20260422T002548
CREATED:20230331T184201Z
LAST-MODIFIED:20230331T185039Z
UID:10000529-1830108600-1830112200@christiansciencewa.org
SUMMARY:Wednesday Testimony Meetings
DESCRIPTION:At the Wednesday meeting\, the service begins with inspiring readings from the Bible and Science and Health. Then\, members and visitors voluntarily share gratitude and testimonies of healing they’ve had as a result of using Christian Science. \nWednesday Testimony Meetings are open to everyone! Generally\, they are held on Wednesday evenings at 7:00 or 7:30 pm\, but each church in Washington state may have a different time. Check our church directory for the specific church you’re looking to attend.
URL:https://christiansciencewa.org/event/wednesday-testimony-meetings/2027-12-29/
CATEGORIES:Community Events
ATTACH;FMTTYPE=image/jpeg:https://christiansciencewa.org/wp-content/uploads/2022/11/third-church-seattle-e1669752752436.jpg
END:VEVENT
BEGIN:VEVENT
DTSTART;TZID=America/Los_Angeles:20280102T093000
DTEND;TZID=America/Los_Angeles:20280102T113000
DTSTAMP:20260422T002548
CREATED:20230331T184806Z
LAST-MODIFIED:20230331T184845Z
UID:10000794-1830418200-1830425400@christiansciencewa.org
SUMMARY:Church Services
DESCRIPTION:The Christian Science branch churches in Washington all provide regular Sunday Services and Sunday School. Service times may vary across the state\, so check our church directory to find the start time of the service you’d like to attend.
URL:https://christiansciencewa.org/event/church-services/2028-01-02/
CATEGORIES:Community Events
ATTACH;FMTTYPE=image/jpeg:https://christiansciencewa.org/wp-content/uploads/2022/11/bellvue-church-interior.jpg
END:VEVENT
BEGIN:VEVENT
DTSTART;TZID=America/Los_Angeles:20280105T193000
DTEND;TZID=America/Los_Angeles:20280105T203000
DTSTAMP:20260422T002548
CREATED:20230331T184201Z
LAST-MODIFIED:20230331T185039Z
UID:10000530-1830713400-1830717000@christiansciencewa.org
SUMMARY:Wednesday Testimony Meetings
DESCRIPTION:At the Wednesday meeting\, the service begins with inspiring readings from the Bible and Science and Health. Then\, members and visitors voluntarily share gratitude and testimonies of healing they’ve had as a result of using Christian Science. \nWednesday Testimony Meetings are open to everyone! Generally\, they are held on Wednesday evenings at 7:00 or 7:30 pm\, but each church in Washington state may have a different time. Check our church directory for the specific church you’re looking to attend.
URL:https://christiansciencewa.org/event/wednesday-testimony-meetings/2028-01-05/
CATEGORIES:Community Events
ATTACH;FMTTYPE=image/jpeg:https://christiansciencewa.org/wp-content/uploads/2022/11/third-church-seattle-e1669752752436.jpg
END:VEVENT
BEGIN:VEVENT
DTSTART;TZID=America/Los_Angeles:20280109T093000
DTEND;TZID=America/Los_Angeles:20280109T113000
DTSTAMP:20260422T002548
CREATED:20230331T184806Z
LAST-MODIFIED:20230331T184845Z
UID:10000795-1831023000-1831030200@christiansciencewa.org
SUMMARY:Church Services
DESCRIPTION:The Christian Science branch churches in Washington all provide regular Sunday Services and Sunday School. Service times may vary across the state\, so check our church directory to find the start time of the service you’d like to attend.
URL:https://christiansciencewa.org/event/church-services/2028-01-09/
CATEGORIES:Community Events
ATTACH;FMTTYPE=image/jpeg:https://christiansciencewa.org/wp-content/uploads/2022/11/bellvue-church-interior.jpg
END:VEVENT
BEGIN:VEVENT
DTSTART;TZID=America/Los_Angeles:20280112T193000
DTEND;TZID=America/Los_Angeles:20280112T203000
DTSTAMP:20260422T002548
CREATED:20230331T184201Z
LAST-MODIFIED:20230331T185039Z
UID:10000531-1831318200-1831321800@christiansciencewa.org
SUMMARY:Wednesday Testimony Meetings
DESCRIPTION:At the Wednesday meeting\, the service begins with inspiring readings from the Bible and Science and Health. Then\, members and visitors voluntarily share gratitude and testimonies of healing they’ve had as a result of using Christian Science. \nWednesday Testimony Meetings are open to everyone! Generally\, they are held on Wednesday evenings at 7:00 or 7:30 pm\, but each church in Washington state may have a different time. Check our church directory for the specific church you’re looking to attend.
URL:https://christiansciencewa.org/event/wednesday-testimony-meetings/2028-01-12/
CATEGORIES:Community Events
ATTACH;FMTTYPE=image/jpeg:https://christiansciencewa.org/wp-content/uploads/2022/11/third-church-seattle-e1669752752436.jpg
END:VEVENT
BEGIN:VEVENT
DTSTART;TZID=America/Los_Angeles:20280116T093000
DTEND;TZID=America/Los_Angeles:20280116T113000
DTSTAMP:20260422T002548
CREATED:20230331T184806Z
LAST-MODIFIED:20230331T184845Z
UID:10000796-1831627800-1831635000@christiansciencewa.org
SUMMARY:Church Services
DESCRIPTION:The Christian Science branch churches in Washington all provide regular Sunday Services and Sunday School. Service times may vary across the state\, so check our church directory to find the start time of the service you’d like to attend.
URL:https://christiansciencewa.org/event/church-services/2028-01-16/
CATEGORIES:Community Events
ATTACH;FMTTYPE=image/jpeg:https://christiansciencewa.org/wp-content/uploads/2022/11/bellvue-church-interior.jpg
END:VEVENT
BEGIN:VEVENT
DTSTART;TZID=America/Los_Angeles:20280119T193000
DTEND;TZID=America/Los_Angeles:20280119T203000
DTSTAMP:20260422T002548
CREATED:20230331T184201Z
LAST-MODIFIED:20230331T185039Z
UID:10000532-1831923000-1831926600@christiansciencewa.org
SUMMARY:Wednesday Testimony Meetings
DESCRIPTION:At the Wednesday meeting\, the service begins with inspiring readings from the Bible and Science and Health. Then\, members and visitors voluntarily share gratitude and testimonies of healing they’ve had as a result of using Christian Science. \nWednesday Testimony Meetings are open to everyone! Generally\, they are held on Wednesday evenings at 7:00 or 7:30 pm\, but each church in Washington state may have a different time. Check our church directory for the specific church you’re looking to attend.
URL:https://christiansciencewa.org/event/wednesday-testimony-meetings/2028-01-19/
CATEGORIES:Community Events
ATTACH;FMTTYPE=image/jpeg:https://christiansciencewa.org/wp-content/uploads/2022/11/third-church-seattle-e1669752752436.jpg
END:VEVENT
BEGIN:VEVENT
DTSTART;TZID=America/Los_Angeles:20280123T093000
DTEND;TZID=America/Los_Angeles:20280123T113000
DTSTAMP:20260422T002548
CREATED:20230331T184806Z
LAST-MODIFIED:20230331T184845Z
UID:10000797-1832232600-1832239800@christiansciencewa.org
SUMMARY:Church Services
DESCRIPTION:The Christian Science branch churches in Washington all provide regular Sunday Services and Sunday School. Service times may vary across the state\, so check our church directory to find the start time of the service you’d like to attend.
URL:https://christiansciencewa.org/event/church-services/2028-01-23/
CATEGORIES:Community Events
ATTACH;FMTTYPE=image/jpeg:https://christiansciencewa.org/wp-content/uploads/2022/11/bellvue-church-interior.jpg
END:VEVENT
BEGIN:VEVENT
DTSTART;TZID=America/Los_Angeles:20280126T193000
DTEND;TZID=America/Los_Angeles:20280126T203000
DTSTAMP:20260422T002548
CREATED:20230331T184201Z
LAST-MODIFIED:20230331T185039Z
UID:10000533-1832527800-1832531400@christiansciencewa.org
SUMMARY:Wednesday Testimony Meetings
DESCRIPTION:At the Wednesday meeting\, the service begins with inspiring readings from the Bible and Science and Health. Then\, members and visitors voluntarily share gratitude and testimonies of healing they’ve had as a result of using Christian Science. \nWednesday Testimony Meetings are open to everyone! Generally\, they are held on Wednesday evenings at 7:00 or 7:30 pm\, but each church in Washington state may have a different time. Check our church directory for the specific church you’re looking to attend.
URL:https://christiansciencewa.org/event/wednesday-testimony-meetings/2028-01-26/
CATEGORIES:Community Events
ATTACH;FMTTYPE=image/jpeg:https://christiansciencewa.org/wp-content/uploads/2022/11/third-church-seattle-e1669752752436.jpg
END:VEVENT
BEGIN:VEVENT
DTSTART;TZID=America/Los_Angeles:20280130T093000
DTEND;TZID=America/Los_Angeles:20280130T113000
DTSTAMP:20260422T002548
CREATED:20230331T184806Z
LAST-MODIFIED:20230331T184845Z
UID:10000798-1832837400-1832844600@christiansciencewa.org
SUMMARY:Church Services
DESCRIPTION:The Christian Science branch churches in Washington all provide regular Sunday Services and Sunday School. Service times may vary across the state\, so check our church directory to find the start time of the service you’d like to attend.
URL:https://christiansciencewa.org/event/church-services/2028-01-30/
CATEGORIES:Community Events
ATTACH;FMTTYPE=image/jpeg:https://christiansciencewa.org/wp-content/uploads/2022/11/bellvue-church-interior.jpg
END:VEVENT
BEGIN:VEVENT
DTSTART;TZID=America/Los_Angeles:20280202T193000
DTEND;TZID=America/Los_Angeles:20280202T203000
DTSTAMP:20260422T002548
CREATED:20230331T184201Z
LAST-MODIFIED:20230331T185039Z
UID:10000534-1833132600-1833136200@christiansciencewa.org
SUMMARY:Wednesday Testimony Meetings
DESCRIPTION:At the Wednesday meeting\, the service begins with inspiring readings from the Bible and Science and Health. Then\, members and visitors voluntarily share gratitude and testimonies of healing they’ve had as a result of using Christian Science. \nWednesday Testimony Meetings are open to everyone! Generally\, they are held on Wednesday evenings at 7:00 or 7:30 pm\, but each church in Washington state may have a different time. Check our church directory for the specific church you’re looking to attend.
URL:https://christiansciencewa.org/event/wednesday-testimony-meetings/2028-02-02/
CATEGORIES:Community Events
ATTACH;FMTTYPE=image/jpeg:https://christiansciencewa.org/wp-content/uploads/2022/11/third-church-seattle-e1669752752436.jpg
END:VEVENT
BEGIN:VEVENT
DTSTART;TZID=America/Los_Angeles:20280206T093000
DTEND;TZID=America/Los_Angeles:20280206T113000
DTSTAMP:20260422T002548
CREATED:20230331T184806Z
LAST-MODIFIED:20230331T184845Z
UID:10000799-1833442200-1833449400@christiansciencewa.org
SUMMARY:Church Services
DESCRIPTION:The Christian Science branch churches in Washington all provide regular Sunday Services and Sunday School. Service times may vary across the state\, so check our church directory to find the start time of the service you’d like to attend.
URL:https://christiansciencewa.org/event/church-services/2028-02-06/
CATEGORIES:Community Events
ATTACH;FMTTYPE=image/jpeg:https://christiansciencewa.org/wp-content/uploads/2022/11/bellvue-church-interior.jpg
END:VEVENT
BEGIN:VEVENT
DTSTART;TZID=America/Los_Angeles:20280209T193000
DTEND;TZID=America/Los_Angeles:20280209T203000
DTSTAMP:20260422T002548
CREATED:20230331T184201Z
LAST-MODIFIED:20230331T185039Z
UID:10000535-1833737400-1833741000@christiansciencewa.org
SUMMARY:Wednesday Testimony Meetings
DESCRIPTION:At the Wednesday meeting\, the service begins with inspiring readings from the Bible and Science and Health. Then\, members and visitors voluntarily share gratitude and testimonies of healing they’ve had as a result of using Christian Science. \nWednesday Testimony Meetings are open to everyone! Generally\, they are held on Wednesday evenings at 7:00 or 7:30 pm\, but each church in Washington state may have a different time. Check our church directory for the specific church you’re looking to attend.
URL:https://christiansciencewa.org/event/wednesday-testimony-meetings/2028-02-09/
CATEGORIES:Community Events
ATTACH;FMTTYPE=image/jpeg:https://christiansciencewa.org/wp-content/uploads/2022/11/third-church-seattle-e1669752752436.jpg
END:VEVENT
BEGIN:VEVENT
DTSTART;TZID=America/Los_Angeles:20280213T093000
DTEND;TZID=America/Los_Angeles:20280213T113000
DTSTAMP:20260422T002548
CREATED:20230331T184806Z
LAST-MODIFIED:20230331T184845Z
UID:10000800-1834047000-1834054200@christiansciencewa.org
SUMMARY:Church Services
DESCRIPTION:The Christian Science branch churches in Washington all provide regular Sunday Services and Sunday School. Service times may vary across the state\, so check our church directory to find the start time of the service you’d like to attend.
URL:https://christiansciencewa.org/event/church-services/2028-02-13/
CATEGORIES:Community Events
ATTACH;FMTTYPE=image/jpeg:https://christiansciencewa.org/wp-content/uploads/2022/11/bellvue-church-interior.jpg
END:VEVENT
BEGIN:VEVENT
DTSTART;TZID=America/Los_Angeles:20280216T193000
DTEND;TZID=America/Los_Angeles:20280216T203000
DTSTAMP:20260422T002548
CREATED:20230331T184201Z
LAST-MODIFIED:20230331T185039Z
UID:10000536-1834342200-1834345800@christiansciencewa.org
SUMMARY:Wednesday Testimony Meetings
DESCRIPTION:At the Wednesday meeting\, the service begins with inspiring readings from the Bible and Science and Health. Then\, members and visitors voluntarily share gratitude and testimonies of healing they’ve had as a result of using Christian Science. \nWednesday Testimony Meetings are open to everyone! Generally\, they are held on Wednesday evenings at 7:00 or 7:30 pm\, but each church in Washington state may have a different time. Check our church directory for the specific church you’re looking to attend.
URL:https://christiansciencewa.org/event/wednesday-testimony-meetings/2028-02-16/
CATEGORIES:Community Events
ATTACH;FMTTYPE=image/jpeg:https://christiansciencewa.org/wp-content/uploads/2022/11/third-church-seattle-e1669752752436.jpg
END:VEVENT
BEGIN:VEVENT
DTSTART;TZID=America/Los_Angeles:20280220T093000
DTEND;TZID=America/Los_Angeles:20280220T113000
DTSTAMP:20260422T002548
CREATED:20230331T184806Z
LAST-MODIFIED:20230331T184845Z
UID:10000801-1834651800-1834659000@christiansciencewa.org
SUMMARY:Church Services
DESCRIPTION:The Christian Science branch churches in Washington all provide regular Sunday Services and Sunday School. Service times may vary across the state\, so check our church directory to find the start time of the service you’d like to attend.
URL:https://christiansciencewa.org/event/church-services/2028-02-20/
CATEGORIES:Community Events
ATTACH;FMTTYPE=image/jpeg:https://christiansciencewa.org/wp-content/uploads/2022/11/bellvue-church-interior.jpg
END:VEVENT
BEGIN:VEVENT
DTSTART;TZID=America/Los_Angeles:20280223T193000
DTEND;TZID=America/Los_Angeles:20280223T203000
DTSTAMP:20260422T002548
CREATED:20230331T184201Z
LAST-MODIFIED:20230331T185039Z
UID:10000537-1834947000-1834950600@christiansciencewa.org
SUMMARY:Wednesday Testimony Meetings
DESCRIPTION:At the Wednesday meeting\, the service begins with inspiring readings from the Bible and Science and Health. Then\, members and visitors voluntarily share gratitude and testimonies of healing they’ve had as a result of using Christian Science. \nWednesday Testimony Meetings are open to everyone! Generally\, they are held on Wednesday evenings at 7:00 or 7:30 pm\, but each church in Washington state may have a different time. Check our church directory for the specific church you’re looking to attend.
URL:https://christiansciencewa.org/event/wednesday-testimony-meetings/2028-02-23/
CATEGORIES:Community Events
ATTACH;FMTTYPE=image/jpeg:https://christiansciencewa.org/wp-content/uploads/2022/11/third-church-seattle-e1669752752436.jpg
END:VEVENT
BEGIN:VEVENT
DTSTART;TZID=America/Los_Angeles:20280227T093000
DTEND;TZID=America/Los_Angeles:20280227T113000
DTSTAMP:20260422T002548
CREATED:20230331T184806Z
LAST-MODIFIED:20230331T184845Z
UID:10000802-1835256600-1835263800@christiansciencewa.org
SUMMARY:Church Services
DESCRIPTION:The Christian Science branch churches in Washington all provide regular Sunday Services and Sunday School. Service times may vary across the state\, so check our church directory to find the start time of the service you’d like to attend.
URL:https://christiansciencewa.org/event/church-services/2028-02-27/
CATEGORIES:Community Events
ATTACH;FMTTYPE=image/jpeg:https://christiansciencewa.org/wp-content/uploads/2022/11/bellvue-church-interior.jpg
END:VEVENT
BEGIN:VEVENT
DTSTART;TZID=America/Los_Angeles:20280301T193000
DTEND;TZID=America/Los_Angeles:20280301T203000
DTSTAMP:20260422T002548
CREATED:20230331T184201Z
LAST-MODIFIED:20230331T185039Z
UID:10000538-1835551800-1835555400@christiansciencewa.org
SUMMARY:Wednesday Testimony Meetings
DESCRIPTION:At the Wednesday meeting\, the service begins with inspiring readings from the Bible and Science and Health. Then\, members and visitors voluntarily share gratitude and testimonies of healing they’ve had as a result of using Christian Science. \nWednesday Testimony Meetings are open to everyone! Generally\, they are held on Wednesday evenings at 7:00 or 7:30 pm\, but each church in Washington state may have a different time. Check our church directory for the specific church you’re looking to attend.
URL:https://christiansciencewa.org/event/wednesday-testimony-meetings/2028-03-01/
CATEGORIES:Community Events
ATTACH;FMTTYPE=image/jpeg:https://christiansciencewa.org/wp-content/uploads/2022/11/third-church-seattle-e1669752752436.jpg
END:VEVENT
BEGIN:VEVENT
DTSTART;TZID=America/Los_Angeles:20280305T093000
DTEND;TZID=America/Los_Angeles:20280305T113000
DTSTAMP:20260422T002548
CREATED:20230331T184806Z
LAST-MODIFIED:20230331T184845Z
UID:10000803-1835861400-1835868600@christiansciencewa.org
SUMMARY:Church Services
DESCRIPTION:The Christian Science branch churches in Washington all provide regular Sunday Services and Sunday School. Service times may vary across the state\, so check our church directory to find the start time of the service you’d like to attend.
URL:https://christiansciencewa.org/event/church-services/2028-03-05/
CATEGORIES:Community Events
ATTACH;FMTTYPE=image/jpeg:https://christiansciencewa.org/wp-content/uploads/2022/11/bellvue-church-interior.jpg
END:VEVENT
BEGIN:VEVENT
DTSTART;TZID=America/Los_Angeles:20280308T193000
DTEND;TZID=America/Los_Angeles:20280308T203000
DTSTAMP:20260422T002548
CREATED:20230331T184201Z
LAST-MODIFIED:20230331T185039Z
UID:10000539-1836156600-1836160200@christiansciencewa.org
SUMMARY:Wednesday Testimony Meetings
DESCRIPTION:At the Wednesday meeting\, the service begins with inspiring readings from the Bible and Science and Health. Then\, members and visitors voluntarily share gratitude and testimonies of healing they’ve had as a result of using Christian Science. \nWednesday Testimony Meetings are open to everyone! Generally\, they are held on Wednesday evenings at 7:00 or 7:30 pm\, but each church in Washington state may have a different time. Check our church directory for the specific church you’re looking to attend.
URL:https://christiansciencewa.org/event/wednesday-testimony-meetings/2028-03-08/
CATEGORIES:Community Events
ATTACH;FMTTYPE=image/jpeg:https://christiansciencewa.org/wp-content/uploads/2022/11/third-church-seattle-e1669752752436.jpg
END:VEVENT
BEGIN:VEVENT
DTSTART;TZID=America/Los_Angeles:20280312T093000
DTEND;TZID=America/Los_Angeles:20280312T113000
DTSTAMP:20260422T002548
CREATED:20230331T184806Z
LAST-MODIFIED:20230331T184845Z
UID:10000804-1836466200-1836473400@christiansciencewa.org
SUMMARY:Church Services
DESCRIPTION:The Christian Science branch churches in Washington all provide regular Sunday Services and Sunday School. Service times may vary across the state\, so check our church directory to find the start time of the service you’d like to attend.
URL:https://christiansciencewa.org/event/church-services/2028-03-12/
CATEGORIES:Community Events
ATTACH;FMTTYPE=image/jpeg:https://christiansciencewa.org/wp-content/uploads/2022/11/bellvue-church-interior.jpg
END:VEVENT
BEGIN:VEVENT
DTSTART;TZID=America/Los_Angeles:20280315T193000
DTEND;TZID=America/Los_Angeles:20280315T203000
DTSTAMP:20260422T002548
CREATED:20230331T184201Z
LAST-MODIFIED:20230331T185039Z
UID:10000540-1836761400-1836765000@christiansciencewa.org
SUMMARY:Wednesday Testimony Meetings
DESCRIPTION:At the Wednesday meeting\, the service begins with inspiring readings from the Bible and Science and Health. Then\, members and visitors voluntarily share gratitude and testimonies of healing they’ve had as a result of using Christian Science. \nWednesday Testimony Meetings are open to everyone! Generally\, they are held on Wednesday evenings at 7:00 or 7:30 pm\, but each church in Washington state may have a different time. Check our church directory for the specific church you’re looking to attend.
URL:https://christiansciencewa.org/event/wednesday-testimony-meetings/2028-03-15/
CATEGORIES:Community Events
ATTACH;FMTTYPE=image/jpeg:https://christiansciencewa.org/wp-content/uploads/2022/11/third-church-seattle-e1669752752436.jpg
END:VEVENT
BEGIN:VEVENT
DTSTART;TZID=America/Los_Angeles:20280319T093000
DTEND;TZID=America/Los_Angeles:20280319T113000
DTSTAMP:20260422T002548
CREATED:20230331T184806Z
LAST-MODIFIED:20230331T184845Z
UID:10000805-1837071000-1837078200@christiansciencewa.org
SUMMARY:Church Services
DESCRIPTION:The Christian Science branch churches in Washington all provide regular Sunday Services and Sunday School. Service times may vary across the state\, so check our church directory to find the start time of the service you’d like to attend.
URL:https://christiansciencewa.org/event/church-services/2028-03-19/
CATEGORIES:Community Events
ATTACH;FMTTYPE=image/jpeg:https://christiansciencewa.org/wp-content/uploads/2022/11/bellvue-church-interior.jpg
END:VEVENT
BEGIN:VEVENT
DTSTART;TZID=America/Los_Angeles:20280322T193000
DTEND;TZID=America/Los_Angeles:20280322T203000
DTSTAMP:20260422T002548
CREATED:20230331T184201Z
LAST-MODIFIED:20230331T185039Z
UID:10000541-1837366200-1837369800@christiansciencewa.org
SUMMARY:Wednesday Testimony Meetings
DESCRIPTION:At the Wednesday meeting\, the service begins with inspiring readings from the Bible and Science and Health. Then\, members and visitors voluntarily share gratitude and testimonies of healing they’ve had as a result of using Christian Science. \nWednesday Testimony Meetings are open to everyone! Generally\, they are held on Wednesday evenings at 7:00 or 7:30 pm\, but each church in Washington state may have a different time. Check our church directory for the specific church you’re looking to attend.
URL:https://christiansciencewa.org/event/wednesday-testimony-meetings/2028-03-22/
CATEGORIES:Community Events
ATTACH;FMTTYPE=image/jpeg:https://christiansciencewa.org/wp-content/uploads/2022/11/third-church-seattle-e1669752752436.jpg
END:VEVENT
BEGIN:VEVENT
DTSTART;TZID=America/Los_Angeles:20280326T093000
DTEND;TZID=America/Los_Angeles:20280326T113000
DTSTAMP:20260422T002548
CREATED:20230331T184806Z
LAST-MODIFIED:20230331T184845Z
UID:10000806-1837675800-1837683000@christiansciencewa.org
SUMMARY:Church Services
DESCRIPTION:The Christian Science branch churches in Washington all provide regular Sunday Services and Sunday School. Service times may vary across the state\, so check our church directory to find the start time of the service you’d like to attend.
URL:https://christiansciencewa.org/event/church-services/2028-03-26/
CATEGORIES:Community Events
ATTACH;FMTTYPE=image/jpeg:https://christiansciencewa.org/wp-content/uploads/2022/11/bellvue-church-interior.jpg
END:VEVENT
BEGIN:VEVENT
DTSTART;TZID=America/Los_Angeles:20280329T193000
DTEND;TZID=America/Los_Angeles:20280329T203000
DTSTAMP:20260422T002548
CREATED:20230331T184201Z
LAST-MODIFIED:20230331T185039Z
UID:10000542-1837971000-1837974600@christiansciencewa.org
SUMMARY:Wednesday Testimony Meetings
DESCRIPTION:At the Wednesday meeting\, the service begins with inspiring readings from the Bible and Science and Health. Then\, members and visitors voluntarily share gratitude and testimonies of healing they’ve had as a result of using Christian Science. \nWednesday Testimony Meetings are open to everyone! Generally\, they are held on Wednesday evenings at 7:00 or 7:30 pm\, but each church in Washington state may have a different time. Check our church directory for the specific church you’re looking to attend.
URL:https://christiansciencewa.org/event/wednesday-testimony-meetings/2028-03-29/
CATEGORIES:Community Events
ATTACH;FMTTYPE=image/jpeg:https://christiansciencewa.org/wp-content/uploads/2022/11/third-church-seattle-e1669752752436.jpg
END:VEVENT
END:VCALENDAR