BEGIN:VCALENDAR
VERSION:2.0
PRODID:-//Christian Science in Washington State - ECPv6.15.20//NONSGML v1.0//EN
CALSCALE:GREGORIAN
METHOD:PUBLISH
X-WR-CALNAME:Christian Science in Washington State
X-ORIGINAL-URL:https://christiansciencewa.org
X-WR-CALDESC:Events for Christian Science in Washington State
REFRESH-INTERVAL;VALUE=DURATION:PT1H
X-Robots-Tag:noindex
X-PUBLISHED-TTL:PT1H
BEGIN:VTIMEZONE
TZID:America/Los_Angeles
BEGIN:DAYLIGHT
TZOFFSETFROM:-0800
TZOFFSETTO:-0700
TZNAME:PDT
DTSTART:20260308T100000
END:DAYLIGHT
BEGIN:STANDARD
TZOFFSETFROM:-0700
TZOFFSETTO:-0800
TZNAME:PST
DTSTART:20261101T090000
END:STANDARD
BEGIN:DAYLIGHT
TZOFFSETFROM:-0800
TZOFFSETTO:-0700
TZNAME:PDT
DTSTART:20270314T100000
END:DAYLIGHT
BEGIN:STANDARD
TZOFFSETFROM:-0700
TZOFFSETTO:-0800
TZNAME:PST
DTSTART:20271107T090000
END:STANDARD
BEGIN:DAYLIGHT
TZOFFSETFROM:-0800
TZOFFSETTO:-0700
TZNAME:PDT
DTSTART:20280312T100000
END:DAYLIGHT
BEGIN:STANDARD
TZOFFSETFROM:-0700
TZOFFSETTO:-0800
TZNAME:PST
DTSTART:20281105T090000
END:STANDARD
END:VTIMEZONE
BEGIN:VEVENT
DTSTART;TZID=America/Los_Angeles:20270912T093000
DTEND;TZID=America/Los_Angeles:20270912T113000
DTSTAMP:20260421T191158
CREATED:20230331T184806Z
LAST-MODIFIED:20230331T184845Z
UID:10000778-1820741400-1820748600@christiansciencewa.org
SUMMARY:Church Services
DESCRIPTION:The Christian Science branch churches in Washington all provide regular Sunday Services and Sunday School. Service times may vary across the state\, so check our church directory to find the start time of the service you’d like to attend.
URL:https://christiansciencewa.org/event/church-services/2027-09-12/
CATEGORIES:Community Events
ATTACH;FMTTYPE=image/jpeg:https://christiansciencewa.org/wp-content/uploads/2022/11/bellvue-church-interior.jpg
END:VEVENT
BEGIN:VEVENT
DTSTART;TZID=America/Los_Angeles:20270915T193000
DTEND;TZID=America/Los_Angeles:20270915T203000
DTSTAMP:20260421T191158
CREATED:20230331T184201Z
LAST-MODIFIED:20230331T185039Z
UID:10000514-1821036600-1821040200@christiansciencewa.org
SUMMARY:Wednesday Testimony Meetings
DESCRIPTION:At the Wednesday meeting\, the service begins with inspiring readings from the Bible and Science and Health. Then\, members and visitors voluntarily share gratitude and testimonies of healing they’ve had as a result of using Christian Science. \nWednesday Testimony Meetings are open to everyone! Generally\, they are held on Wednesday evenings at 7:00 or 7:30 pm\, but each church in Washington state may have a different time. Check our church directory for the specific church you’re looking to attend.
URL:https://christiansciencewa.org/event/wednesday-testimony-meetings/2027-09-15/
CATEGORIES:Community Events
ATTACH;FMTTYPE=image/jpeg:https://christiansciencewa.org/wp-content/uploads/2022/11/third-church-seattle-e1669752752436.jpg
END:VEVENT
BEGIN:VEVENT
DTSTART;TZID=America/Los_Angeles:20270919T093000
DTEND;TZID=America/Los_Angeles:20270919T113000
DTSTAMP:20260421T191158
CREATED:20230331T184806Z
LAST-MODIFIED:20230331T184845Z
UID:10000779-1821346200-1821353400@christiansciencewa.org
SUMMARY:Church Services
DESCRIPTION:The Christian Science branch churches in Washington all provide regular Sunday Services and Sunday School. Service times may vary across the state\, so check our church directory to find the start time of the service you’d like to attend.
URL:https://christiansciencewa.org/event/church-services/2027-09-19/
CATEGORIES:Community Events
ATTACH;FMTTYPE=image/jpeg:https://christiansciencewa.org/wp-content/uploads/2022/11/bellvue-church-interior.jpg
END:VEVENT
BEGIN:VEVENT
DTSTART;TZID=America/Los_Angeles:20270922T193000
DTEND;TZID=America/Los_Angeles:20270922T203000
DTSTAMP:20260421T191158
CREATED:20230331T184201Z
LAST-MODIFIED:20230331T185039Z
UID:10000515-1821641400-1821645000@christiansciencewa.org
SUMMARY:Wednesday Testimony Meetings
DESCRIPTION:At the Wednesday meeting\, the service begins with inspiring readings from the Bible and Science and Health. Then\, members and visitors voluntarily share gratitude and testimonies of healing they’ve had as a result of using Christian Science. \nWednesday Testimony Meetings are open to everyone! Generally\, they are held on Wednesday evenings at 7:00 or 7:30 pm\, but each church in Washington state may have a different time. Check our church directory for the specific church you’re looking to attend.
URL:https://christiansciencewa.org/event/wednesday-testimony-meetings/2027-09-22/
CATEGORIES:Community Events
ATTACH;FMTTYPE=image/jpeg:https://christiansciencewa.org/wp-content/uploads/2022/11/third-church-seattle-e1669752752436.jpg
END:VEVENT
BEGIN:VEVENT
DTSTART;TZID=America/Los_Angeles:20270926T093000
DTEND;TZID=America/Los_Angeles:20270926T113000
DTSTAMP:20260421T191158
CREATED:20230331T184806Z
LAST-MODIFIED:20230331T184845Z
UID:10000780-1821951000-1821958200@christiansciencewa.org
SUMMARY:Church Services
DESCRIPTION:The Christian Science branch churches in Washington all provide regular Sunday Services and Sunday School. Service times may vary across the state\, so check our church directory to find the start time of the service you’d like to attend.
URL:https://christiansciencewa.org/event/church-services/2027-09-26/
CATEGORIES:Community Events
ATTACH;FMTTYPE=image/jpeg:https://christiansciencewa.org/wp-content/uploads/2022/11/bellvue-church-interior.jpg
END:VEVENT
BEGIN:VEVENT
DTSTART;TZID=America/Los_Angeles:20270929T193000
DTEND;TZID=America/Los_Angeles:20270929T203000
DTSTAMP:20260421T191158
CREATED:20230331T184201Z
LAST-MODIFIED:20230331T185039Z
UID:10000516-1822246200-1822249800@christiansciencewa.org
SUMMARY:Wednesday Testimony Meetings
DESCRIPTION:At the Wednesday meeting\, the service begins with inspiring readings from the Bible and Science and Health. Then\, members and visitors voluntarily share gratitude and testimonies of healing they’ve had as a result of using Christian Science. \nWednesday Testimony Meetings are open to everyone! Generally\, they are held on Wednesday evenings at 7:00 or 7:30 pm\, but each church in Washington state may have a different time. Check our church directory for the specific church you’re looking to attend.
URL:https://christiansciencewa.org/event/wednesday-testimony-meetings/2027-09-29/
CATEGORIES:Community Events
ATTACH;FMTTYPE=image/jpeg:https://christiansciencewa.org/wp-content/uploads/2022/11/third-church-seattle-e1669752752436.jpg
END:VEVENT
BEGIN:VEVENT
DTSTART;TZID=America/Los_Angeles:20271003T093000
DTEND;TZID=America/Los_Angeles:20271003T113000
DTSTAMP:20260421T191158
CREATED:20230331T184806Z
LAST-MODIFIED:20230331T184845Z
UID:10000781-1822555800-1822563000@christiansciencewa.org
SUMMARY:Church Services
DESCRIPTION:The Christian Science branch churches in Washington all provide regular Sunday Services and Sunday School. Service times may vary across the state\, so check our church directory to find the start time of the service you’d like to attend.
URL:https://christiansciencewa.org/event/church-services/2027-10-03/
CATEGORIES:Community Events
ATTACH;FMTTYPE=image/jpeg:https://christiansciencewa.org/wp-content/uploads/2022/11/bellvue-church-interior.jpg
END:VEVENT
BEGIN:VEVENT
DTSTART;TZID=America/Los_Angeles:20271006T193000
DTEND;TZID=America/Los_Angeles:20271006T203000
DTSTAMP:20260421T191158
CREATED:20230331T184201Z
LAST-MODIFIED:20230331T185039Z
UID:10000517-1822851000-1822854600@christiansciencewa.org
SUMMARY:Wednesday Testimony Meetings
DESCRIPTION:At the Wednesday meeting\, the service begins with inspiring readings from the Bible and Science and Health. Then\, members and visitors voluntarily share gratitude and testimonies of healing they’ve had as a result of using Christian Science. \nWednesday Testimony Meetings are open to everyone! Generally\, they are held on Wednesday evenings at 7:00 or 7:30 pm\, but each church in Washington state may have a different time. Check our church directory for the specific church you’re looking to attend.
URL:https://christiansciencewa.org/event/wednesday-testimony-meetings/2027-10-06/
CATEGORIES:Community Events
ATTACH;FMTTYPE=image/jpeg:https://christiansciencewa.org/wp-content/uploads/2022/11/third-church-seattle-e1669752752436.jpg
END:VEVENT
BEGIN:VEVENT
DTSTART;TZID=America/Los_Angeles:20271010T093000
DTEND;TZID=America/Los_Angeles:20271010T113000
DTSTAMP:20260421T191158
CREATED:20230331T184806Z
LAST-MODIFIED:20230331T184845Z
UID:10000782-1823160600-1823167800@christiansciencewa.org
SUMMARY:Church Services
DESCRIPTION:The Christian Science branch churches in Washington all provide regular Sunday Services and Sunday School. Service times may vary across the state\, so check our church directory to find the start time of the service you’d like to attend.
URL:https://christiansciencewa.org/event/church-services/2027-10-10/
CATEGORIES:Community Events
ATTACH;FMTTYPE=image/jpeg:https://christiansciencewa.org/wp-content/uploads/2022/11/bellvue-church-interior.jpg
END:VEVENT
BEGIN:VEVENT
DTSTART;TZID=America/Los_Angeles:20271013T193000
DTEND;TZID=America/Los_Angeles:20271013T203000
DTSTAMP:20260421T191158
CREATED:20230331T184201Z
LAST-MODIFIED:20230331T185039Z
UID:10000518-1823455800-1823459400@christiansciencewa.org
SUMMARY:Wednesday Testimony Meetings
DESCRIPTION:At the Wednesday meeting\, the service begins with inspiring readings from the Bible and Science and Health. Then\, members and visitors voluntarily share gratitude and testimonies of healing they’ve had as a result of using Christian Science. \nWednesday Testimony Meetings are open to everyone! Generally\, they are held on Wednesday evenings at 7:00 or 7:30 pm\, but each church in Washington state may have a different time. Check our church directory for the specific church you’re looking to attend.
URL:https://christiansciencewa.org/event/wednesday-testimony-meetings/2027-10-13/
CATEGORIES:Community Events
ATTACH;FMTTYPE=image/jpeg:https://christiansciencewa.org/wp-content/uploads/2022/11/third-church-seattle-e1669752752436.jpg
END:VEVENT
BEGIN:VEVENT
DTSTART;TZID=America/Los_Angeles:20271017T093000
DTEND;TZID=America/Los_Angeles:20271017T113000
DTSTAMP:20260421T191158
CREATED:20230331T184806Z
LAST-MODIFIED:20230331T184845Z
UID:10000783-1823765400-1823772600@christiansciencewa.org
SUMMARY:Church Services
DESCRIPTION:The Christian Science branch churches in Washington all provide regular Sunday Services and Sunday School. Service times may vary across the state\, so check our church directory to find the start time of the service you’d like to attend.
URL:https://christiansciencewa.org/event/church-services/2027-10-17/
CATEGORIES:Community Events
ATTACH;FMTTYPE=image/jpeg:https://christiansciencewa.org/wp-content/uploads/2022/11/bellvue-church-interior.jpg
END:VEVENT
BEGIN:VEVENT
DTSTART;TZID=America/Los_Angeles:20271020T193000
DTEND;TZID=America/Los_Angeles:20271020T203000
DTSTAMP:20260421T191158
CREATED:20230331T184201Z
LAST-MODIFIED:20230331T185039Z
UID:10000519-1824060600-1824064200@christiansciencewa.org
SUMMARY:Wednesday Testimony Meetings
DESCRIPTION:At the Wednesday meeting\, the service begins with inspiring readings from the Bible and Science and Health. Then\, members and visitors voluntarily share gratitude and testimonies of healing they’ve had as a result of using Christian Science. \nWednesday Testimony Meetings are open to everyone! Generally\, they are held on Wednesday evenings at 7:00 or 7:30 pm\, but each church in Washington state may have a different time. Check our church directory for the specific church you’re looking to attend.
URL:https://christiansciencewa.org/event/wednesday-testimony-meetings/2027-10-20/
CATEGORIES:Community Events
ATTACH;FMTTYPE=image/jpeg:https://christiansciencewa.org/wp-content/uploads/2022/11/third-church-seattle-e1669752752436.jpg
END:VEVENT
BEGIN:VEVENT
DTSTART;TZID=America/Los_Angeles:20271024T093000
DTEND;TZID=America/Los_Angeles:20271024T113000
DTSTAMP:20260421T191158
CREATED:20230331T184806Z
LAST-MODIFIED:20230331T184845Z
UID:10000784-1824370200-1824377400@christiansciencewa.org
SUMMARY:Church Services
DESCRIPTION:The Christian Science branch churches in Washington all provide regular Sunday Services and Sunday School. Service times may vary across the state\, so check our church directory to find the start time of the service you’d like to attend.
URL:https://christiansciencewa.org/event/church-services/2027-10-24/
CATEGORIES:Community Events
ATTACH;FMTTYPE=image/jpeg:https://christiansciencewa.org/wp-content/uploads/2022/11/bellvue-church-interior.jpg
END:VEVENT
BEGIN:VEVENT
DTSTART;TZID=America/Los_Angeles:20271027T193000
DTEND;TZID=America/Los_Angeles:20271027T203000
DTSTAMP:20260421T191158
CREATED:20230331T184201Z
LAST-MODIFIED:20230331T185039Z
UID:10000520-1824665400-1824669000@christiansciencewa.org
SUMMARY:Wednesday Testimony Meetings
DESCRIPTION:At the Wednesday meeting\, the service begins with inspiring readings from the Bible and Science and Health. Then\, members and visitors voluntarily share gratitude and testimonies of healing they’ve had as a result of using Christian Science. \nWednesday Testimony Meetings are open to everyone! Generally\, they are held on Wednesday evenings at 7:00 or 7:30 pm\, but each church in Washington state may have a different time. Check our church directory for the specific church you’re looking to attend.
URL:https://christiansciencewa.org/event/wednesday-testimony-meetings/2027-10-27/
CATEGORIES:Community Events
ATTACH;FMTTYPE=image/jpeg:https://christiansciencewa.org/wp-content/uploads/2022/11/third-church-seattle-e1669752752436.jpg
END:VEVENT
BEGIN:VEVENT
DTSTART;TZID=America/Los_Angeles:20271031T093000
DTEND;TZID=America/Los_Angeles:20271031T113000
DTSTAMP:20260421T191158
CREATED:20230331T184806Z
LAST-MODIFIED:20230331T184845Z
UID:10000785-1824975000-1824982200@christiansciencewa.org
SUMMARY:Church Services
DESCRIPTION:The Christian Science branch churches in Washington all provide regular Sunday Services and Sunday School. Service times may vary across the state\, so check our church directory to find the start time of the service you’d like to attend.
URL:https://christiansciencewa.org/event/church-services/2027-10-31/
CATEGORIES:Community Events
ATTACH;FMTTYPE=image/jpeg:https://christiansciencewa.org/wp-content/uploads/2022/11/bellvue-church-interior.jpg
END:VEVENT
BEGIN:VEVENT
DTSTART;TZID=America/Los_Angeles:20271103T193000
DTEND;TZID=America/Los_Angeles:20271103T203000
DTSTAMP:20260421T191158
CREATED:20230331T184201Z
LAST-MODIFIED:20230331T185039Z
UID:10000521-1825270200-1825273800@christiansciencewa.org
SUMMARY:Wednesday Testimony Meetings
DESCRIPTION:At the Wednesday meeting\, the service begins with inspiring readings from the Bible and Science and Health. Then\, members and visitors voluntarily share gratitude and testimonies of healing they’ve had as a result of using Christian Science. \nWednesday Testimony Meetings are open to everyone! Generally\, they are held on Wednesday evenings at 7:00 or 7:30 pm\, but each church in Washington state may have a different time. Check our church directory for the specific church you’re looking to attend.
URL:https://christiansciencewa.org/event/wednesday-testimony-meetings/2027-11-03/
CATEGORIES:Community Events
ATTACH;FMTTYPE=image/jpeg:https://christiansciencewa.org/wp-content/uploads/2022/11/third-church-seattle-e1669752752436.jpg
END:VEVENT
BEGIN:VEVENT
DTSTART;TZID=America/Los_Angeles:20271107T093000
DTEND;TZID=America/Los_Angeles:20271107T113000
DTSTAMP:20260421T191158
CREATED:20230331T184806Z
LAST-MODIFIED:20230331T184845Z
UID:10000786-1825579800-1825587000@christiansciencewa.org
SUMMARY:Church Services
DESCRIPTION:The Christian Science branch churches in Washington all provide regular Sunday Services and Sunday School. Service times may vary across the state\, so check our church directory to find the start time of the service you’d like to attend.
URL:https://christiansciencewa.org/event/church-services/2027-11-07/
CATEGORIES:Community Events
ATTACH;FMTTYPE=image/jpeg:https://christiansciencewa.org/wp-content/uploads/2022/11/bellvue-church-interior.jpg
END:VEVENT
BEGIN:VEVENT
DTSTART;TZID=America/Los_Angeles:20271110T193000
DTEND;TZID=America/Los_Angeles:20271110T203000
DTSTAMP:20260421T191158
CREATED:20230331T184201Z
LAST-MODIFIED:20230331T185039Z
UID:10000522-1825875000-1825878600@christiansciencewa.org
SUMMARY:Wednesday Testimony Meetings
DESCRIPTION:At the Wednesday meeting\, the service begins with inspiring readings from the Bible and Science and Health. Then\, members and visitors voluntarily share gratitude and testimonies of healing they’ve had as a result of using Christian Science. \nWednesday Testimony Meetings are open to everyone! Generally\, they are held on Wednesday evenings at 7:00 or 7:30 pm\, but each church in Washington state may have a different time. Check our church directory for the specific church you’re looking to attend.
URL:https://christiansciencewa.org/event/wednesday-testimony-meetings/2027-11-10/
CATEGORIES:Community Events
ATTACH;FMTTYPE=image/jpeg:https://christiansciencewa.org/wp-content/uploads/2022/11/third-church-seattle-e1669752752436.jpg
END:VEVENT
BEGIN:VEVENT
DTSTART;TZID=America/Los_Angeles:20271114T093000
DTEND;TZID=America/Los_Angeles:20271114T113000
DTSTAMP:20260421T191158
CREATED:20230331T184806Z
LAST-MODIFIED:20230331T184845Z
UID:10000787-1826184600-1826191800@christiansciencewa.org
SUMMARY:Church Services
DESCRIPTION:The Christian Science branch churches in Washington all provide regular Sunday Services and Sunday School. Service times may vary across the state\, so check our church directory to find the start time of the service you’d like to attend.
URL:https://christiansciencewa.org/event/church-services/2027-11-14/
CATEGORIES:Community Events
ATTACH;FMTTYPE=image/jpeg:https://christiansciencewa.org/wp-content/uploads/2022/11/bellvue-church-interior.jpg
END:VEVENT
BEGIN:VEVENT
DTSTART;TZID=America/Los_Angeles:20271117T193000
DTEND;TZID=America/Los_Angeles:20271117T203000
DTSTAMP:20260421T191158
CREATED:20230331T184201Z
LAST-MODIFIED:20230331T185039Z
UID:10000523-1826479800-1826483400@christiansciencewa.org
SUMMARY:Wednesday Testimony Meetings
DESCRIPTION:At the Wednesday meeting\, the service begins with inspiring readings from the Bible and Science and Health. Then\, members and visitors voluntarily share gratitude and testimonies of healing they’ve had as a result of using Christian Science. \nWednesday Testimony Meetings are open to everyone! Generally\, they are held on Wednesday evenings at 7:00 or 7:30 pm\, but each church in Washington state may have a different time. Check our church directory for the specific church you’re looking to attend.
URL:https://christiansciencewa.org/event/wednesday-testimony-meetings/2027-11-17/
CATEGORIES:Community Events
ATTACH;FMTTYPE=image/jpeg:https://christiansciencewa.org/wp-content/uploads/2022/11/third-church-seattle-e1669752752436.jpg
END:VEVENT
BEGIN:VEVENT
DTSTART;TZID=America/Los_Angeles:20271121T093000
DTEND;TZID=America/Los_Angeles:20271121T113000
DTSTAMP:20260421T191158
CREATED:20230331T184806Z
LAST-MODIFIED:20230331T184845Z
UID:10000788-1826789400-1826796600@christiansciencewa.org
SUMMARY:Church Services
DESCRIPTION:The Christian Science branch churches in Washington all provide regular Sunday Services and Sunday School. Service times may vary across the state\, so check our church directory to find the start time of the service you’d like to attend.
URL:https://christiansciencewa.org/event/church-services/2027-11-21/
CATEGORIES:Community Events
ATTACH;FMTTYPE=image/jpeg:https://christiansciencewa.org/wp-content/uploads/2022/11/bellvue-church-interior.jpg
END:VEVENT
BEGIN:VEVENT
DTSTART;TZID=America/Los_Angeles:20271124T193000
DTEND;TZID=America/Los_Angeles:20271124T203000
DTSTAMP:20260421T191158
CREATED:20230331T184201Z
LAST-MODIFIED:20230331T185039Z
UID:10000524-1827084600-1827088200@christiansciencewa.org
SUMMARY:Wednesday Testimony Meetings
DESCRIPTION:At the Wednesday meeting\, the service begins with inspiring readings from the Bible and Science and Health. Then\, members and visitors voluntarily share gratitude and testimonies of healing they’ve had as a result of using Christian Science. \nWednesday Testimony Meetings are open to everyone! Generally\, they are held on Wednesday evenings at 7:00 or 7:30 pm\, but each church in Washington state may have a different time. Check our church directory for the specific church you’re looking to attend.
URL:https://christiansciencewa.org/event/wednesday-testimony-meetings/2027-11-24/
CATEGORIES:Community Events
ATTACH;FMTTYPE=image/jpeg:https://christiansciencewa.org/wp-content/uploads/2022/11/third-church-seattle-e1669752752436.jpg
END:VEVENT
BEGIN:VEVENT
DTSTART;TZID=America/Los_Angeles:20271128T093000
DTEND;TZID=America/Los_Angeles:20271128T113000
DTSTAMP:20260421T191158
CREATED:20230331T184806Z
LAST-MODIFIED:20230331T184845Z
UID:10000789-1827394200-1827401400@christiansciencewa.org
SUMMARY:Church Services
DESCRIPTION:The Christian Science branch churches in Washington all provide regular Sunday Services and Sunday School. Service times may vary across the state\, so check our church directory to find the start time of the service you’d like to attend.
URL:https://christiansciencewa.org/event/church-services/2027-11-28/
CATEGORIES:Community Events
ATTACH;FMTTYPE=image/jpeg:https://christiansciencewa.org/wp-content/uploads/2022/11/bellvue-church-interior.jpg
END:VEVENT
BEGIN:VEVENT
DTSTART;TZID=America/Los_Angeles:20271201T193000
DTEND;TZID=America/Los_Angeles:20271201T203000
DTSTAMP:20260421T191158
CREATED:20230331T184201Z
LAST-MODIFIED:20230331T185039Z
UID:10000525-1827689400-1827693000@christiansciencewa.org
SUMMARY:Wednesday Testimony Meetings
DESCRIPTION:At the Wednesday meeting\, the service begins with inspiring readings from the Bible and Science and Health. Then\, members and visitors voluntarily share gratitude and testimonies of healing they’ve had as a result of using Christian Science. \nWednesday Testimony Meetings are open to everyone! Generally\, they are held on Wednesday evenings at 7:00 or 7:30 pm\, but each church in Washington state may have a different time. Check our church directory for the specific church you’re looking to attend.
URL:https://christiansciencewa.org/event/wednesday-testimony-meetings/2027-12-01/
CATEGORIES:Community Events
ATTACH;FMTTYPE=image/jpeg:https://christiansciencewa.org/wp-content/uploads/2022/11/third-church-seattle-e1669752752436.jpg
END:VEVENT
BEGIN:VEVENT
DTSTART;TZID=America/Los_Angeles:20271205T093000
DTEND;TZID=America/Los_Angeles:20271205T113000
DTSTAMP:20260421T191158
CREATED:20230331T184806Z
LAST-MODIFIED:20230331T184845Z
UID:10000790-1827999000-1828006200@christiansciencewa.org
SUMMARY:Church Services
DESCRIPTION:The Christian Science branch churches in Washington all provide regular Sunday Services and Sunday School. Service times may vary across the state\, so check our church directory to find the start time of the service you’d like to attend.
URL:https://christiansciencewa.org/event/church-services/2027-12-05/
CATEGORIES:Community Events
ATTACH;FMTTYPE=image/jpeg:https://christiansciencewa.org/wp-content/uploads/2022/11/bellvue-church-interior.jpg
END:VEVENT
BEGIN:VEVENT
DTSTART;TZID=America/Los_Angeles:20271208T193000
DTEND;TZID=America/Los_Angeles:20271208T203000
DTSTAMP:20260421T191158
CREATED:20230331T184201Z
LAST-MODIFIED:20230331T185039Z
UID:10000526-1828294200-1828297800@christiansciencewa.org
SUMMARY:Wednesday Testimony Meetings
DESCRIPTION:At the Wednesday meeting\, the service begins with inspiring readings from the Bible and Science and Health. Then\, members and visitors voluntarily share gratitude and testimonies of healing they’ve had as a result of using Christian Science. \nWednesday Testimony Meetings are open to everyone! Generally\, they are held on Wednesday evenings at 7:00 or 7:30 pm\, but each church in Washington state may have a different time. Check our church directory for the specific church you’re looking to attend.
URL:https://christiansciencewa.org/event/wednesday-testimony-meetings/2027-12-08/
CATEGORIES:Community Events
ATTACH;FMTTYPE=image/jpeg:https://christiansciencewa.org/wp-content/uploads/2022/11/third-church-seattle-e1669752752436.jpg
END:VEVENT
BEGIN:VEVENT
DTSTART;TZID=America/Los_Angeles:20271212T093000
DTEND;TZID=America/Los_Angeles:20271212T113000
DTSTAMP:20260421T191158
CREATED:20230331T184806Z
LAST-MODIFIED:20230331T184845Z
UID:10000791-1828603800-1828611000@christiansciencewa.org
SUMMARY:Church Services
DESCRIPTION:The Christian Science branch churches in Washington all provide regular Sunday Services and Sunday School. Service times may vary across the state\, so check our church directory to find the start time of the service you’d like to attend.
URL:https://christiansciencewa.org/event/church-services/2027-12-12/
CATEGORIES:Community Events
ATTACH;FMTTYPE=image/jpeg:https://christiansciencewa.org/wp-content/uploads/2022/11/bellvue-church-interior.jpg
END:VEVENT
BEGIN:VEVENT
DTSTART;TZID=America/Los_Angeles:20271215T193000
DTEND;TZID=America/Los_Angeles:20271215T203000
DTSTAMP:20260421T191158
CREATED:20230331T184201Z
LAST-MODIFIED:20230331T185039Z
UID:10000527-1828899000-1828902600@christiansciencewa.org
SUMMARY:Wednesday Testimony Meetings
DESCRIPTION:At the Wednesday meeting\, the service begins with inspiring readings from the Bible and Science and Health. Then\, members and visitors voluntarily share gratitude and testimonies of healing they’ve had as a result of using Christian Science. \nWednesday Testimony Meetings are open to everyone! Generally\, they are held on Wednesday evenings at 7:00 or 7:30 pm\, but each church in Washington state may have a different time. Check our church directory for the specific church you’re looking to attend.
URL:https://christiansciencewa.org/event/wednesday-testimony-meetings/2027-12-15/
CATEGORIES:Community Events
ATTACH;FMTTYPE=image/jpeg:https://christiansciencewa.org/wp-content/uploads/2022/11/third-church-seattle-e1669752752436.jpg
END:VEVENT
BEGIN:VEVENT
DTSTART;TZID=America/Los_Angeles:20271219T093000
DTEND;TZID=America/Los_Angeles:20271219T113000
DTSTAMP:20260421T191158
CREATED:20230331T184806Z
LAST-MODIFIED:20230331T184845Z
UID:10000792-1829208600-1829215800@christiansciencewa.org
SUMMARY:Church Services
DESCRIPTION:The Christian Science branch churches in Washington all provide regular Sunday Services and Sunday School. Service times may vary across the state\, so check our church directory to find the start time of the service you’d like to attend.
URL:https://christiansciencewa.org/event/church-services/2027-12-19/
CATEGORIES:Community Events
ATTACH;FMTTYPE=image/jpeg:https://christiansciencewa.org/wp-content/uploads/2022/11/bellvue-church-interior.jpg
END:VEVENT
BEGIN:VEVENT
DTSTART;TZID=America/Los_Angeles:20271222T193000
DTEND;TZID=America/Los_Angeles:20271222T203000
DTSTAMP:20260421T191158
CREATED:20230331T184201Z
LAST-MODIFIED:20230331T185039Z
UID:10000528-1829503800-1829507400@christiansciencewa.org
SUMMARY:Wednesday Testimony Meetings
DESCRIPTION:At the Wednesday meeting\, the service begins with inspiring readings from the Bible and Science and Health. Then\, members and visitors voluntarily share gratitude and testimonies of healing they’ve had as a result of using Christian Science. \nWednesday Testimony Meetings are open to everyone! Generally\, they are held on Wednesday evenings at 7:00 or 7:30 pm\, but each church in Washington state may have a different time. Check our church directory for the specific church you’re looking to attend.
URL:https://christiansciencewa.org/event/wednesday-testimony-meetings/2027-12-22/
CATEGORIES:Community Events
ATTACH;FMTTYPE=image/jpeg:https://christiansciencewa.org/wp-content/uploads/2022/11/third-church-seattle-e1669752752436.jpg
END:VEVENT
END:VCALENDAR