BEGIN:VCALENDAR
VERSION:2.0
PRODID:-//Christian Science in Washington State - ECPv6.15.20//NONSGML v1.0//EN
CALSCALE:GREGORIAN
METHOD:PUBLISH
X-WR-CALNAME:Christian Science in Washington State
X-ORIGINAL-URL:https://christiansciencewa.org
X-WR-CALDESC:Events for Christian Science in Washington State
REFRESH-INTERVAL;VALUE=DURATION:PT1H
X-Robots-Tag:noindex
X-PUBLISHED-TTL:PT1H
BEGIN:VTIMEZONE
TZID:America/Los_Angeles
BEGIN:DAYLIGHT
TZOFFSETFROM:-0800
TZOFFSETTO:-0700
TZNAME:PDT
DTSTART:20260308T100000
END:DAYLIGHT
BEGIN:STANDARD
TZOFFSETFROM:-0700
TZOFFSETTO:-0800
TZNAME:PST
DTSTART:20261101T090000
END:STANDARD
BEGIN:DAYLIGHT
TZOFFSETFROM:-0800
TZOFFSETTO:-0700
TZNAME:PDT
DTSTART:20270314T100000
END:DAYLIGHT
BEGIN:STANDARD
TZOFFSETFROM:-0700
TZOFFSETTO:-0800
TZNAME:PST
DTSTART:20271107T090000
END:STANDARD
BEGIN:DAYLIGHT
TZOFFSETFROM:-0800
TZOFFSETTO:-0700
TZNAME:PDT
DTSTART:20280312T100000
END:DAYLIGHT
BEGIN:STANDARD
TZOFFSETFROM:-0700
TZOFFSETTO:-0800
TZNAME:PST
DTSTART:20281105T090000
END:STANDARD
END:VTIMEZONE
BEGIN:VEVENT
DTSTART;TZID=America/Los_Angeles:20270324T193000
DTEND;TZID=America/Los_Angeles:20270324T203000
DTSTAMP:20260421T152712
CREATED:20230331T184201Z
LAST-MODIFIED:20230331T185039Z
UID:10000489-1805916600-1805920200@christiansciencewa.org
SUMMARY:Wednesday Testimony Meetings
DESCRIPTION:At the Wednesday meeting\, the service begins with inspiring readings from the Bible and Science and Health. Then\, members and visitors voluntarily share gratitude and testimonies of healing they’ve had as a result of using Christian Science. \nWednesday Testimony Meetings are open to everyone! Generally\, they are held on Wednesday evenings at 7:00 or 7:30 pm\, but each church in Washington state may have a different time. Check our church directory for the specific church you’re looking to attend.
URL:https://christiansciencewa.org/event/wednesday-testimony-meetings/2027-03-24/
CATEGORIES:Community Events
ATTACH;FMTTYPE=image/jpeg:https://christiansciencewa.org/wp-content/uploads/2022/11/third-church-seattle-e1669752752436.jpg
END:VEVENT
BEGIN:VEVENT
DTSTART;TZID=America/Los_Angeles:20270328T093000
DTEND;TZID=America/Los_Angeles:20270328T113000
DTSTAMP:20260421T152712
CREATED:20230331T184806Z
LAST-MODIFIED:20230331T184845Z
UID:10000754-1806226200-1806233400@christiansciencewa.org
SUMMARY:Church Services
DESCRIPTION:The Christian Science branch churches in Washington all provide regular Sunday Services and Sunday School. Service times may vary across the state\, so check our church directory to find the start time of the service you’d like to attend.
URL:https://christiansciencewa.org/event/church-services/2027-03-28/
CATEGORIES:Community Events
ATTACH;FMTTYPE=image/jpeg:https://christiansciencewa.org/wp-content/uploads/2022/11/bellvue-church-interior.jpg
END:VEVENT
BEGIN:VEVENT
DTSTART;TZID=America/Los_Angeles:20270331T193000
DTEND;TZID=America/Los_Angeles:20270331T203000
DTSTAMP:20260421T152712
CREATED:20230331T184201Z
LAST-MODIFIED:20230331T185039Z
UID:10000490-1806521400-1806525000@christiansciencewa.org
SUMMARY:Wednesday Testimony Meetings
DESCRIPTION:At the Wednesday meeting\, the service begins with inspiring readings from the Bible and Science and Health. Then\, members and visitors voluntarily share gratitude and testimonies of healing they’ve had as a result of using Christian Science. \nWednesday Testimony Meetings are open to everyone! Generally\, they are held on Wednesday evenings at 7:00 or 7:30 pm\, but each church in Washington state may have a different time. Check our church directory for the specific church you’re looking to attend.
URL:https://christiansciencewa.org/event/wednesday-testimony-meetings/2027-03-31/
CATEGORIES:Community Events
ATTACH;FMTTYPE=image/jpeg:https://christiansciencewa.org/wp-content/uploads/2022/11/third-church-seattle-e1669752752436.jpg
END:VEVENT
BEGIN:VEVENT
DTSTART;TZID=America/Los_Angeles:20270404T093000
DTEND;TZID=America/Los_Angeles:20270404T113000
DTSTAMP:20260421T152712
CREATED:20230331T184806Z
LAST-MODIFIED:20230331T184845Z
UID:10000755-1806831000-1806838200@christiansciencewa.org
SUMMARY:Church Services
DESCRIPTION:The Christian Science branch churches in Washington all provide regular Sunday Services and Sunday School. Service times may vary across the state\, so check our church directory to find the start time of the service you’d like to attend.
URL:https://christiansciencewa.org/event/church-services/2027-04-04/
CATEGORIES:Community Events
ATTACH;FMTTYPE=image/jpeg:https://christiansciencewa.org/wp-content/uploads/2022/11/bellvue-church-interior.jpg
END:VEVENT
BEGIN:VEVENT
DTSTART;TZID=America/Los_Angeles:20270407T193000
DTEND;TZID=America/Los_Angeles:20270407T203000
DTSTAMP:20260421T152712
CREATED:20230331T184201Z
LAST-MODIFIED:20230331T185039Z
UID:10000491-1807126200-1807129800@christiansciencewa.org
SUMMARY:Wednesday Testimony Meetings
DESCRIPTION:At the Wednesday meeting\, the service begins with inspiring readings from the Bible and Science and Health. Then\, members and visitors voluntarily share gratitude and testimonies of healing they’ve had as a result of using Christian Science. \nWednesday Testimony Meetings are open to everyone! Generally\, they are held on Wednesday evenings at 7:00 or 7:30 pm\, but each church in Washington state may have a different time. Check our church directory for the specific church you’re looking to attend.
URL:https://christiansciencewa.org/event/wednesday-testimony-meetings/2027-04-07/
CATEGORIES:Community Events
ATTACH;FMTTYPE=image/jpeg:https://christiansciencewa.org/wp-content/uploads/2022/11/third-church-seattle-e1669752752436.jpg
END:VEVENT
BEGIN:VEVENT
DTSTART;TZID=America/Los_Angeles:20270411T093000
DTEND;TZID=America/Los_Angeles:20270411T113000
DTSTAMP:20260421T152712
CREATED:20230331T184806Z
LAST-MODIFIED:20230331T184845Z
UID:10000756-1807435800-1807443000@christiansciencewa.org
SUMMARY:Church Services
DESCRIPTION:The Christian Science branch churches in Washington all provide regular Sunday Services and Sunday School. Service times may vary across the state\, so check our church directory to find the start time of the service you’d like to attend.
URL:https://christiansciencewa.org/event/church-services/2027-04-11/
CATEGORIES:Community Events
ATTACH;FMTTYPE=image/jpeg:https://christiansciencewa.org/wp-content/uploads/2022/11/bellvue-church-interior.jpg
END:VEVENT
BEGIN:VEVENT
DTSTART;TZID=America/Los_Angeles:20270414T193000
DTEND;TZID=America/Los_Angeles:20270414T203000
DTSTAMP:20260421T152712
CREATED:20230331T184201Z
LAST-MODIFIED:20230331T185039Z
UID:10000492-1807731000-1807734600@christiansciencewa.org
SUMMARY:Wednesday Testimony Meetings
DESCRIPTION:At the Wednesday meeting\, the service begins with inspiring readings from the Bible and Science and Health. Then\, members and visitors voluntarily share gratitude and testimonies of healing they’ve had as a result of using Christian Science. \nWednesday Testimony Meetings are open to everyone! Generally\, they are held on Wednesday evenings at 7:00 or 7:30 pm\, but each church in Washington state may have a different time. Check our church directory for the specific church you’re looking to attend.
URL:https://christiansciencewa.org/event/wednesday-testimony-meetings/2027-04-14/
CATEGORIES:Community Events
ATTACH;FMTTYPE=image/jpeg:https://christiansciencewa.org/wp-content/uploads/2022/11/third-church-seattle-e1669752752436.jpg
END:VEVENT
BEGIN:VEVENT
DTSTART;TZID=America/Los_Angeles:20270418T093000
DTEND;TZID=America/Los_Angeles:20270418T113000
DTSTAMP:20260421T152712
CREATED:20230331T184806Z
LAST-MODIFIED:20230331T184845Z
UID:10000757-1808040600-1808047800@christiansciencewa.org
SUMMARY:Church Services
DESCRIPTION:The Christian Science branch churches in Washington all provide regular Sunday Services and Sunday School. Service times may vary across the state\, so check our church directory to find the start time of the service you’d like to attend.
URL:https://christiansciencewa.org/event/church-services/2027-04-18/
CATEGORIES:Community Events
ATTACH;FMTTYPE=image/jpeg:https://christiansciencewa.org/wp-content/uploads/2022/11/bellvue-church-interior.jpg
END:VEVENT
BEGIN:VEVENT
DTSTART;TZID=America/Los_Angeles:20270421T193000
DTEND;TZID=America/Los_Angeles:20270421T203000
DTSTAMP:20260421T152712
CREATED:20230331T184201Z
LAST-MODIFIED:20230331T185039Z
UID:10000493-1808335800-1808339400@christiansciencewa.org
SUMMARY:Wednesday Testimony Meetings
DESCRIPTION:At the Wednesday meeting\, the service begins with inspiring readings from the Bible and Science and Health. Then\, members and visitors voluntarily share gratitude and testimonies of healing they’ve had as a result of using Christian Science. \nWednesday Testimony Meetings are open to everyone! Generally\, they are held on Wednesday evenings at 7:00 or 7:30 pm\, but each church in Washington state may have a different time. Check our church directory for the specific church you’re looking to attend.
URL:https://christiansciencewa.org/event/wednesday-testimony-meetings/2027-04-21/
CATEGORIES:Community Events
ATTACH;FMTTYPE=image/jpeg:https://christiansciencewa.org/wp-content/uploads/2022/11/third-church-seattle-e1669752752436.jpg
END:VEVENT
BEGIN:VEVENT
DTSTART;TZID=America/Los_Angeles:20270425T093000
DTEND;TZID=America/Los_Angeles:20270425T113000
DTSTAMP:20260421T152712
CREATED:20230331T184806Z
LAST-MODIFIED:20230331T184845Z
UID:10000758-1808645400-1808652600@christiansciencewa.org
SUMMARY:Church Services
DESCRIPTION:The Christian Science branch churches in Washington all provide regular Sunday Services and Sunday School. Service times may vary across the state\, so check our church directory to find the start time of the service you’d like to attend.
URL:https://christiansciencewa.org/event/church-services/2027-04-25/
CATEGORIES:Community Events
ATTACH;FMTTYPE=image/jpeg:https://christiansciencewa.org/wp-content/uploads/2022/11/bellvue-church-interior.jpg
END:VEVENT
BEGIN:VEVENT
DTSTART;TZID=America/Los_Angeles:20270428T193000
DTEND;TZID=America/Los_Angeles:20270428T203000
DTSTAMP:20260421T152712
CREATED:20230331T184201Z
LAST-MODIFIED:20230331T185039Z
UID:10000494-1808940600-1808944200@christiansciencewa.org
SUMMARY:Wednesday Testimony Meetings
DESCRIPTION:At the Wednesday meeting\, the service begins with inspiring readings from the Bible and Science and Health. Then\, members and visitors voluntarily share gratitude and testimonies of healing they’ve had as a result of using Christian Science. \nWednesday Testimony Meetings are open to everyone! Generally\, they are held on Wednesday evenings at 7:00 or 7:30 pm\, but each church in Washington state may have a different time. Check our church directory for the specific church you’re looking to attend.
URL:https://christiansciencewa.org/event/wednesday-testimony-meetings/2027-04-28/
CATEGORIES:Community Events
ATTACH;FMTTYPE=image/jpeg:https://christiansciencewa.org/wp-content/uploads/2022/11/third-church-seattle-e1669752752436.jpg
END:VEVENT
BEGIN:VEVENT
DTSTART;TZID=America/Los_Angeles:20270502T093000
DTEND;TZID=America/Los_Angeles:20270502T113000
DTSTAMP:20260421T152712
CREATED:20230331T184806Z
LAST-MODIFIED:20230331T184845Z
UID:10000759-1809250200-1809257400@christiansciencewa.org
SUMMARY:Church Services
DESCRIPTION:The Christian Science branch churches in Washington all provide regular Sunday Services and Sunday School. Service times may vary across the state\, so check our church directory to find the start time of the service you’d like to attend.
URL:https://christiansciencewa.org/event/church-services/2027-05-02/
CATEGORIES:Community Events
ATTACH;FMTTYPE=image/jpeg:https://christiansciencewa.org/wp-content/uploads/2022/11/bellvue-church-interior.jpg
END:VEVENT
BEGIN:VEVENT
DTSTART;TZID=America/Los_Angeles:20270505T193000
DTEND;TZID=America/Los_Angeles:20270505T203000
DTSTAMP:20260421T152712
CREATED:20230331T184201Z
LAST-MODIFIED:20230331T185039Z
UID:10000495-1809545400-1809549000@christiansciencewa.org
SUMMARY:Wednesday Testimony Meetings
DESCRIPTION:At the Wednesday meeting\, the service begins with inspiring readings from the Bible and Science and Health. Then\, members and visitors voluntarily share gratitude and testimonies of healing they’ve had as a result of using Christian Science. \nWednesday Testimony Meetings are open to everyone! Generally\, they are held on Wednesday evenings at 7:00 or 7:30 pm\, but each church in Washington state may have a different time. Check our church directory for the specific church you’re looking to attend.
URL:https://christiansciencewa.org/event/wednesday-testimony-meetings/2027-05-05/
CATEGORIES:Community Events
ATTACH;FMTTYPE=image/jpeg:https://christiansciencewa.org/wp-content/uploads/2022/11/third-church-seattle-e1669752752436.jpg
END:VEVENT
BEGIN:VEVENT
DTSTART;TZID=America/Los_Angeles:20270509T093000
DTEND;TZID=America/Los_Angeles:20270509T113000
DTSTAMP:20260421T152712
CREATED:20230331T184806Z
LAST-MODIFIED:20230331T184845Z
UID:10000760-1809855000-1809862200@christiansciencewa.org
SUMMARY:Church Services
DESCRIPTION:The Christian Science branch churches in Washington all provide regular Sunday Services and Sunday School. Service times may vary across the state\, so check our church directory to find the start time of the service you’d like to attend.
URL:https://christiansciencewa.org/event/church-services/2027-05-09/
CATEGORIES:Community Events
ATTACH;FMTTYPE=image/jpeg:https://christiansciencewa.org/wp-content/uploads/2022/11/bellvue-church-interior.jpg
END:VEVENT
BEGIN:VEVENT
DTSTART;TZID=America/Los_Angeles:20270512T193000
DTEND;TZID=America/Los_Angeles:20270512T203000
DTSTAMP:20260421T152712
CREATED:20230331T184201Z
LAST-MODIFIED:20230331T185039Z
UID:10000496-1810150200-1810153800@christiansciencewa.org
SUMMARY:Wednesday Testimony Meetings
DESCRIPTION:At the Wednesday meeting\, the service begins with inspiring readings from the Bible and Science and Health. Then\, members and visitors voluntarily share gratitude and testimonies of healing they’ve had as a result of using Christian Science. \nWednesday Testimony Meetings are open to everyone! Generally\, they are held on Wednesday evenings at 7:00 or 7:30 pm\, but each church in Washington state may have a different time. Check our church directory for the specific church you’re looking to attend.
URL:https://christiansciencewa.org/event/wednesday-testimony-meetings/2027-05-12/
CATEGORIES:Community Events
ATTACH;FMTTYPE=image/jpeg:https://christiansciencewa.org/wp-content/uploads/2022/11/third-church-seattle-e1669752752436.jpg
END:VEVENT
BEGIN:VEVENT
DTSTART;TZID=America/Los_Angeles:20270516T093000
DTEND;TZID=America/Los_Angeles:20270516T113000
DTSTAMP:20260421T152712
CREATED:20230331T184806Z
LAST-MODIFIED:20230331T184845Z
UID:10000761-1810459800-1810467000@christiansciencewa.org
SUMMARY:Church Services
DESCRIPTION:The Christian Science branch churches in Washington all provide regular Sunday Services and Sunday School. Service times may vary across the state\, so check our church directory to find the start time of the service you’d like to attend.
URL:https://christiansciencewa.org/event/church-services/2027-05-16/
CATEGORIES:Community Events
ATTACH;FMTTYPE=image/jpeg:https://christiansciencewa.org/wp-content/uploads/2022/11/bellvue-church-interior.jpg
END:VEVENT
BEGIN:VEVENT
DTSTART;TZID=America/Los_Angeles:20270519T193000
DTEND;TZID=America/Los_Angeles:20270519T203000
DTSTAMP:20260421T152712
CREATED:20230331T184201Z
LAST-MODIFIED:20230331T185039Z
UID:10000497-1810755000-1810758600@christiansciencewa.org
SUMMARY:Wednesday Testimony Meetings
DESCRIPTION:At the Wednesday meeting\, the service begins with inspiring readings from the Bible and Science and Health. Then\, members and visitors voluntarily share gratitude and testimonies of healing they’ve had as a result of using Christian Science. \nWednesday Testimony Meetings are open to everyone! Generally\, they are held on Wednesday evenings at 7:00 or 7:30 pm\, but each church in Washington state may have a different time. Check our church directory for the specific church you’re looking to attend.
URL:https://christiansciencewa.org/event/wednesday-testimony-meetings/2027-05-19/
CATEGORIES:Community Events
ATTACH;FMTTYPE=image/jpeg:https://christiansciencewa.org/wp-content/uploads/2022/11/third-church-seattle-e1669752752436.jpg
END:VEVENT
BEGIN:VEVENT
DTSTART;TZID=America/Los_Angeles:20270523T093000
DTEND;TZID=America/Los_Angeles:20270523T113000
DTSTAMP:20260421T152712
CREATED:20230331T184806Z
LAST-MODIFIED:20230331T184845Z
UID:10000762-1811064600-1811071800@christiansciencewa.org
SUMMARY:Church Services
DESCRIPTION:The Christian Science branch churches in Washington all provide regular Sunday Services and Sunday School. Service times may vary across the state\, so check our church directory to find the start time of the service you’d like to attend.
URL:https://christiansciencewa.org/event/church-services/2027-05-23/
CATEGORIES:Community Events
ATTACH;FMTTYPE=image/jpeg:https://christiansciencewa.org/wp-content/uploads/2022/11/bellvue-church-interior.jpg
END:VEVENT
BEGIN:VEVENT
DTSTART;TZID=America/Los_Angeles:20270526T193000
DTEND;TZID=America/Los_Angeles:20270526T203000
DTSTAMP:20260421T152712
CREATED:20230331T184201Z
LAST-MODIFIED:20230331T185039Z
UID:10000498-1811359800-1811363400@christiansciencewa.org
SUMMARY:Wednesday Testimony Meetings
DESCRIPTION:At the Wednesday meeting\, the service begins with inspiring readings from the Bible and Science and Health. Then\, members and visitors voluntarily share gratitude and testimonies of healing they’ve had as a result of using Christian Science. \nWednesday Testimony Meetings are open to everyone! Generally\, they are held on Wednesday evenings at 7:00 or 7:30 pm\, but each church in Washington state may have a different time. Check our church directory for the specific church you’re looking to attend.
URL:https://christiansciencewa.org/event/wednesday-testimony-meetings/2027-05-26/
CATEGORIES:Community Events
ATTACH;FMTTYPE=image/jpeg:https://christiansciencewa.org/wp-content/uploads/2022/11/third-church-seattle-e1669752752436.jpg
END:VEVENT
BEGIN:VEVENT
DTSTART;TZID=America/Los_Angeles:20270530T093000
DTEND;TZID=America/Los_Angeles:20270530T113000
DTSTAMP:20260421T152712
CREATED:20230331T184806Z
LAST-MODIFIED:20230331T184845Z
UID:10000763-1811669400-1811676600@christiansciencewa.org
SUMMARY:Church Services
DESCRIPTION:The Christian Science branch churches in Washington all provide regular Sunday Services and Sunday School. Service times may vary across the state\, so check our church directory to find the start time of the service you’d like to attend.
URL:https://christiansciencewa.org/event/church-services/2027-05-30/
CATEGORIES:Community Events
ATTACH;FMTTYPE=image/jpeg:https://christiansciencewa.org/wp-content/uploads/2022/11/bellvue-church-interior.jpg
END:VEVENT
BEGIN:VEVENT
DTSTART;TZID=America/Los_Angeles:20270602T193000
DTEND;TZID=America/Los_Angeles:20270602T203000
DTSTAMP:20260421T152712
CREATED:20230331T184201Z
LAST-MODIFIED:20230331T185039Z
UID:10000499-1811964600-1811968200@christiansciencewa.org
SUMMARY:Wednesday Testimony Meetings
DESCRIPTION:At the Wednesday meeting\, the service begins with inspiring readings from the Bible and Science and Health. Then\, members and visitors voluntarily share gratitude and testimonies of healing they’ve had as a result of using Christian Science. \nWednesday Testimony Meetings are open to everyone! Generally\, they are held on Wednesday evenings at 7:00 or 7:30 pm\, but each church in Washington state may have a different time. Check our church directory for the specific church you’re looking to attend.
URL:https://christiansciencewa.org/event/wednesday-testimony-meetings/2027-06-02/
CATEGORIES:Community Events
ATTACH;FMTTYPE=image/jpeg:https://christiansciencewa.org/wp-content/uploads/2022/11/third-church-seattle-e1669752752436.jpg
END:VEVENT
BEGIN:VEVENT
DTSTART;TZID=America/Los_Angeles:20270606T093000
DTEND;TZID=America/Los_Angeles:20270606T113000
DTSTAMP:20260421T152712
CREATED:20230331T184806Z
LAST-MODIFIED:20230331T184845Z
UID:10000764-1812274200-1812281400@christiansciencewa.org
SUMMARY:Church Services
DESCRIPTION:The Christian Science branch churches in Washington all provide regular Sunday Services and Sunday School. Service times may vary across the state\, so check our church directory to find the start time of the service you’d like to attend.
URL:https://christiansciencewa.org/event/church-services/2027-06-06/
CATEGORIES:Community Events
ATTACH;FMTTYPE=image/jpeg:https://christiansciencewa.org/wp-content/uploads/2022/11/bellvue-church-interior.jpg
END:VEVENT
BEGIN:VEVENT
DTSTART;TZID=America/Los_Angeles:20270609T193000
DTEND;TZID=America/Los_Angeles:20270609T203000
DTSTAMP:20260421T152712
CREATED:20230331T184201Z
LAST-MODIFIED:20230331T185039Z
UID:10000500-1812569400-1812573000@christiansciencewa.org
SUMMARY:Wednesday Testimony Meetings
DESCRIPTION:At the Wednesday meeting\, the service begins with inspiring readings from the Bible and Science and Health. Then\, members and visitors voluntarily share gratitude and testimonies of healing they’ve had as a result of using Christian Science. \nWednesday Testimony Meetings are open to everyone! Generally\, they are held on Wednesday evenings at 7:00 or 7:30 pm\, but each church in Washington state may have a different time. Check our church directory for the specific church you’re looking to attend.
URL:https://christiansciencewa.org/event/wednesday-testimony-meetings/2027-06-09/
CATEGORIES:Community Events
ATTACH;FMTTYPE=image/jpeg:https://christiansciencewa.org/wp-content/uploads/2022/11/third-church-seattle-e1669752752436.jpg
END:VEVENT
BEGIN:VEVENT
DTSTART;TZID=America/Los_Angeles:20270613T093000
DTEND;TZID=America/Los_Angeles:20270613T113000
DTSTAMP:20260421T152712
CREATED:20230331T184806Z
LAST-MODIFIED:20230331T184845Z
UID:10000765-1812879000-1812886200@christiansciencewa.org
SUMMARY:Church Services
DESCRIPTION:The Christian Science branch churches in Washington all provide regular Sunday Services and Sunday School. Service times may vary across the state\, so check our church directory to find the start time of the service you’d like to attend.
URL:https://christiansciencewa.org/event/church-services/2027-06-13/
CATEGORIES:Community Events
ATTACH;FMTTYPE=image/jpeg:https://christiansciencewa.org/wp-content/uploads/2022/11/bellvue-church-interior.jpg
END:VEVENT
BEGIN:VEVENT
DTSTART;TZID=America/Los_Angeles:20270616T193000
DTEND;TZID=America/Los_Angeles:20270616T203000
DTSTAMP:20260421T152712
CREATED:20230331T184201Z
LAST-MODIFIED:20230331T185039Z
UID:10000501-1813174200-1813177800@christiansciencewa.org
SUMMARY:Wednesday Testimony Meetings
DESCRIPTION:At the Wednesday meeting\, the service begins with inspiring readings from the Bible and Science and Health. Then\, members and visitors voluntarily share gratitude and testimonies of healing they’ve had as a result of using Christian Science. \nWednesday Testimony Meetings are open to everyone! Generally\, they are held on Wednesday evenings at 7:00 or 7:30 pm\, but each church in Washington state may have a different time. Check our church directory for the specific church you’re looking to attend.
URL:https://christiansciencewa.org/event/wednesday-testimony-meetings/2027-06-16/
CATEGORIES:Community Events
ATTACH;FMTTYPE=image/jpeg:https://christiansciencewa.org/wp-content/uploads/2022/11/third-church-seattle-e1669752752436.jpg
END:VEVENT
BEGIN:VEVENT
DTSTART;TZID=America/Los_Angeles:20270620T093000
DTEND;TZID=America/Los_Angeles:20270620T113000
DTSTAMP:20260421T152712
CREATED:20230331T184806Z
LAST-MODIFIED:20230331T184845Z
UID:10000766-1813483800-1813491000@christiansciencewa.org
SUMMARY:Church Services
DESCRIPTION:The Christian Science branch churches in Washington all provide regular Sunday Services and Sunday School. Service times may vary across the state\, so check our church directory to find the start time of the service you’d like to attend.
URL:https://christiansciencewa.org/event/church-services/2027-06-20/
CATEGORIES:Community Events
ATTACH;FMTTYPE=image/jpeg:https://christiansciencewa.org/wp-content/uploads/2022/11/bellvue-church-interior.jpg
END:VEVENT
BEGIN:VEVENT
DTSTART;TZID=America/Los_Angeles:20270623T193000
DTEND;TZID=America/Los_Angeles:20270623T203000
DTSTAMP:20260421T152712
CREATED:20230331T184201Z
LAST-MODIFIED:20230331T185039Z
UID:10000502-1813779000-1813782600@christiansciencewa.org
SUMMARY:Wednesday Testimony Meetings
DESCRIPTION:At the Wednesday meeting\, the service begins with inspiring readings from the Bible and Science and Health. Then\, members and visitors voluntarily share gratitude and testimonies of healing they’ve had as a result of using Christian Science. \nWednesday Testimony Meetings are open to everyone! Generally\, they are held on Wednesday evenings at 7:00 or 7:30 pm\, but each church in Washington state may have a different time. Check our church directory for the specific church you’re looking to attend.
URL:https://christiansciencewa.org/event/wednesday-testimony-meetings/2027-06-23/
CATEGORIES:Community Events
ATTACH;FMTTYPE=image/jpeg:https://christiansciencewa.org/wp-content/uploads/2022/11/third-church-seattle-e1669752752436.jpg
END:VEVENT
BEGIN:VEVENT
DTSTART;TZID=America/Los_Angeles:20270627T093000
DTEND;TZID=America/Los_Angeles:20270627T113000
DTSTAMP:20260421T152712
CREATED:20230331T184806Z
LAST-MODIFIED:20230331T184845Z
UID:10000767-1814088600-1814095800@christiansciencewa.org
SUMMARY:Church Services
DESCRIPTION:The Christian Science branch churches in Washington all provide regular Sunday Services and Sunday School. Service times may vary across the state\, so check our church directory to find the start time of the service you’d like to attend.
URL:https://christiansciencewa.org/event/church-services/2027-06-27/
CATEGORIES:Community Events
ATTACH;FMTTYPE=image/jpeg:https://christiansciencewa.org/wp-content/uploads/2022/11/bellvue-church-interior.jpg
END:VEVENT
BEGIN:VEVENT
DTSTART;TZID=America/Los_Angeles:20270630T193000
DTEND;TZID=America/Los_Angeles:20270630T203000
DTSTAMP:20260421T152712
CREATED:20230331T184201Z
LAST-MODIFIED:20230331T185039Z
UID:10000503-1814383800-1814387400@christiansciencewa.org
SUMMARY:Wednesday Testimony Meetings
DESCRIPTION:At the Wednesday meeting\, the service begins with inspiring readings from the Bible and Science and Health. Then\, members and visitors voluntarily share gratitude and testimonies of healing they’ve had as a result of using Christian Science. \nWednesday Testimony Meetings are open to everyone! Generally\, they are held on Wednesday evenings at 7:00 or 7:30 pm\, but each church in Washington state may have a different time. Check our church directory for the specific church you’re looking to attend.
URL:https://christiansciencewa.org/event/wednesday-testimony-meetings/2027-06-30/
CATEGORIES:Community Events
ATTACH;FMTTYPE=image/jpeg:https://christiansciencewa.org/wp-content/uploads/2022/11/third-church-seattle-e1669752752436.jpg
END:VEVENT
BEGIN:VEVENT
DTSTART;TZID=America/Los_Angeles:20270704T093000
DTEND;TZID=America/Los_Angeles:20270704T113000
DTSTAMP:20260421T152712
CREATED:20230331T184806Z
LAST-MODIFIED:20230331T184845Z
UID:10000768-1814693400-1814700600@christiansciencewa.org
SUMMARY:Church Services
DESCRIPTION:The Christian Science branch churches in Washington all provide regular Sunday Services and Sunday School. Service times may vary across the state\, so check our church directory to find the start time of the service you’d like to attend.
URL:https://christiansciencewa.org/event/church-services/2027-07-04/
CATEGORIES:Community Events
ATTACH;FMTTYPE=image/jpeg:https://christiansciencewa.org/wp-content/uploads/2022/11/bellvue-church-interior.jpg
END:VEVENT
END:VCALENDAR