BEGIN:VCALENDAR
VERSION:2.0
PRODID:-//Christian Science in Washington State - ECPv6.15.20//NONSGML v1.0//EN
CALSCALE:GREGORIAN
METHOD:PUBLISH
X-WR-CALNAME:Christian Science in Washington State
X-ORIGINAL-URL:https://christiansciencewa.org
X-WR-CALDESC:Events for Christian Science in Washington State
REFRESH-INTERVAL;VALUE=DURATION:PT1H
X-Robots-Tag:noindex
X-PUBLISHED-TTL:PT1H
BEGIN:VTIMEZONE
TZID:America/Los_Angeles
BEGIN:DAYLIGHT
TZOFFSETFROM:-0800
TZOFFSETTO:-0700
TZNAME:PDT
DTSTART:20220313T100000
END:DAYLIGHT
BEGIN:STANDARD
TZOFFSETFROM:-0700
TZOFFSETTO:-0800
TZNAME:PST
DTSTART:20221106T090000
END:STANDARD
BEGIN:DAYLIGHT
TZOFFSETFROM:-0800
TZOFFSETTO:-0700
TZNAME:PDT
DTSTART:20230312T100000
END:DAYLIGHT
BEGIN:STANDARD
TZOFFSETFROM:-0700
TZOFFSETTO:-0800
TZNAME:PST
DTSTART:20231105T090000
END:STANDARD
BEGIN:DAYLIGHT
TZOFFSETFROM:-0800
TZOFFSETTO:-0700
TZNAME:PDT
DTSTART:20240310T100000
END:DAYLIGHT
BEGIN:STANDARD
TZOFFSETFROM:-0700
TZOFFSETTO:-0800
TZNAME:PST
DTSTART:20241103T090000
END:STANDARD
BEGIN:DAYLIGHT
TZOFFSETFROM:-0800
TZOFFSETTO:-0700
TZNAME:PDT
DTSTART:20250309T100000
END:DAYLIGHT
BEGIN:STANDARD
TZOFFSETFROM:-0700
TZOFFSETTO:-0800
TZNAME:PST
DTSTART:20251102T090000
END:STANDARD
BEGIN:DAYLIGHT
TZOFFSETFROM:-0800
TZOFFSETTO:-0700
TZNAME:PDT
DTSTART:20260308T100000
END:DAYLIGHT
BEGIN:STANDARD
TZOFFSETFROM:-0700
TZOFFSETTO:-0800
TZNAME:PST
DTSTART:20261101T090000
END:STANDARD
BEGIN:DAYLIGHT
TZOFFSETFROM:-0800
TZOFFSETTO:-0700
TZNAME:PDT
DTSTART:20270314T100000
END:DAYLIGHT
BEGIN:STANDARD
TZOFFSETFROM:-0700
TZOFFSETTO:-0800
TZNAME:PST
DTSTART:20271107T090000
END:STANDARD
END:VTIMEZONE
BEGIN:VEVENT
DTSTART;TZID=America/Los_Angeles:20260314T130000
DTEND;TZID=America/Los_Angeles:20260314T140000
DTSTAMP:20260421T044558
CREATED:20251226T233028Z
LAST-MODIFIED:20251226T233028Z
UID:10004251-1773493200-1773496800@christiansciencewa.org
SUMMARY:In-person lecture: Effective prayer: finding healing and wholeness in divine Love
DESCRIPTION:Effective prayer: finding healing and wholeness in divine Love \nA FREE Inspirational Talk\nby Bobby Lewis\nIn this lecture\, explore practical and transformative prayer\, as taught in Christian Science.\nThrough compelling personal stories\, Christian Science practitioner and lecturer Bobby Lewis illustrates how the spiritual laws of divine Love operate– and how prayer brings us into alignment with these laws. Whether you’re feeling lost or struggling with illness\, effective prayer can restore clarity\, peace and wholeness in every area of life. \nThis is an in-person lecture at 1261 Madison Avenue N\, Bainbridge Island\, WA. \nAbout Bobby Lewis\nBobby grew up in the mountains of Colorado in the US and has found inspiration in wild places all of his life. During some tough teen-age years\, his mother (a Christian Science Practitioner)\, helped him begin to see himself as spiritually whole and loved by God right in the midst of those challenges. It made all the difference and that dark time was left behind. \n\nThe care he received\, and those early lessons of the value of seeking spiritually and listening deeply to God\, set him on a trajectory of wanting to give back to others by supporting their growth. Over the years that took shape in work as a camp counselor\, experiential educator\, and chaplain for service organizations. \nAfter studying religion in college and graduate school with a focus on learning more about how to put the teachings of the Bible into day-to-day practice\, Bobby began work as a Christian Science practitioner\, reaching out to others with healing focused prayer. \nBeing “moved with compassion\,” as Christ Jesus modeled\, and connecting people with God’s healing love is at the heart of Bobby’s ministry and life. \nBobby still lives in Colorado with his family and animals on a little ranch along the river\, where he loves to write poetry\, walk\, listen\, and stand in awe of Spirit’s infinite creation. \n\nThis free talk is sponsored by\nFirst Church of Christ\, Scientist\, Bainbridge Island
URL:https://christiansciencewa.org/event/in-person-lecture-effective-prayer-finding-healing-and-wholeness-in-divine-love-bi/
LOCATION:First Church of Christ\, Scientist\, Bainbridge Island\, 1261 Madison Avenue N\, Bainbridge Island\, WA\, 98110\, United States
ATTACH;FMTTYPE=image/jpeg:https://christiansciencewa.org/wp-content/uploads/2025/12/Spring26_v012-scaled.jpg
ORGANIZER;CN="First Church of Christ%2C Scientist%2C Bainbridge Island":MAILTO:clerk@csbainbridge.org
END:VEVENT
BEGIN:VEVENT
DTSTART;TZID=America/Los_Angeles:20241109T100000
DTEND;TZID=America/Los_Angeles:20241109T110000
DTSTAMP:20260421T044558
CREATED:20241007T122327Z
LAST-MODIFIED:20241103T162125Z
UID:10002443-1731146400-1731150000@christiansciencewa.org
SUMMARY:In-Person lecture: BE SET FREE
DESCRIPTION:Be Set Free\nA FREE Inspirational Talk\nby Nicole Virgil\nTo live a life of liberty\, we have to find the nature and substance of liberty\, which is spiritual\, purposeful\, unburdened\, and given to all. To do that you have to know where to look\, to the source of liberty — God\, good itself\, all-inclusive.\nCircumstances often present what appear to be significant obstacles to living freely\, something that everyone wants to do\, says Nicole Virgil. Whatever it is that seems to stand between us and the full range of motion that we would like to have in our lives — it’s not so much the presenting impediment that is the problem — it’s not knowing how or where to access our God-given liberty. \nJoin us for this free Christian Science talk with international speaker and Christian Science healer\, Nicole Virgil on Saturday\, Nov. 9\, at 10 a.m.\, at the Bainbridge Public Library\, 1270 Madison Ave.\, Bainbridge Island\, WA. The talk is free\, open to the community\, and hosted by First Church of Christ\, Scientist\, Bainbridge Island. \n“In this talk\,” says Nicole\, “we will examine liberty from a Biblical perspective; and see how real people today find their freedom from all kinds of physical\, emotional and circumstantial restrictions that seem clearly beyond their control so that they may Be Set Free.” \nAbout Nicole Virgil\n \nNicole’s father was a freelance church organist\, and her parents attended services at many different Christian churches in New England. Her mom had been on a years-long search to find out how to practice Christian healing just as Jesus did\, and when she started attending Christian Science church services\, she found what she was looking for. As a result\, Nicole was raised in Christian Science\, and developed a deep desire for an intimate relationship with God. \nNicole studied Christian Science with her mom and music with her dad\, and found that each discipline complemented the other. Christian Science healed performance anxiety\, while learning music honed the skills she needed for spiritual practice — skills such as intuition\, listening\, patience and diligence. \nThroughout her life\, Christian Science and music have always overlapped. After studying opera at music school\, she took her one-woman opera review program (That Can’t Be Opera!) on the road\, educating audiences about opera by singing Mozart\, Puccini and Menotti. \nChristian Science guided her through this entrepreneurial endeavor\, just as it led her to start soloing in churches as a teenager (which is something she still loves to do!). Nicole eventually married\, started a family with her husband\, and entered the public practice of Christian Science. \nToday Nicole enjoys raising children\, gardening\, soloing in church\, and witnessing the healing effect of Christian Science. \nThis free talk is sponsored by\nFirst Church of Christ\, Scientist\,Bainbridge Island\, WA.
URL:https://christiansciencewa.org/event/in-person-lecture-be-set-free/
LOCATION:Bainbridge Public Library\, 1270 Madison Avenue\, Bainbridge Island\, WA\, United States
ATTACH;FMTTYPE=image/jpeg:https://christiansciencewa.org/wp-content/uploads/2024/11/FallLectures_v22-scaled.jpg
ORGANIZER;CN="First Church of Christ%2C Scientist%2C Bainbridge Island":MAILTO:clerk@csbainbridge.org
END:VEVENT
BEGIN:VEVENT
DTSTART;TZID=America/Los_Angeles:20231111T110000
DTEND;TZID=America/Los_Angeles:20231111T120000
DTSTAMP:20260421T044558
CREATED:20230916T230535Z
LAST-MODIFIED:20240226T035350Z
UID:10001090-1699700400-1699704000@christiansciencewa.org
SUMMARY:In-Person lecture: FINDING JOY\, HEALTH\, HOPE FOR ALL
DESCRIPTION:Speaker: Steven Salt. \nSometimes we can feel that joy seems hard to find — and seems even harder to keep! But what if joy is really fundamental to our nature? What if it is something all of us have permanently? \nChristian Science teacher and lecturer Steve Salt says\, “What if we could find the good in life for which our hearts yearn is invulnerable to surrounding events\, that it’s never ‘on the line’ for any reason\, actually? If there was a way to trust that\, and to prove it\, that would give us a compelling reason to have hope. Even a reason for unshakeable joy. Christian Science explains the incredible good endowed on us by God — a good all of us deserve and can even expect — all the time.” \nSteve will share how he was healed of mental darkness\, and subsequently regained his sense of joy. Through praying with ideas from the Bible and Science and Health with Key to the Scriptures by Mary Baker Eddy\, he was transformed — uplifted by a better understanding of joy as a quality of an all-present\, all-loving God. \nHe will also share other healings\, thoughts on identity\, prayer\, and what Jesus taught about joy. And he’ll describe Mary Baker Eddy’s life. She founded Christian Science\, wrote Science and Health with Key to the Scriptures\, and modeled a prayerful approach to life\, through good happenings and bad\, health and sickness\, security and poverty\, safety and homelessness — prevailing over all of these obstacles\, and helping many others along the way. \nPhoto at top by Molnár Bálint on Unsplash
URL:https://christiansciencewa.org/event/in-person-lecture-finding-joy-health-hope-for-all/
LOCATION:Bainbridge Public Library\, 1270 Madison Avenue\, Bainbridge Island\, WA\, United States
ATTACH;FMTTYPE=image/jpeg:https://christiansciencewa.org/wp-content/uploads/2023/09/molnar-balint-akpZ94lE0ZM-unsplash-3.jpg
ORGANIZER;CN="First Church of Christ%2C Scientist%2C Bainbridge Island":MAILTO:clerk@csbainbridge.org
END:VEVENT
END:VCALENDAR