BEGIN:VCALENDAR
VERSION:2.0
PRODID:-//Christian Science in Washington State - ECPv6.15.20//NONSGML v1.0//EN
CALSCALE:GREGORIAN
METHOD:PUBLISH
X-ORIGINAL-URL:https://christiansciencewa.org
X-WR-CALDESC:Events for Christian Science in Washington State
REFRESH-INTERVAL;VALUE=DURATION:PT1H
X-Robots-Tag:noindex
X-PUBLISHED-TTL:PT1H
BEGIN:VTIMEZONE
TZID:America/Los_Angeles
BEGIN:DAYLIGHT
TZOFFSETFROM:-0800
TZOFFSETTO:-0700
TZNAME:PDT
DTSTART:20230312T100000
END:DAYLIGHT
BEGIN:STANDARD
TZOFFSETFROM:-0700
TZOFFSETTO:-0800
TZNAME:PST
DTSTART:20231105T090000
END:STANDARD
BEGIN:DAYLIGHT
TZOFFSETFROM:-0800
TZOFFSETTO:-0700
TZNAME:PDT
DTSTART:20240310T100000
END:DAYLIGHT
BEGIN:STANDARD
TZOFFSETFROM:-0700
TZOFFSETTO:-0800
TZNAME:PST
DTSTART:20241103T090000
END:STANDARD
BEGIN:DAYLIGHT
TZOFFSETFROM:-0800
TZOFFSETTO:-0700
TZNAME:PDT
DTSTART:20250309T100000
END:DAYLIGHT
BEGIN:STANDARD
TZOFFSETFROM:-0700
TZOFFSETTO:-0800
TZNAME:PST
DTSTART:20251102T090000
END:STANDARD
BEGIN:DAYLIGHT
TZOFFSETFROM:-0800
TZOFFSETTO:-0700
TZNAME:PDT
DTSTART:20260308T100000
END:DAYLIGHT
BEGIN:STANDARD
TZOFFSETFROM:-0700
TZOFFSETTO:-0800
TZNAME:PST
DTSTART:20261101T090000
END:STANDARD
END:VTIMEZONE
BEGIN:VTIMEZONE
TZID:UTC
BEGIN:STANDARD
TZOFFSETFROM:+0000
TZOFFSETTO:+0000
TZNAME:UTC
DTSTART:20220101T000000
END:STANDARD
END:VTIMEZONE
BEGIN:VEVENT
DTSTART;TZID=America/Los_Angeles:20251123T133000
DTEND;TZID=America/Los_Angeles:20251123T143000
DTSTAMP:20260421T030426
CREATED:20251027T122957Z
LAST-MODIFIED:20251027T123623Z
UID:10004247-1763904600-1763908200@christiansciencewa.org
SUMMARY:In-Person lecture: HEALING WITH JOY: DISCOVERING THE POWER OF LOVE
DESCRIPTION:Healing with joy: discovering the power of Love\nA FREE Inspirational Talk\nby Ann Kneeland\, C.S.\nHealing in Christian Science is joyful— it’s the natural result of understanding God as divine Life and Love.\nAnn Kneeland\, a Christian Science practitioner and lecturer\, shares real-life examples of spiritual healing. These examples show how fear\, illness\, and polarization dissolve as we discover God’s pure and spiritual creation. We can all experience joy and freedom through a deeper trust in God’s presence and power. \nJoin us for Nikki’s talk\, “The Science of God and its Power to Heal Us” at 1:30 PM on Sunday\, November 23\, in Bellingham\, WA. The talk is free\, open to the community\, and hosted by First Church of Christ\, Scientist\, Bellingham at Mt. Baker Theatre in the Encore Room (104 N Commercial St. Bellingham). \nAbout Ann Kneeland\n \nGrowing up in a family that loved and practiced Christian Science\, Ann saw how God heals sickness and relationship problems\, meets financial needs\, solves business issues\, and answers life’s questions. In the Christian Science Sunday School\, Ann learned to rely upon the healing ideas in the Bible\, as explained in Science and Health with Key to the Scriptures\, by Mary Baker Eddy. During her school years\, the ideas in these books healed Ann of headaches\, sickness\, a wart\, a rash\, sports injuries\, and academic anxieties. \nAfter college\, Ann took Primary Class instruction to deepen her understanding of God and to learn to heal more systematically. This understanding guided her in a business career and brought healing solutions to difficult issues. When she and her husband began a family\, Christian Science was a daily help in navigating parenthood\, and in caring for their two children’s health and growth. Friends asked for prayerful treatment and were healed. She began advertising her healing practice in the Christian Science Journal in 2009. \nAnn resides in the San Francisco Bay area of California. In her healing practice\, she discovers more about God and our loving relationship to God\, and simultaneously others are healed\, and lives are transformed. Ann has been a Chaplain in the Marin County Jail\, and has shared Christian Science in commercial radio interviews and with teen and interfaith groups. She loves how sharing Christian Science demands listening to God while speaking from the heart. \nThis free talk is sponsored by\nFirst Church of Christ\, Scientist\, Bellingham\, WA
URL:https://christiansciencewa.org/event/in-person-lecture-healing-with-joy-discovering-the-power-of-love/
LOCATION:Mt. Baker Theatre\, 104 N Commercial St\, Bellingham\, WA\, 98225\, United States
ATTACH;FMTTYPE=image/jpeg:https://christiansciencewa.org/wp-content/uploads/2025/10/banner-img1-new-min.jpg
END:VEVENT
BEGIN:VEVENT
DTSTART;TZID=America/Los_Angeles:20241123T140000
DTEND;TZID=America/Los_Angeles:20241123T150000
DTSTAMP:20260421T030426
CREATED:20241103T154911Z
LAST-MODIFIED:20241103T161704Z
UID:10002453-1732370400-1732374000@christiansciencewa.org
SUMMARY:In-Person lecture: WHY EVERYONE IS NEEDED
DESCRIPTION:Why Everyone is Needed\nA FREE Inspirational Talk\nby James Shepherd\n“As we learn more about who we are–as God’s thoughtful\, loved creation–our self-worth\, purpose\, physical health\, and relationships are transformed.”\nSo says James Shepherd\, practitioner of Christian Science healing and international speaker. “I love exploring the nature of God\, infinite Love\, as the only cause\, and our unbreakable connection to God as God’s offspring\,” he continues. “This connection gives us our purpose and worth by seeing everyone from a more God-like\, or spiritual\, point of view. I’ve experienced how this has an impact on my life and on the lives of others.” Finding this new sense of our connection to God helps us bring healing to difficult world problems like political divisions and social inequality. Each one of us is connected to God. No one is left out. James’s lecture discusses what our purpose is\, where our worth comes from\, and shares examples of how seeing ourselves and others as God sees us gives us a spiritual perspective that heals ourselves and our world. \nJoin us for James’ talk\, “Why Everyone is Needed?” on Saturday\, Nov. 23\, in Bellingham\, WA. The talk is free\, open to the community\, and hosted by First Church of Christ\, Scientist\, Bellingham at the Bellingham Library at 2:00 PM. \nSharing examples of healing from his own life and professional practice of Christian Science\, Shepherd will explain why Christian Science is both Christian and scientific\, meaning that people can prove its effectiveness for themselves\, as fully described in the book Science and Health with Key to the Scriptures\, written by the founder of the Christian Science movement\, Mary Baker Eddy. \nShepherd will also touch on the life of Mary Baker Eddy\, who came to understand\, confirm\, and teach what she felt was original Christian healing. Eddy herself said she was especially inspired by Jesus’ demand\, “He that believes on me\, the works that I do will he do also; and greater works than these will he do\, because I go unto my Father” (found in the Gospel of John 14:12 in the Bible). \nAbout James Shepherd\nGod’s love is for everyone\, and a Christian Science lecture is a perfect setting to learn about God’s love and the healing that it brings. \nJames has seen the healing effects of God’s love since he was a youngster\, romping through the woods around his home with his three brothers. They had their share of scrapes and bruises which were quickly healed through prayer. On the rare occasions they felt sick\, they relied on Christian Science for quick healings. \nIn high school his family moved to a ranch where they had cattle\, horses\, sheep\, pigs\, chickens\, and turkeys. He graduated from college with a Bachelor’s degree in agriculture\, but realized that serving as a Christian Science healer was the best way he could serve others. He left the ranch and took up the full-time work of helping others find healing through prayer. Thirty years later\, he still loves this work as much as ever. \nOver the years\, James has enjoyed being active in many roles in his local Church of Christ\, Scientist\, and has worked at summer camps for Christian Scientists and their friends. He has also shared the message of Love’s transforming power in prison settings and youth detention centers. When his four children were little\, he coached their sports programs. He finds other ways to help his community\, such as by volunteering at a neighborhood church to help cook a free breakfast for those in need. \nJames loves spending time with his family and doing any outdoor activity. But his greatest joy will always be to find\, and to help others find\, a more tangible sense of God’s love for everyone and how that improves every aspect of our lives. \n  \nThis free talk is sponsored by\nFirst Church of Christ\, Scientist\, Bellingham\, WA.
URL:https://christiansciencewa.org/event/in-person-lecture-why-everyone-is-needed-4/
LOCATION:Bellingham Public Library\, 210 Central Avenue\, Bellingham\, WA\, United States
ATTACH;FMTTYPE=image/jpeg:https://christiansciencewa.org/wp-content/uploads/2024/11/FallLectures_v24-scaled.jpg
END:VEVENT
BEGIN:VEVENT
DTSTART;TZID=America/Los_Angeles:20240309T140000
DTEND;TZID=America/Los_Angeles:20240309T150000
DTSTAMP:20260421T030426
CREATED:20240105T230521Z
LAST-MODIFIED:20240205T025536Z
UID:10001101-1709992800-1709996400@christiansciencewa.org
SUMMARY:In-Person lecture: PRAYER AND WELL-BEING: A SPIRITUAL ADVENTURE
DESCRIPTION:Speaker: Nate Frederick. \n“Are prayer and healing for you?” asks Nate Frederick. “I mean\, if you have no experience with spirituality or religion\, or you’re not even sure what you think about God\, can you still pray and be healed? \n“Yes. Because prayer and healing are natural to us\, and I say this as one who didn’t even grow up in a religious household. But what I’ve discovered as I’ve studied Christian Science is that a willingness to shift perspectives\, to see things in a new\, more spiritual way\, has an effect–for anyone.” \nNate Frederick — a practitioner of Christian Science and international speaker — will present his talk\, Prayer and Well-Being: A Spiritual Adventure\, on Saturday\, March 9\, at 2 p.m.\, at the Bellingham Public Library\, 210 Central Avenue in Bellingham. \nNate talks about an inmate he once worked with. “As I shared the basics of Christian Science with him he said it all sounded great but he was just a bad person. He seemed pretty convinced that healing wasn’t for him. But as we talked about the fact that he wasn’t defined by his past\, but by God\, his source\, who is completely good\, I could tell his thought about himself was changing. \n“And then he wanted more. So he took a copy of the Bible and Mary Baker Eddy’s book\, Science and Health with Key to the Scriptures\, back to his cell and started to dive into these books. Six or seven weeks later\, I ran into him again and he told me that he’d been healed of a serious illness–just from studying the Bible and Science and Health. His study helped him grasp God and his life in a new way and his disease was cured. \n“In my lecture\, I’ll share more about the fundamentals of effective prayer\, as I’ve learned from studying Christian Science\, as well as how healing is truly possible for everyone.” \nAbout Nate Frederick \nExperiencing first-hand the healing power of Love is Nate’s favorite thing.  It’s what makes him tick. \nNate studied religion and perennial philosophy at Hampshire College where he was introduced to Christian Science healing. Although he was enamored with the academic exploration of spirituality\, what he truly desired most was to practice spirituality in a tangible way — he wanted to experience God and heal others. \nAfter producing a documentary on miracles and traveling the world where he hiked extensively in the Himalayas\, Nate came to Boston in 2008 to work for his church\, The First Church of Christ\, Scientist. Since then\, he has served in many capacities\, including launching and producing your Daily Lift podcast. Nate also helped pioneer the online Sunday School at The Mother Church; helped launch a branch church in Jamaica Plain\, Massachusetts; worked as a counselor and wilderness trip leader for six years at a camp for Christian Scientists; has shared the Good News at jails\, rehab centers and interfaith-events. He’s also composed\, produced and performed a variety of spiritually inspired music. \nNate’s many hobbies include adventuring in the outdoors\, writing songs and cooking. But he says\, “Without comparison\, my greatest love\, my greatest joy— my purpose — is to transform lives and heal the sick through Christianly Scientific prayer.” \nThis deeper sense of purpose led Nate to become a full-time Christian Science practitioner\, who helps others find healing. In his lectures\, Nate enjoys sharing how\, in his eyes\, healing through prayer is life’s greatest adventure. \nTop photo by Jeffery Erhunse on Unsplash \n 
URL:https://christiansciencewa.org/event/in-person-lecture-prayer-and-well-being-a-spiritual-adventure/
LOCATION:Bellingham Public Library\, 210 Central Avenue\, Bellingham\, WA\, United States
ATTACH;FMTTYPE=image/jpeg:https://christiansciencewa.org/wp-content/uploads/2024/01/jeffery-erhunse-BQMZ5ligqps-unsplash.jpg
END:VEVENT
BEGIN:VEVENT
DTSTART;TZID=UTC:20230318T110000
DTEND;TZID=UTC:20230318T120000
DTSTAMP:20260421T030426
CREATED:20221130T044905Z
LAST-MODIFIED:20230215T183418Z
UID:10000008-1679137200-1679140800@christiansciencewa.org
SUMMARY:In-Person Lecture: Be Set Free
DESCRIPTION:Be Set Free\nA Free Christian Science Lecture by Nicole Virgil\nCircumstances often present what appear to be significant obstacles to living freely\, something that everyone wants to do. Whatever it is that seems to stand between us and the full range of motion that we would like to have in our lives – it’s not so much the presenting impediment that is the problem – it’s not knowing how or where to access our God-given liberty. \nTo live a life of liberty\, we have to find the nature and substance of liberty\, which is spiritual\, purposeful\, unburdened\, and given to all. To do that you have to know where to look\, to the source of liberty – God\, good itself\, all-inclusive. \nIn this talk\, we will examine liberty from a Biblical perspective; and see how real people today find their freedom from all kinds of physical\, emotional and circumstantial restrictions that are clearly beyond their control so that they may Be Set Free. \nLocation to be announced\n\nMore information: 360-733-6070\nchristiansciencebellingham.com\n\nSponsored by First Church of Christ\, Scientist\, Bellingham
URL:https://christiansciencewa.org/event/be-set-free-bellingham-wa-event/
LOCATION:First Church of Christ\, Scientist\, Bellingham
CATEGORIES:Free Public Talk,Web Event
ATTACH;FMTTYPE=image/jpeg:https://christiansciencewa.org/wp-content/uploads/2022/11/freedom-jump2.jpg
END:VEVENT
END:VCALENDAR