BEGIN:VCALENDAR
VERSION:2.0
PRODID:-//Christian Science in Washington State - ECPv6.15.20//NONSGML v1.0//EN
CALSCALE:GREGORIAN
METHOD:PUBLISH
X-WR-CALNAME:Christian Science in Washington State
X-ORIGINAL-URL:https://christiansciencewa.org
X-WR-CALDESC:Events for Christian Science in Washington State
REFRESH-INTERVAL;VALUE=DURATION:PT1H
X-Robots-Tag:noindex
X-PUBLISHED-TTL:PT1H
BEGIN:VTIMEZONE
TZID:America/Los_Angeles
BEGIN:DAYLIGHT
TZOFFSETFROM:-0800
TZOFFSETTO:-0700
TZNAME:PDT
DTSTART:20220313T100000
END:DAYLIGHT
BEGIN:STANDARD
TZOFFSETFROM:-0700
TZOFFSETTO:-0800
TZNAME:PST
DTSTART:20221106T090000
END:STANDARD
BEGIN:DAYLIGHT
TZOFFSETFROM:-0800
TZOFFSETTO:-0700
TZNAME:PDT
DTSTART:20230312T100000
END:DAYLIGHT
BEGIN:STANDARD
TZOFFSETFROM:-0700
TZOFFSETTO:-0800
TZNAME:PST
DTSTART:20231105T090000
END:STANDARD
BEGIN:DAYLIGHT
TZOFFSETFROM:-0800
TZOFFSETTO:-0700
TZNAME:PDT
DTSTART:20240310T100000
END:DAYLIGHT
BEGIN:STANDARD
TZOFFSETFROM:-0700
TZOFFSETTO:-0800
TZNAME:PST
DTSTART:20241103T090000
END:STANDARD
BEGIN:DAYLIGHT
TZOFFSETFROM:-0800
TZOFFSETTO:-0700
TZNAME:PDT
DTSTART:20250309T100000
END:DAYLIGHT
BEGIN:STANDARD
TZOFFSETFROM:-0700
TZOFFSETTO:-0800
TZNAME:PST
DTSTART:20251102T090000
END:STANDARD
BEGIN:DAYLIGHT
TZOFFSETFROM:-0800
TZOFFSETTO:-0700
TZNAME:PDT
DTSTART:20260308T100000
END:DAYLIGHT
BEGIN:STANDARD
TZOFFSETFROM:-0700
TZOFFSETTO:-0800
TZNAME:PST
DTSTART:20261101T090000
END:STANDARD
BEGIN:DAYLIGHT
TZOFFSETFROM:-0800
TZOFFSETTO:-0700
TZNAME:PDT
DTSTART:20270314T100000
END:DAYLIGHT
BEGIN:STANDARD
TZOFFSETFROM:-0700
TZOFFSETTO:-0800
TZNAME:PST
DTSTART:20271107T090000
END:STANDARD
END:VTIMEZONE
BEGIN:VEVENT
DTSTART;TZID=America/Los_Angeles:20260312T193000
DTEND;TZID=America/Los_Angeles:20260312T203000
DTSTAMP:20260421T114733
CREATED:20251226T232511Z
LAST-MODIFIED:20260325T022741Z
UID:10004250-1773343800-1773347400@christiansciencewa.org
SUMMARY:In-person lecture: Effective prayer: finding healing and wholeness in divine Love
DESCRIPTION:Effective prayer: finding healing and wholeness in divine Love \nListen to the replay HERE.\n—– \nA FREE Inspirational Talk\nby Bobby Lewis\nIn this lecture\, explore practical and transformative prayer\, as taught in Christian Science.\nThrough compelling personal stories\, Christian Science practitioner and lecturer Bobby Lewis illustrates how the spiritual laws of divine Love operate– and how prayer brings us into alignment with these laws. Whether you’re feeling lost or struggling with illness\, effective prayer can restore clarity\, peace and wholeness in every area of life. \nThis is an in-person lecture at 18301 10nd Ave NE\, Bothell\, WA. \nAbout Bobby Lewis\nBobby grew up in the mountains of Colorado in the US and has found inspiration in wild places all of his life. During some tough teen-age years\, his mother (a Christian Science Practitioner)\, helped him begin to see himself as spiritually whole and loved by God right in the midst of those challenges. It made all the difference and that dark time was left behind. \n\nThe care he received\, and those early lessons of the value of seeking spiritually and listening deeply to God\, set him on a trajectory of wanting to give back to others by supporting their growth. Over the years that took shape in work as a camp counselor\, experiential educator\, and chaplain for service organizations. \nAfter studying religion in college and graduate school with a focus on learning more about how to put the teachings of the Bible into day-to-day practice\, Bobby began work as a Christian Science practitioner\, reaching out to others with healing focused prayer. \nBeing “moved with compassion\,” as Christ Jesus modeled\, and connecting people with God’s healing love is at the heart of Bobby’s ministry and life. \nBobby still lives in Colorado with his family and animals on a little ranch along the river\, where he loves to write poetry\, walk\, listen\, and stand in awe of Spirit’s infinite creation. \n\nThis free talk is sponsored by\nFirst Church of Christ\, Scientist\, Bothell\, WA
URL:https://christiansciencewa.org/event/in-person-lecture-effective-prayer-finding-healing-and-wholeness-in-divine-love-bothell/
LOCATION:First Church of Christ\, Scientist\, Bothell\, 18301 102nd Ave NE\, Bothell\, 98011\, United States
ATTACH;FMTTYPE=image/jpeg:https://christiansciencewa.org/wp-content/uploads/2025/12/Spring26_v01-scaled.jpg
ORGANIZER;CN="First Church of Christ%2C Scientist%2C Bothell":MAILTO:bothellclerk@gmail.com
END:VEVENT
BEGIN:VEVENT
DTSTART;TZID=America/Los_Angeles:20250508T193000
DTEND;TZID=America/Los_Angeles:20250508T203000
DTSTAMP:20260421T114733
CREATED:20250323T100941Z
LAST-MODIFIED:20250323T100941Z
UID:10003256-1746732600-1746736200@christiansciencewa.org
SUMMARY:In-Person lecture: WHY EVERYONE IS NEEDED
DESCRIPTION:Why Everyone is Needed\nA FREE Inspirational Talk\nby James Shepherd\n“As we learn more about who we are–as God’s thoughtful\, loved creation–our self-worth\, purpose\, physical health\, and relationships are transformed.”\nSo says James Shepherd\, practitioner of Christian Science healing and international speaker. “I love exploring the nature of God\, infinite Love\, as the only cause\, and our unbreakable connection to God as God’s offspring\,” he continues. “This connection gives us our purpose and worth by seeing everyone from a more God-like\, or spiritual\, point of view. I’ve experienced how this has an impact on my life and on the lives of others.” Finding this new sense of our connection to God helps us bring healing to difficult world problems like political divisions and social inequality. Each one of us is connected to God. No one is left out. James’s lecture discusses what our purpose is\, where our worth comes from\, and shares examples of how seeing ourselves and others as God sees us gives us a spiritual perspective that heals ourselves and our world. \nJoin us for James’ talk\, “Why Everyone is Needed?” on Thursday May 8\, in Bothell\, WA. The talk is free\, open to the community\, and hosted by First Church of Christ\, Scientist\, Bothell at the Christian Science Church\, 18301 102nd Ave NE\nBothell\, WA\, at 7:30 PM. \nSharing examples of healing from his own life and professional practice of Christian Science\, Shepherd will explain why Christian Science is both Christian and scientific\, meaning that people can prove its effectiveness for themselves\, as fully described in the book Science and Health with Key to the Scriptures\, written by the founder of the Christian Science movement\, Mary Baker Eddy. \nShepherd will also touch on the life of Mary Baker Eddy\, who came to understand\, confirm\, and teach what she felt was original Christian healing. Eddy herself said she was especially inspired by Jesus’ demand\, “He that believes on me\, the works that I do will he do also; and greater works than these will he do\, because I go unto my Father” (found in the Gospel of John 14:12 in the Bible). \nAbout James Shepherd\nGod’s love is for everyone\, and a Christian Science lecture is a perfect setting to learn about God’s love and the healing that it brings. \nJames has seen the healing effects of God’s love since he was a youngster\, romping through the woods around his home with his three brothers. They had their share of scrapes and bruises which were quickly healed through prayer. On the rare occasions they felt sick\, they relied on Christian Science for quick healings. \nIn high school his family moved to a ranch where they had cattle\, horses\, sheep\, pigs\, chickens\, and turkeys. He graduated from college with a Bachelor’s degree in agriculture\, but realized that serving as a Christian Science healer was the best way he could serve others. He left the ranch and took up the full-time work of helping others find healing through prayer. Thirty years later\, he still loves this work as much as ever. \nOver the years\, James has enjoyed being active in many roles in his local Church of Christ\, Scientist\, and has worked at summer camps for Christian Scientists and their friends. He has also shared the message of Love’s transforming power in prison settings and youth detention centers. When his four children were little\, he coached their sports programs. He finds other ways to help his community\, such as by volunteering at a neighborhood church to help cook a free breakfast for those in need. \nJames loves spending time with his family and doing any outdoor activity. But his greatest joy will always be to find\, and to help others find\, a more tangible sense of God’s love for everyone and how that improves every aspect of our lives. \n  \nThis free talk is sponsored by\nFirst Church of Christ\, Scientist\, Bothell\, WA.
URL:https://christiansciencewa.org/event/in-person-lecture-why-everyone-is-needed-6/
LOCATION:First Church of Christ\, Scientist\, Bothell\, 18301 102nd Ave NE\, Bothell\, 98011\, United States
ATTACH;FMTTYPE=image/jpeg:https://christiansciencewa.org/wp-content/uploads/2025/03/Spring25_v0110-scaled.jpg
ORGANIZER;CN="First Church of Christ%2C Scientist%2C Bothell":MAILTO:bothellclerk@gmail.com
END:VEVENT
BEGIN:VEVENT
DTSTART;TZID=America/Los_Angeles:20231116T190000
DTEND;TZID=America/Los_Angeles:20231116T200000
DTSTAMP:20260421T114733
CREATED:20230916T232113Z
LAST-MODIFIED:20231022T025704Z
UID:10001091-1700161200-1700164800@christiansciencewa.org
SUMMARY:In-Person lecture: LEARNING TO LOVE YOUR ENEMIES
DESCRIPTION:Speaker: Giulia Nesi Tetreau. \nGiulia Nesi Tetreau\, practitioner of Christian Science healing and international speaker\, will present her talk\, “Learning to Love Your Enemies\,” on Nov. 16 at 7 p.m.\, at the Bothell Police Station. \nThe talk will focus on universal healing precepts found in the Holy Bible\, especially in Christ Jesus’ life and teachings\, showing how they are available for anyone to understand and experience through the lens of Christian Science. The talk is free\, open to the community\, and hosted by First Church of Christ\, Scientist\, Bothell. \n“Is someone in your life hard to love?” asks Ms. Tetreau. “Loving others\, including those who may feel like enemies\, can sometimes feel impossible. Christian Science proves that loving your enemy is not only possible\, it is natural. But what does it look like to lead with Love\, instead of hate? The study of this divine Science and answering Christ Jesus’ call to ‘love your enemies’ in your life replaces anger\, hurt\, and injustice with forgiveness\, freedom\, and peace.” \nSharing examples of healing from her own life and professional practice of Christian Science\, Ms. Tetreau will explain why Christian Science is both Christian and scientific\, meaning that people can prove its effectiveness for themselves\, as fully described in the book Science and Health with Key to the Scriptures\, written by the founder of the Christian Science movement\, Mary Baker Eddy. \nMs. Tetreau will also touch on the life of Mary Baker Eddy\, who came to understand\, confirm\, and teach what she felt was original Christian healing. Eddy herself said she was especially inspired by Jesus’ demand\, “He that believes on me\, the works that I do will he do also; and greater works than these will he do\, because I go unto my Father” (found in the Gospel of John 14:12 in the Bible). \nFor over 150 years\, people around the world have worked to follow Christ Jesus in this practice of Christianity and continue to do so today\, experiencing healings of physical ills and personal difficulties. \nGiulia Nesi Tetreau has been a Christian Science practitioner for many years\, helping people on a daily basis through this scientific approach to prayer. She travels from her home base in Fairfield\, Connecticut\, to speak to audiences around the world as a member of the Christian Science Board of Lectureship. \nPhoto at top by Artur Shamsutdinov on Unsplash.
URL:https://christiansciencewa.org/event/in-person-lecture-learning-to-love-your-enemies/
LOCATION:Bothell Police Station\, 18410 101st Ave NE\, Bothell\, WA\, United States
ATTACH;FMTTYPE=image/jpeg:https://christiansciencewa.org/wp-content/uploads/2023/09/artur-shamsutdinov-gxZ-v3_gKtI-unsplash.jpg
ORGANIZER;CN="First Church of Christ%2C Scientist%2C Bothell":MAILTO:bothellclerk@gmail.com
END:VEVENT
END:VCALENDAR