BEGIN:VCALENDAR
VERSION:2.0
PRODID:-//Christian Science in Washington State - ECPv6.15.20//NONSGML v1.0//EN
CALSCALE:GREGORIAN
METHOD:PUBLISH
X-WR-CALNAME:Christian Science in Washington State
X-ORIGINAL-URL:https://christiansciencewa.org
X-WR-CALDESC:Events for Christian Science in Washington State
REFRESH-INTERVAL;VALUE=DURATION:PT1H
X-Robots-Tag:noindex
X-PUBLISHED-TTL:PT1H
BEGIN:VTIMEZONE
TZID:America/Los_Angeles
BEGIN:DAYLIGHT
TZOFFSETFROM:-0800
TZOFFSETTO:-0700
TZNAME:PDT
DTSTART:20220313T100000
END:DAYLIGHT
BEGIN:STANDARD
TZOFFSETFROM:-0700
TZOFFSETTO:-0800
TZNAME:PST
DTSTART:20221106T090000
END:STANDARD
BEGIN:DAYLIGHT
TZOFFSETFROM:-0800
TZOFFSETTO:-0700
TZNAME:PDT
DTSTART:20230312T100000
END:DAYLIGHT
BEGIN:STANDARD
TZOFFSETFROM:-0700
TZOFFSETTO:-0800
TZNAME:PST
DTSTART:20231105T090000
END:STANDARD
BEGIN:DAYLIGHT
TZOFFSETFROM:-0800
TZOFFSETTO:-0700
TZNAME:PDT
DTSTART:20240310T100000
END:DAYLIGHT
BEGIN:STANDARD
TZOFFSETFROM:-0700
TZOFFSETTO:-0800
TZNAME:PST
DTSTART:20241103T090000
END:STANDARD
BEGIN:DAYLIGHT
TZOFFSETFROM:-0800
TZOFFSETTO:-0700
TZNAME:PDT
DTSTART:20250309T100000
END:DAYLIGHT
BEGIN:STANDARD
TZOFFSETFROM:-0700
TZOFFSETTO:-0800
TZNAME:PST
DTSTART:20251102T090000
END:STANDARD
BEGIN:DAYLIGHT
TZOFFSETFROM:-0800
TZOFFSETTO:-0700
TZNAME:PDT
DTSTART:20260308T100000
END:DAYLIGHT
BEGIN:STANDARD
TZOFFSETFROM:-0700
TZOFFSETTO:-0800
TZNAME:PST
DTSTART:20261101T090000
END:STANDARD
END:VTIMEZONE
BEGIN:VEVENT
DTSTART;TZID=America/Los_Angeles:20250622T143000
DTEND;TZID=America/Los_Angeles:20250622T153000
DTSTAMP:20260421T014448
CREATED:20250428T124752Z
LAST-MODIFIED:20250428T124752Z
UID:10003265-1750602600-1750606200@christiansciencewa.org
SUMMARY:In-Person lecture: HOW SPIRITUAL PERCEPTION BRINGS HEALING
DESCRIPTION:How Spiritual Perception Brings Healing\nA FREE Inspirational Talk\nby Alexandre Fischer\nHow can we move away from fear\, sickness\, and strife into something better?\nPrayer\, as it’s explained through the lens of Christian Science\, is a tool for bringing a different viewpoint\, and ultimately healing\, to any situation. Prayer is getting beyond surface level judgements to a deeper sense of God’s nature—all-good\, all-loving—defining all things. It helps us see how natural health\, wholeness and harmony are\, here and now\, in a way that not only benefits us\, our family\, our colleagues\, and our friends\, but also it benefits the world. \nAlexandre Fischer\, practitioner of Christian Science healing and international speakerdescribes a number of specific experiences as he walks his listeners through how this prayerful perception of God brings healing in our lives. \nJoin us for Alexandre’s talk\, “How Spiritual Perception Brings Healing” at 3:30PM on Sunday\, June 22\, in Vancouver\, WA. The talk is free\, open to the community\, and hosted by First Church of Christ\, Scientist\, Vancouver\, WA in their church building at 204 East Fourth Plain\, Vancouver\, WA. \nAbout Alexandre Fischer\n \nPracticing law in France and the United States for several years informed Alexandre’s practice of Christian Science. The law was not just his job\, he says\, it was his passion. To Alexandre\, being a good lawyer meant exercising the ability to think precisely and feeling a desire to help others get out of trouble. \nDuring his years as a lawyer\, his interest in Christian Science grew. At first\, he was impressed by its remarkable healings and resolutions\, but as he dug deeper\, he found a profound spirituality. He used to believe that religion and spirituality meant accepting a system of beliefs and letting go of discernment and critical thinking. But the more he studied and practiced this spirituality\, the more he found that one’s relationship with God requires critical thinking to understand spiritual concepts. These concepts can in turn be applied to one’s life to bring healing. \nGradually\, he gave up his law practice to become a full-time Christian Science practitioner. Alexandre still works to help others “get out of trouble\,” that is\, to overcome a sense of limitation and to find freedom. \nAlexandre discovered that Christian Science is not just about feeling better or fixing problems. It’s about being willing to challenge one’s world view as entirely molecule-based and soulless\, to be open to see the world as spiritually-based\, and experience how this change in perspective brings inner peace and healing. Christian Science helps us understand our relationship with God\, infinite good\, more clearly. Its teachings help us see Christ Jesus’ message in a non-dogmatic way\, bringing healing\, harmony and freedom to our life. \nThrough healing and lecturing\, Alexandre works to enable others to find this same freedom. \nThis free talk is sponsored by\nFirst Church of Christ\, Scientist\, Vancouver WA
URL:https://christiansciencewa.org/event/in-person-lecture-how-spiritual-perception-brings-healing-2/
LOCATION:First Church of Christ\, Scientist\, Vancouver\, 240 E. Fourth Plain Boulevard\, Vancouver\, WA\, United States
ATTACH;FMTTYPE=image/jpeg:https://christiansciencewa.org/wp-content/uploads/2025/04/Spring25_v0117-scaled.jpg
END:VEVENT
BEGIN:VEVENT
DTSTART;TZID=America/Los_Angeles:20230624T100000
DTEND;TZID=America/Los_Angeles:20230624T113000
DTSTAMP:20260421T014448
CREATED:20230307T232443Z
LAST-MODIFIED:20230307T232503Z
UID:10000016-1687600800-1687606200@christiansciencewa.org
SUMMARY:In-Person Lecture: Why Everyone Is Needed
DESCRIPTION:Why Everyone Is Needed\nA Free Christian Science Talk by James Shepherd\nOur unbreakable connection to God\, infinite Love\, gives us permanent worth and purpose.  It lifts us from dark times to healing and progress. \n\nLocation: Location to be announced\, Vancouver\, WA\nTime:  10:00 AM PST\nSponsored by First Church of Christ\, Scientist\, Vancouver\n\n 
URL:https://christiansciencewa.org/event/in-person-lecture-why-everyone-is-needed/
CATEGORIES:Free Public Talk
ATTACH;FMTTYPE=image/jpeg:https://christiansciencewa.org/wp-content/uploads/2022/11/all-hands-are-needed.jpg
END:VEVENT
END:VCALENDAR