BEGIN:VCALENDAR
VERSION:2.0
PRODID:-//Christian Science in Washington State - ECPv6.15.20//NONSGML v1.0//EN
CALSCALE:GREGORIAN
METHOD:PUBLISH
X-ORIGINAL-URL:https://christiansciencewa.org
X-WR-CALDESC:Events for Christian Science in Washington State
REFRESH-INTERVAL;VALUE=DURATION:PT1H
X-Robots-Tag:noindex
X-PUBLISHED-TTL:PT1H
BEGIN:VTIMEZONE
TZID:America/Los_Angeles
BEGIN:DAYLIGHT
TZOFFSETFROM:-0800
TZOFFSETTO:-0700
TZNAME:PDT
DTSTART:20240310T100000
END:DAYLIGHT
BEGIN:STANDARD
TZOFFSETFROM:-0700
TZOFFSETTO:-0800
TZNAME:PST
DTSTART:20241103T090000
END:STANDARD
BEGIN:DAYLIGHT
TZOFFSETFROM:-0800
TZOFFSETTO:-0700
TZNAME:PDT
DTSTART:20250309T100000
END:DAYLIGHT
BEGIN:STANDARD
TZOFFSETFROM:-0700
TZOFFSETTO:-0800
TZNAME:PST
DTSTART:20251102T090000
END:STANDARD
BEGIN:DAYLIGHT
TZOFFSETFROM:-0800
TZOFFSETTO:-0700
TZNAME:PDT
DTSTART:20260308T100000
END:DAYLIGHT
BEGIN:STANDARD
TZOFFSETFROM:-0700
TZOFFSETTO:-0800
TZNAME:PST
DTSTART:20261101T090000
END:STANDARD
END:VTIMEZONE
BEGIN:VEVENT
DTSTART;TZID=America/Los_Angeles:20250529T190000
DTEND;TZID=America/Los_Angeles:20250529T200000
DTSTAMP:20260421T080043
CREATED:20260313T193219Z
LAST-MODIFIED:20260313T193219Z
UID:10004261-1748545200-1748548800@christiansciencewa.org
SUMMARY:In-Person lecture: BE SET FREE
DESCRIPTION:Be Set Free\nA FREE Inspirational Talk\nby Nicole Virgil\nTo live a life of liberty\, we have to find the nature and substance of liberty\, which is spiritual\, purposeful\, unburdened\, and given to all. To do that you have to know where to look\, to the source of liberty — God\, good itself\, all-inclusive.\nCircumstances often present what appear to be significant obstacles to living freely\, something that everyone wants to do\, says Nicole Virgil. Whatever it is that seems to stand between us and the full range of motion that we would like to have in our lives — it’s not so much the presenting impediment that is the problem — it’s not knowing how or where to access our God-given liberty. \nJoin us for this free Christian Science talk with international speaker and Christian Science healer\, Nicole Virgil on Friday\, May 29\, at 7 p.m.\, at the Dungeness River Nature Center (1943 W. Hendrickson Rd.\, Sequim) The talk is free\, open to the community\, and hosted by First Church of Christ\, Scientist\, Sequim. \n“In this talk\,” says Nicole\, “we will examine liberty from a Biblical perspective; and see how real people today find their freedom from all kinds of physical\, emotional and circumstantial restrictions that seem clearly beyond their control so that they may Be Set Free.” \nAbout Nicole Virgil\n \nNicole’s father was a freelance church organist\, and her parents attended services at many different Christian churches in New England. Her mom had been on a years-long search to find out how to practice Christian healing just as Jesus did\, and when she started attending Christian Science church services\, she found what she was looking for. As a result\, Nicole was raised in Christian Science\, and developed a deep desire for an intimate relationship with God. \nNicole studied Christian Science with her mom and music with her dad\, and found that each discipline complemented the other. Christian Science healed performance anxiety\, while learning music honed the skills she needed for spiritual practice — skills such as intuition\, listening\, patience and diligence. \nThroughout her life\, Christian Science and music have always overlapped. After studying opera at music school\, she took her one-woman opera review program (That Can’t Be Opera!) on the road\, educating audiences about opera by singing Mozart\, Puccini and Menotti. \nChristian Science guided her through this entrepreneurial endeavor\, just as it led her to start soloing in churches as a teenager (which is something she still loves to do!). Nicole eventually married\, started a family with her husband\, and entered the public practice of Christian Science. \nToday Nicole enjoys raising children\, gardening\, soloing in church\, and witnessing the healing effect of Christian Science. \nThis free talk is sponsored by\nFirst Church of Christ\, Scientist\, Sequim\, WA
URL:https://christiansciencewa.org/event/in-person-lecture-be-set-free-4/
LOCATION:Dungeness River Nature Center\, 1943 W. Hendrickson Rd.\, Sequim\, 98382\, United States
ATTACH;FMTTYPE=image/jpeg:https://christiansciencewa.org/wp-content/uploads/2026/03/Spring26_v0111-scaled.jpg
ORGANIZER;CN="First Church of Christ%2C Scientist%2C Sequim":MAILTO:fccssq@gmail.com
END:VEVENT
END:VCALENDAR