BEGIN:VCALENDAR
VERSION:2.0
PRODID:-//Christian Science in Washington State - ECPv6.15.20//NONSGML v1.0//EN
CALSCALE:GREGORIAN
METHOD:PUBLISH
X-WR-CALNAME:Christian Science in Washington State
X-ORIGINAL-URL:https://christiansciencewa.org
X-WR-CALDESC:Events for Christian Science in Washington State
REFRESH-INTERVAL;VALUE=DURATION:PT1H
X-Robots-Tag:noindex
X-PUBLISHED-TTL:PT1H
BEGIN:VTIMEZONE
TZID:America/Los_Angeles
BEGIN:DAYLIGHT
TZOFFSETFROM:-0800
TZOFFSETTO:-0700
TZNAME:PDT
DTSTART:20230312T100000
END:DAYLIGHT
BEGIN:STANDARD
TZOFFSETFROM:-0700
TZOFFSETTO:-0800
TZNAME:PST
DTSTART:20231105T090000
END:STANDARD
BEGIN:DAYLIGHT
TZOFFSETFROM:-0800
TZOFFSETTO:-0700
TZNAME:PDT
DTSTART:20240310T100000
END:DAYLIGHT
BEGIN:STANDARD
TZOFFSETFROM:-0700
TZOFFSETTO:-0800
TZNAME:PST
DTSTART:20241103T090000
END:STANDARD
BEGIN:DAYLIGHT
TZOFFSETFROM:-0800
TZOFFSETTO:-0700
TZNAME:PDT
DTSTART:20250309T100000
END:DAYLIGHT
BEGIN:STANDARD
TZOFFSETFROM:-0700
TZOFFSETTO:-0800
TZNAME:PST
DTSTART:20251102T090000
END:STANDARD
BEGIN:DAYLIGHT
TZOFFSETFROM:-0800
TZOFFSETTO:-0700
TZNAME:PDT
DTSTART:20260308T100000
END:DAYLIGHT
BEGIN:STANDARD
TZOFFSETFROM:-0700
TZOFFSETTO:-0800
TZNAME:PST
DTSTART:20261101T090000
END:STANDARD
END:VTIMEZONE
BEGIN:VTIMEZONE
TZID:UTC
BEGIN:STANDARD
TZOFFSETFROM:+0000
TZOFFSETTO:+0000
TZNAME:UTC
DTSTART:20220101T000000
END:STANDARD
END:VTIMEZONE
BEGIN:VEVENT
DTSTART;TZID=America/Los_Angeles:20250223T140000
DTEND;TZID=America/Los_Angeles:20250223T150000
DTSTAMP:20260420T013756
CREATED:20250129T213556Z
LAST-MODIFIED:20250129T213556Z
UID:10003245-1740319200-1740322800@christiansciencewa.org
SUMMARY:In-Person lecture: FINDING WHERE GOD IS SEEN AND FELT — WHAT’S CHURCH GOT TO DO WITH IT?
DESCRIPTION:Finding where God is seen and felt — what’s church got to do with it?\nA FREE Inspirational Talk\nby Emra Farkas\n“A new kind of thinking is needed to recognize that God’s goodness and love are actually here and tangible to all humanity everywhere.”\nSo says Emra Farkas\, practitioner of Christian Science healing and international speaker. “The idea of ‘church’ can shift from being a physical building\, a set time on a particular day\, or an assembly of perfect humans (does that even exist??)\, to that of being what God builds in our lives every moment through us responding to Christ Jesus’ message of God’s all-powerful love.” \nJoin us for Emra’s talk\, “Finding where God is seen and felt — what’s church got to do with it?” at 2PM on Sunday\, Feb. 23\, in Aberdeen\, WA. The talk is free\, open to the community\, and hosted by First Church of Christ\, Scientist\, Aberdeen in their church located at 2201 Simpson Ave.  \nSharing examples of healing from her own life and professional practice of Christian Science\, Emra will explain why Christian Science is both Christian and scientific\, meaning that people can prove its effectiveness for themselves\, as fully described in the book Science and Health with Key to the Scriptures\, written by the founder of the Christian Science movement\, Mary Baker Eddy. \nEmra will also touch on the life of Mary Baker Eddy\, who came to understand\, confirm\, and teach what she felt was original Christian healing. Eddy herself said she was especially inspired by Jesus’ demand\, “He that believes on me\, the works that I do will he do also; and greater works than these will he do\, because I go unto my Father” (found in the Gospel of John 14:12 in the Bible). \nAbout Emra Farkas\nThe most important influences on Emra’s life were her mother\, who taught her to pray when confronted with difficulties\, and her Christian Science Sunday School. In her teens\, when a teacher asked her to speak to a social studies class about her religion\, she found the joy that comes from sharing what she understood and had experienced of Mary Baker Eddy’s discovery. She was asked back each year and was always moved by the way students who were skeptical about the subject became interested after hearing her accounts of spiritual healing–her healings of a severed thumb\, tonsilitis\, swimmer’s ear\, bullying\, and other difficulties. \nHowever\, during college and graduate school she drifted away from church. Her degrees were in Fine Arts and after school she worked for galleries and museums in New York City. Her interest in finding spiritual answers to life’s challenges was rekindled\, and she explored a variety of spiritual disciplines in search of answers. This hands-on study of comparative religion helped her understand the universality of the search for spiritual truth but left her with unanswered questions. \nShe and her husband moved to Taos\, New Mexico\, where she enjoyed a career in music performance and started a family. After some years of poor health\, a sudden spiritual insight led her back to Christian Science and an instantaneous healing of multiple chronic illnesses. This inspired a deeper study of Eddy’s writings which then led to returning to church\, taking Christian Science class instruction (a two-week intensive course of study) and shortly after\, becoming a full-time Christian Science practitioner.  She says there is nothing more satisfying than seeing divine Truth and Love transform lives and bring healing. She feels deeply blessed to practice and teach Christian Science\, contribute to the Christian Science periodicals\, serve her branch church\, and serve as a member of the Christian Science Board of Lectureship. \nThis free talk is sponsored by\nFirst Church of Christ\, Scientist\, Aberdeen\, WA.
URL:https://christiansciencewa.org/event/in-person-lecture-finding-where-god-is-seen-and-felt-whats-church-got-to-do-with-it-3/
LOCATION:First Church of Christ\, Scientist\, Aberdeen\, 2201 Simpson Ave\, Aberdeen\, WA\, United States
ATTACH;FMTTYPE=image/jpeg:https://christiansciencewa.org/wp-content/uploads/2025/01/Spring25_v012-scaled.jpg
END:VEVENT
BEGIN:VEVENT
DTSTART;TZID=America/Los_Angeles:20240505T130000
DTEND;TZID=America/Los_Angeles:20240505T140000
DTSTAMP:20260420T013756
CREATED:20240220T192603Z
LAST-MODIFIED:20240406T030542Z
UID:10001112-1714914000-1714917600@christiansciencewa.org
SUMMARY:In-Person lecture: MOVING PAST FEAR - TO HEALING
DESCRIPTION:Speaker: Lisa Troseth. \nLisa Troseth\, practitioner of Christian Science healing and international speaker\, will present her talk\, “Moving past fear – to healing\,” on May 5 at 1 p.m.\, at First Church of Christ\, Scientist\, Aberdeen\, at 2201 Simpson Ave\, Aberdeen\, WA. \nThe talk will focus on universal healing precepts found in the Holy Bible\, especially in Christ Jesus’ life and teachings\, showing how they are available for anyone to understand and experience through the lens of Christian Science. The talk is free\, open to the community\, and sponsored by First Church of Christ\, Scientist\, Aberdeen\, WA. \n“Fear can be overcome and even healed in our lives by discovering the strong connection and relationship we have to something bigger than ourselves—God\,” says Lisa. “By learning to lean and rely on this greater\, higher good\, we can feel moved to love beyond ourselves—and this frees us from fear and so much more.” \nSharing examples of healing from her own life and professional practice of Christian Science\, Lisa will explain why Christian Science is both Christian and scientific\, meaning that people can prove its effectiveness for themselves\, as fully described in the book Science and Health with Key to the Scriptures\, written by the founder of the Christian Science movement\, Mary Baker Eddy. \nLisa will also touch on the life of Mary Baker Eddy\, who came to understand\, confirm\, and teach what she felt was original Christian healing. Eddy herself said she was especially inspired by Jesus’ demand\, “He that believes on me\, the works that I do will he do also; and greater works than these will he do\, because I go unto my Father” (found in the Gospel of John 14:12 in the Bible). \nFor over 150 years\, people around the world have worked to follow Christ Jesus in this practice of Christianity and continue to do so today\, experiencing healings of physical ills and personal difficulties. \nAbout Lisa Troseth \n\n“What should I do with my life?” Lisa often wondered during her early twenties. She wasn’t sure where she was headed\, but she was praying to be of service to humanity. That’s when it occurred to her: If we’re motivated by love in whatever we’re doing\, even if our efforts seem small on the surface\, then we’ll be living in accord with a power that genuinely makes a difference—the power of God\, which the Bible says is Love itself. \nAt the time\, she had begun to really open her heart to God and was learning from the study of Christian Science that the nature of our divine Creator is infinitely loving and we’re designed to express God’s love in beautiful and unique ways. It’s like each of us\, including our daily endeavors\, are made to be an artistic tapestry of divine Love. \nThis idea still inspires her each day to see and treat everyone she meets with love\, to acknowledge their God-derived value\, beauty\, and uniqueness. Christian Science has shown Lisa how letting a truer sense of God’s all-defining love govern how we interact and genuinely care for each other actually leads the way to useful ideas and purposeful action\, and improves society as a whole. Since her twenties\, Lisa has seen how these views have led her and others in a variety of fruitful endeavors that bring genuine healing where it’s needed most. \nAlong the way\, Lisa has worked with educational non-profits\, contributed to community art events\, participated in interfaith programs\, and served as a Christian Science nurse. She is now in the full-time healing ministry as a Christian Science practitioner\, teacher\, and lecturer.
URL:https://christiansciencewa.org/event/in-person-lecture-moving-past-fear-to-healing-5/
LOCATION:First Church of Christ\, Scientist\, Aberdeen\, 2201 Simpson Ave\, Aberdeen\, WA\, United States
ATTACH;FMTTYPE=image/jpeg:https://christiansciencewa.org/wp-content/uploads/2023/09/bridge-907770_1280.jpg
END:VEVENT
BEGIN:VEVENT
DTSTART;TZID=UTC:20230422T110000
DTEND;TZID=UTC:20230422T120000
DTSTAMP:20260420T013756
CREATED:20230213T203822Z
LAST-MODIFIED:20230213T203822Z
UID:10000012-1682161200-1682164800@christiansciencewa.org
SUMMARY:In-Person Lecture: Why Everyone Is Needed
DESCRIPTION:Why Everyone Is Needed\nA Free Christian Science Talk by James Shepherd\nOur unbreakable connection to God\, infinite Love\, gives us permanent worth and purpose.  It lifts us from dark times to healing and progress. \n\nLocation: 2201 Simpson Ave\, Aberdeen\, Washington\nTime:  11:00 AM\nSponsored by First Church of Christ\, Scientist\, Aberdeen\n\n 
URL:https://christiansciencewa.org/event/why-everyone-is-needed-aberdeen/
LOCATION:First Church of Christ\, Scientist\, Aberdeen\, 2201 Simpson Ave\, Aberdeen\, WA\, United States
CATEGORIES:Free Public Talk
ATTACH;FMTTYPE=image/jpeg:https://christiansciencewa.org/wp-content/uploads/2022/11/all-hands-are-needed.jpg
END:VEVENT
END:VCALENDAR