BEGIN:VCALENDAR
VERSION:2.0
PRODID:-//Christian Science in Washington State - ECPv6.15.20//NONSGML v1.0//EN
CALSCALE:GREGORIAN
METHOD:PUBLISH
X-ORIGINAL-URL:https://christiansciencewa.org
X-WR-CALDESC:Events for Christian Science in Washington State
REFRESH-INTERVAL;VALUE=DURATION:PT1H
X-Robots-Tag:noindex
X-PUBLISHED-TTL:PT1H
BEGIN:VTIMEZONE
TZID:UTC
BEGIN:STANDARD
TZOFFSETFROM:+0000
TZOFFSETTO:+0000
TZNAME:UTC
DTSTART:20220101T000000
END:STANDARD
END:VTIMEZONE
BEGIN:VEVENT
DTSTART;TZID=UTC:20230425T190000
DTEND;TZID=UTC:20230425T200000
DTSTAMP:20260422T223012
CREATED:20230215T183129Z
LAST-MODIFIED:20230414T164710Z
UID:10000015-1682449200-1682452800@christiansciencewa.org
SUMMARY:In-Person Lecture: How to Make Change for the Better
DESCRIPTION:How to Make Change for the Better\nA free Christian Science Lecture by Janet Hegarty\nI may not be an architect\, but I know the value of a strong foundation. My life improved when I began building on new views of myself and my identity\, which sprang from a better concept of God than I’d had before. This better concept of God brought healing changes to my life in a way that was deep and lasting. \nBuilding this new foundation began when my mother-in-law introduced me to Christian Science. As I explored the ideas in the Bible and the Christian Science textbook\, Science and Health with Key to the Scriptures by Mary Baker Eddy\, I began to get a very different view of God. Never before had I encountered the idea that God is not merely sometimes good or just a little bit good\, but all good\, only good\, always. To think of God as pure goodness\, and to discover that this same all-good God was the source of what I am and what everyone is without exception\, was\, to me\, a new and life-changing way to think about existence. \nThese new ideas showed me the power of God\, divine goodness\, at work in all of our lives–providing solutions to challenges such as sickness\, dishonesty\, and career setbacks\, which often seem like they can shake our foundation and connection to what’s good. This had a practical effect in my own life\, bringing a quick healing of a long-standing food allergy. And\, as time has gone on\, this foundational understanding of God as pure good has transformed my life in many ways\, including the healing of a serious illness and the restoration of my career. \nI invite you to join me in discovering how you can establish your own strong foundation and experience the life-changing effects of building on this solid basis for yourself and the world. \nLocation: First Church of Christ\, Scientist\, Pasco\nMore information: https://christiansciencetricities.org\nSponsored by First Church of Christ\, Scientist\, Pasco
URL:https://christiansciencewa.org/event/in-person-lecture-how-to-make-change-for-the-better/
LOCATION:First Church of Christ\, Scientist\, Pasco\, 5304 Burden Blvd\, Pasco\, WA\, United States
CATEGORIES:Free Public Talk
ATTACH;FMTTYPE=image/jpeg:https://christiansciencewa.org/wp-content/uploads/2022/10/giving-flowers-1.jpg
END:VEVENT
END:VCALENDAR