BEGIN:VCALENDAR
VERSION:2.0
PRODID:-//Christian Science in Washington State - ECPv6.15.20//NONSGML v1.0//EN
CALSCALE:GREGORIAN
METHOD:PUBLISH
X-ORIGINAL-URL:https://christiansciencewa.org
X-WR-CALDESC:Events for Christian Science in Washington State
REFRESH-INTERVAL;VALUE=DURATION:PT1H
X-Robots-Tag:noindex
X-PUBLISHED-TTL:PT1H
BEGIN:VTIMEZONE
TZID:America/Los_Angeles
BEGIN:DAYLIGHT
TZOFFSETFROM:-0800
TZOFFSETTO:-0700
TZNAME:PDT
DTSTART:20230312T100000
END:DAYLIGHT
BEGIN:STANDARD
TZOFFSETFROM:-0700
TZOFFSETTO:-0800
TZNAME:PST
DTSTART:20231105T090000
END:STANDARD
BEGIN:DAYLIGHT
TZOFFSETFROM:-0800
TZOFFSETTO:-0700
TZNAME:PDT
DTSTART:20240310T100000
END:DAYLIGHT
BEGIN:STANDARD
TZOFFSETFROM:-0700
TZOFFSETTO:-0800
TZNAME:PST
DTSTART:20241103T090000
END:STANDARD
BEGIN:DAYLIGHT
TZOFFSETFROM:-0800
TZOFFSETTO:-0700
TZNAME:PDT
DTSTART:20250309T100000
END:DAYLIGHT
BEGIN:STANDARD
TZOFFSETFROM:-0700
TZOFFSETTO:-0800
TZNAME:PST
DTSTART:20251102T090000
END:STANDARD
END:VTIMEZONE
BEGIN:VEVENT
DTSTART;TZID=America/Los_Angeles:20240630T140000
DTEND;TZID=America/Los_Angeles:20240630T150000
DTSTAMP:20260421T113230
CREATED:20240412T011351Z
LAST-MODIFIED:20240507T232636Z
UID:10001123-1719756000-1719759600@christiansciencewa.org
SUMMARY:In-Person lecture: NEVER ALONE: HOW SPIRITUAL IDEAS WORK IN US
DESCRIPTION:A FREE Inspirational Talk\nby Melanie Wahlberg\n“Ideas directly from God companion us\, bless us\, heal us\, and feel like home. They transform and impel our lives forward.”\nJoin us for this free Christian Science Talk with international speaker and Christian Science healer\, Melanie Wahlberg\, on Sunday\, June 30\, at 2 p.m. at First Church of Christ\, Scientist\, 1405 Federal Way\, in Sunnyside\, WA.\nDuring this inspiring hour\, Melanie will discuss what she’s found helpful in Christian Science healing — that “God loves us deeply\, is an active presence of good in our lives\, and provides fresh ideas about our spiritual nature that wipe away fear and reveal inspired solutions.”\nThe talk will focus on universal healing precepts found in the Holy Bible\, especially in Christ Jesus’ life and teachings\, and show how they are available for anyone to understand and experience. The talk is free\, open to the community\, and is sponsored by First Church of Christ\, Scientist\, Sunnyside. \n“In the middle of difficult circumstances\, it would be so reassuring to feel supported in our efforts for progress\, instead of feeling alone. In this talk\,” says Melanie\, “I discuss what I’ve found helpful in my practice of Christian Science healing: that God loves us deeply\, is an active presence of good in our lives\, and provides fresh ideas about our spiritual nature that wipe away fear and reveal inspired solutions. And I’ll share how this approach has transformed lives\, including a mother and her infant daughter who each experienced healing. With ideas from God working on our behalf this way\, we discover that we’re never truly alone.” \nMelanie will discuss the approach to spirituality and well-being that explains these ideas\, Christian Science\, and share examples of healing from her own life and the lives of others. She will explain why Christian Science is both Christian and scientific\, meaning that anyone can prove its effectiveness for themselves. The practice is fully described in the book Science and Health with Key to the Scriptures\, written by the founder of the Christian Science movement\, Mary Baker Eddy. \n“Simple ideas\, about God’s nature and about our nature as expressions of God\, stir something new in our consciousness\,” adds Melanie. “They work in us in ways that change our lives and our health for the better.  But how do we find these healing ideas consistently?  We’ll look at the teachings of Christ Jesus\, our best and most practical example. And I’ll share how this approach has transformed lives\, including a mother and her infant daughter who each experienced healing. With ideas from God working on our behalf this way\, we discover that we’re never truly alone.” \nMelanie will also touch on the life of Mary Baker Eddy\, a mid-nineteenth century woman from New England\, and how she came to understand\, confirm\, and teach what she felt was original Christian healing. Eddy herself said she was especially inspired by Jesus’ demand\, “He that believes on me\, the works that I do will he do also; and greater works than these will he do\, because I go unto my Father” (found in the Gospel of John 14:12 in the Bible). \nAbout Melanie Wahlberg\nTwo influences that Melanie will never forget were the Christian Science Sunday School and a mom who turned to prayer and encouraged her to do the same. These influences showed her something of the reliability of God and spiritual inspiration\, and trusting this helped her find her way growing up. Significant healing experiences with relationship and food issues\, and violence in the community\, were also unforgettable. From this\, Melanie got an idea of the many ways that Christian Science can transform lives. \nAfter finishing a doctorate in mathematics\, Melanie became a college professor and truly enjoyed teaching. She found that teaching was less about telling students something than facilitating the students’ discoveries of new concepts. There was nothing better than witnessing a reluctant student realize that a previously mystifying concept was actually within reach to anyone. \nBut the higher promise of Christian Science beckoned her to help people redeem and uplift their lives in a fuller way. When students came to her office for help with calculus\, Melanie and her students often found themselves talking about the joy and excitement of growing spirituality. After just two years at the college\, Melanie resigned from her position and began accepting calls as a Christian Science practitioner. She wrote articles for the Christian Science periodicals\, was a frequent guest on Sentinel radio\, and began advertising her practice in The Christian Science Journal in 2004. She and her husband also started a family. \nMelanie loves working from her home office in the Los Angeles area. She likes to see lives transformed by the healing ideas of Christian Science\, where we ourselves are helped and\, at the same time\, find we can help others. Her life as a mom has a lot of the same focus. And whether the spiritual ideas apply to health issues\, school\, social lives\, or sports\, her three kids push her to “keep it real.” \nThis free talk is sponsored by First Church of Christ\, Scientist\, Sunnyside\, WA.\nTop photo by Christelle Hayek on Unsplash
URL:https://christiansciencewa.org/event/in-person-lecture-never-alone-how-spiritual-ideas-work-in-us-2/
LOCATION:First Church of Christ\, Scientist\, Sunnyside\, 1405 Federal Way\, Sunnyside\, WA\, United States
CATEGORIES:Web Event
ATTACH;FMTTYPE=image/jpeg:https://christiansciencewa.org/wp-content/uploads/2024/03/christelle-hayek-rTQ8NWxpN1M-unsplash-2-1.jpg
END:VEVENT
END:VCALENDAR