BEGIN:VCALENDAR
VERSION:2.0
PRODID:-//Christian Science in Washington State - ECPv6.15.20//NONSGML v1.0//EN
CALSCALE:GREGORIAN
METHOD:PUBLISH
X-WR-CALNAME:Christian Science in Washington State
X-ORIGINAL-URL:https://christiansciencewa.org
X-WR-CALDESC:Events for Christian Science in Washington State
REFRESH-INTERVAL;VALUE=DURATION:PT1H
X-Robots-Tag:noindex
X-PUBLISHED-TTL:PT1H
BEGIN:VTIMEZONE
TZID:America/Los_Angeles
BEGIN:DAYLIGHT
TZOFFSETFROM:-0800
TZOFFSETTO:-0700
TZNAME:PDT
DTSTART:20220313T100000
END:DAYLIGHT
BEGIN:STANDARD
TZOFFSETFROM:-0700
TZOFFSETTO:-0800
TZNAME:PST
DTSTART:20221106T090000
END:STANDARD
BEGIN:DAYLIGHT
TZOFFSETFROM:-0800
TZOFFSETTO:-0700
TZNAME:PDT
DTSTART:20230312T100000
END:DAYLIGHT
BEGIN:STANDARD
TZOFFSETFROM:-0700
TZOFFSETTO:-0800
TZNAME:PST
DTSTART:20231105T090000
END:STANDARD
BEGIN:DAYLIGHT
TZOFFSETFROM:-0800
TZOFFSETTO:-0700
TZNAME:PDT
DTSTART:20240310T100000
END:DAYLIGHT
BEGIN:STANDARD
TZOFFSETFROM:-0700
TZOFFSETTO:-0800
TZNAME:PST
DTSTART:20241103T090000
END:STANDARD
BEGIN:DAYLIGHT
TZOFFSETFROM:-0800
TZOFFSETTO:-0700
TZNAME:PDT
DTSTART:20250309T100000
END:DAYLIGHT
BEGIN:STANDARD
TZOFFSETFROM:-0700
TZOFFSETTO:-0800
TZNAME:PST
DTSTART:20251102T090000
END:STANDARD
END:VTIMEZONE
BEGIN:VEVENT
DTSTART;TZID=America/Los_Angeles:20241116T110000
DTEND;TZID=America/Los_Angeles:20241116T120000
DTSTAMP:20260421T014354
CREATED:20241007T122741Z
LAST-MODIFIED:20241107T062913Z
UID:10002444-1731754800-1731758400@christiansciencewa.org
SUMMARY:In-Person lecture: THE JOY OF BEGINNING WITH GOD
DESCRIPTION:The Joy of Beginning with God\nA FREE Inspirational Talk\nby Mark McCurties\nThe very first verse of the Bible in the chapter Genesis offers the most wonderful news: “In the beginning\, God created the heaven and the earth.” Part of what this glorious verse tells us is that in reality\, everything and everyone begins with God. In other words\, God is the only cause and the only creator\, and God is causing good and right developments for each one of us.\nMary Baker Eddy\, the woman who founded the Christian Science church\, knew that this subject of causation\, cause and effect\, might just be the most important discussion of our time. In fact\, she boldly stated that making progress in the world depends on understanding cause and effect in the right way. She wrote: “Spiritual causation is the one question to be considered\, for more than all others spiritual causation relates to human progress.” (Science and Health p. 170:22–24) \nTo that point\, perhaps you’ve noticed that the world is talking nonstop about causation right now. \nWhat causes disease? What causes inflation? What causes crime? What causes natural disasters? etc. However\, it’s helpful to note that these conversations are taking place from the point of view of physical causation\, physical or material causes and effects. \nIn this lecture\, I’m going to take a different approach. I’d like to talk about causation\, from a spiritual point of view. In other words\, what is God causing? What kind of effects does God’s causative power produce? The Bible promises that God is causing only good. So in this lecture\, I will explore how a better understanding of the good that God forever causes\, can help us to experience more of that goodness in the form of health\, peace\, and safety for our world. In the beginning\, from the beginning\, and without beginning\, God is causing good. As loved children of God\, we each have a divine right to feel the effect of that divine goodness in our daily lives. I invite you then\, to come learn more about the joy of beginning with God! \nAbout Mark McCurties\n \nEver since he was a little boy\, Mark had a deep love for the Bible. When he read about men and women in the Bible overcoming hatred\, famine\, war\, physical disease\, and other hardships\, their triumphs inspired him. It didn’t matter what the odds were\, or what conditions they faced\, individuals in the Bible seemed to flourish in adversity based on one common theme: their deep love for God. \nGrowing up in a Christian Science household\, there was another book that Mark loved to read daily: Science and Health with Key to the Scriptures written by Mary Baker Eddy. The very purpose of her book is to help unlock and reveal the deeper divine meaning and inspiration of the Bible. Together the Bible and Science and Health point to the practical healing and saving power of God and its present availability for all mankind. Mark knew that someday he wanted to share that healing message with the world. \nAs he grew into adulthood\, experiences in the field of education as a summer camp director\, outdoor educator\, athletics coach\, and resident counselor all helped to develop his understanding and practice of Christian Science. While working with young people\, Mark had multiple opportunities to witness God’s healing power. These examples proved to him that the healing power of the Christ is just as alive and relevant today as for the men and women of the Bible. In 2010\, with a desire to focus solely on healing through prayer\, Mark entered the full-time public practice of Christian Science. \nThis free talk is sponsored by\nSecond Church of Christ\, Scientist\, Bellevue\, WA.
URL:https://christiansciencewa.org/event/in-person-lecture-the-joy-of-beginning-with-god-4/
LOCATION:Second Church of Christ\, Scientist\, Bellevue\, 2251 140th Ave NE\, Bellevue\, WA\, United States
ATTACH;FMTTYPE=image/jpeg:https://christiansciencewa.org/wp-content/uploads/2024/10/FallLectures_v3-scaled.jpg
ORGANIZER;CN="Second Church of Christ%2C Scientist%2C Bellevue":MAILTO:clerk2ndbellevue@live.com
END:VEVENT
BEGIN:VEVENT
DTSTART;TZID=America/Los_Angeles:20231107T190000
DTEND;TZID=America/Los_Angeles:20231107T200000
DTSTAMP:20260421T014354
CREATED:20230916T225330Z
LAST-MODIFIED:20231020T031048Z
UID:10001089-1699383600-1699387200@christiansciencewa.org
SUMMARY:In-Person lecture: ANGRY NO MORE — FROM HURT TO HEALTH THROUGH FORGIVENESS
DESCRIPTION:Speaker: Michelle Nanouche. \nSpirituality and the practice of prayer isn’t a lifestyle choice for Michelle; it is basic to who she is. Her family was introduced to Christian Science through her dad’s healing of acute depression. She was exposed to the idea that God heals sickness from an early age. At twelve\, Michelle prayed to God to heal a foot wound. The quick healing fanned her interest in all things relating to God. In her last year of high school she took evening training to be a Christian Science nurse’s aide. Right after graduation\, she pursued training for the healing ministry of Christian Science nursing.Nine years as a Christian Science nurse provided her with loads of experience in healing through spiritual means. \nBy the time Michelle opened her first public office as a Christian Science practitioner in 1989\, she had witnessed a great number of healings through prayer. From personal experience\, she can share accounts of healings of broken bones\, tumors\, pneumonia\, eating disorders\, heart disease\, mental and emotional disorders\, financial difficulties and more. She has observed in the practice of Christian Science that following the example and teachings of Christ Jesus heals quickly and effectively. Mary Baker Eddy’s Science and Health with Key to the Scriptures unlocks the treasure trove of the Bible explaining the science of the Christ that heals.How does forgiveness help us go from feeling hurt to health\, happiness\, and peace? This Christian Science lecture with Michelle Nanouche explores how you can find healing for emotional\, mental and physical issues stemming from unhealed anger and divisiveness. \nFor those who have felt victimized\, trailed by a sad past\, or marked by abuse\, Michelle’s lecture offers insights that neutralize anger. The spiritual reasoning through prayer\, taught in Christian Science\, opens one’s natural ability for peace\, forgiveness\, restoration and progress. It addresses common questions about Christian Science and its practice: \n\nHow does Christian Science deal with evil and sin?\nWhat distinguishes Christian forgiveness\, as explained in Christian Science\, from ignoring or allowing evil to continue?\nIs Christian Science teaching on anger\, sin and forgiveness Bible-based?\nAre Old Testament scriptures helpful in practicing mercy and forgiveness?\nIs Christian Science treatment effective in healing emotional\, mental and behavioral difficulties stemming from abuse?\n\nThe life of Mary Baker Eddy is discussed in the context of the spiritual insight and healing that led to her becoming a world-renowned American religious reformer. It also gives examples of her Christian character and the influence of her faith in dealing with anger. \n\nPhoto of hug by Josue Escoto on Unsplash
URL:https://christiansciencewa.org/event/in-person-lecture-angry-no-more-from-hurt-to-health-through-forgiveness/
LOCATION:Second Church of Christ\, Scientist\, Bellevue\, 2251 140th Ave NE\, Bellevue\, WA\, United States
ATTACH;FMTTYPE=image/jpeg:https://christiansciencewa.org/wp-content/uploads/2023/09/josue-escoto-UkpYNiJyx8A-unsplash-1.jpg
ORGANIZER;CN="Second Church of Christ%2C Scientist%2C Bellevue":MAILTO:clerk2ndbellevue@live.com
END:VEVENT
END:VCALENDAR